{"text_format":"1","workbook":"xlsx","n_sheets":3,"sheets":["Correcties op staffel","kosten tabel 2016","Berekening BGK"],"not_rendered":{"charts":0,"images":0,"macros":0,"external_links":0,"defined_names":3,"comments":0,"pivot_tables":0},"unopened":[],"bounds":{"document_bytes":16777216,"sheet_cells":100000,"rows_first":2000,"rows_last":500,"rows_between":2000,"halvings":0,"cell_chars":16384,"cell_head_chars":4096},"cells_cut":0,"cells_raw":0,"read":"whole","date_system":"1900"}

{"sheet":"Correcties op staffel","index":0,"n_rows":10,"n_cols":3,"rows_kept":10,"cut":false,"hidden":true,"merged":[]}
[]
["Staffel 2016, 2017 en 2018"]
["Gebaseerd op staffel 2015, rekening houdend met onderstaande: "]
[]
["schadecategorie, vanaf …tot","Vermenigvuldigen met","plus"]
[0,-0.2,0]
[3000,-0.15,0]
[5000,0,-125]
[10000,0.1,-125]
[30000,0,0]

{"sheet":"kosten tabel 2016","index":1,"n_rows":10003,"n_cols":18,"rows_kept":4500,"cut":true,"hidden":false,"merged":[[0,1,0,2],[0,8,0,9],[0,12,0,13]],"bounds":{"rows_first":2000,"rows_last":500,"rows_between":2000,"halvings":0}}
["schadebedrag","Kosten volgens tabel 2015                        inclusief €225 (excl. BTW) in zaken >3000 <=50.000, daarna aflopend",null,"Hulpkolommen ter berekening",null,null,null,"schadebedrag","Kosten volgens tabel 2016                      inclusief €225 (excl. BTW) in zaken >3000 <=50.000, daarna aflopend",null,null,"schadebedrag","Kosten volgens tabel 2016                      inclusief €225 (excl. BTW) in zaken >3000 <=50.000, daarna aflopend, afgerond naar boven op 5 euro",null,null,"schadebedrag",999999]
[null,"Excl. BTW ","Incl. BTW 21%",null,null,"na aanpassing voorstellen dec 2015",{"$f":"82/(5800/100)","v":1.4137931034482758},null,"Excl. BTW","incl. BTW ",null,null,"Excl. BTW","incl. BTW ",null,null,"excl btw","incl btw"]
["euro",null,null,"multiplier","plus","BGK",null,"euro",null,null,null,"euro",null,null,null,"bgk",{"$f":"'Berekening BGK'!C9","v":"invoer onjuist"},{"$f":"'Berekening BGK'!C10","v":"invoer onjuist"}]
[100,600,726,{"$f":"VLOOKUP(A4,'Correcties op staffel'!$A$5:$C$10,2)","v":-0.2},{"$f":"VLOOKUP(A4,'Correcties op staffel'!$A$5:$C$10,3)","v":0},{"$f":"B4*(1+D4)+E4","v":480},null,100,{"$f":"ROUND(F4,0)","v":480},{"$f":"I4*1.21","v":580.79999999999995},null,100,{"$f":"IF(ROUND(I4/5,0)*5<I4,ROUND(I4/5,0)*5+5,ROUND(I4/5,0)*5)","v":480},{"$f":"M4*1.21","v":580.79999999999995}]
[{"$f":"A4+100","v":200},600,726,{"$f":"VLOOKUP(A5,'Correcties op staffel'!$A$5:$C$10,2)","v":-0.2},{"$f":"VLOOKUP(A5,'Correcties op staffel'!$A$5:$C$10,3)","v":0},480,null,{"$f":"H4+100","v":200},480,{"$f":"I5*1.21","v":580.79999999999995},null,200,{"$f":"IF(ROUND(I5/5,0)*5<I5,ROUND(I5/5,0)*5+5,ROUND(I5/5,0)*5)","v":480},{"$f":"M5*1.21","v":580.79999999999995}]
[{"$f":"A5+100","v":300},600,726,{"$f":"VLOOKUP(A6,'Correcties op staffel'!$A$5:$C$10,2)","v":-0.2},{"$f":"VLOOKUP(A6,'Correcties op staffel'!$A$5:$C$10,3)","v":0},480,null,{"$f":"H5+100","v":300},480,580.79999999999995,null,300,480,580.79999999999995]
[{"$f":"A6+100","v":400},600,726,{"$f":"VLOOKUP(A7,'Correcties op staffel'!$A$5:$C$10,2)","v":-0.2},{"$f":"VLOOKUP(A7,'Correcties op staffel'!$A$5:$C$10,3)","v":0},480,null,{"$f":"H6+100","v":400},480,580.79999999999995,null,400,480,580.79999999999995]
[{"$f":"A7+100","v":500},700,847,{"$f":"VLOOKUP(A8,'Correcties op staffel'!$A$5:$C$10,2)","v":-0.2},{"$f":"VLOOKUP(A8,'Correcties op staffel'!$A$5:$C$10,3)","v":0},560,null,{"$f":"H7+100","v":500},560,677.6,null,500,560,677.6]
[{"$f":"A8+100","v":600},800,968,{"$f":"VLOOKUP(A9,'Correcties op staffel'!$A$5:$C$10,2)","v":-0.2},{"$f":"VLOOKUP(A9,'Correcties op staffel'!$A$5:$C$10,3)","v":0},640,null,{"$f":"H8+100","v":600},640,774.4,null,600,640,774.4]
[{"$f":"A9+100","v":700},900,1089,{"$f":"VLOOKUP(A10,'Correcties op staffel'!$A$5:$C$10,2)","v":-0.2},{"$f":"VLOOKUP(A10,'Correcties op staffel'!$A$5:$C$10,3)","v":0},720,null,{"$f":"H9+100","v":700},720,871.19999999999993,null,700,720,871.19999999999993]
[800,900,1089,{"$f":"VLOOKUP(A11,'Correcties op staffel'!$A$5:$C$10,2)","v":-0.2},{"$f":"VLOOKUP(A11,'Correcties op staffel'!$A$5:$C$10,3)","v":0},720,null,800,720,871.19999999999993,null,800,720,871.19999999999993]
[900,1000,1210,{"$f":"VLOOKUP(A12,'Correcties op staffel'!$A$5:$C$10,2)","v":-0.2},{"$f":"VLOOKUP(A12,'Correcties op staffel'!$A$5:$C$10,3)","v":0},800,null,900,800,968,null,900,800,968]
[1000,1000,1210,{"$f":"VLOOKUP(A13,'Correcties op staffel'!$A$5:$C$10,2)","v":-0.2},{"$f":"VLOOKUP(A13,'Correcties op staffel'!$A$5:$C$10,3)","v":0},800,null,1000,800,968,null,1000,800,968]
[1100,1000,1210,{"$f":"VLOOKUP(A14,'Correcties op staffel'!$A$5:$C$10,2)","v":-0.2},{"$f":"VLOOKUP(A14,'Correcties op staffel'!$A$5:$C$10,3)","v":0},800,null,1100,800,968,null,1100,800,968]
[1200,1100,1331,{"$f":"VLOOKUP(A15,'Correcties op staffel'!$A$5:$C$10,2)","v":-0.2},{"$f":"VLOOKUP(A15,'Correcties op staffel'!$A$5:$C$10,3)","v":0},880,null,1200,880,1064.8,null,1200,880,1064.8]
[1300,1100,1331,{"$f":"VLOOKUP(A16,'Correcties op staffel'!$A$5:$C$10,2)","v":-0.2},{"$f":"VLOOKUP(A16,'Correcties op staffel'!$A$5:$C$10,3)","v":0},880,null,1300,880,1064.8,null,1300,880,1064.8]
[1400,1200,1452,{"$f":"VLOOKUP(A17,'Correcties op staffel'!$A$5:$C$10,2)","v":-0.2},{"$f":"VLOOKUP(A17,'Correcties op staffel'!$A$5:$C$10,3)","v":0},960,null,1400,960,1161.5999999999999,null,1400,960,1161.5999999999999]
[1500,1200,1452,{"$f":"VLOOKUP(A18,'Correcties op staffel'!$A$5:$C$10,2)","v":-0.2},{"$f":"VLOOKUP(A18,'Correcties op staffel'!$A$5:$C$10,3)","v":0},960,null,1500,960,1161.5999999999999,null,1500,960,1161.5999999999999]
[1600,1200,1452,{"$f":"VLOOKUP(A19,'Correcties op staffel'!$A$5:$C$10,2)","v":-0.2},{"$f":"VLOOKUP(A19,'Correcties op staffel'!$A$5:$C$10,3)","v":0},960,null,1600,960,1161.5999999999999,null,1600,960,1161.5999999999999]
[1700,1300,1573,{"$f":"VLOOKUP(A20,'Correcties op staffel'!$A$5:$C$10,2)","v":-0.2},{"$f":"VLOOKUP(A20,'Correcties op staffel'!$A$5:$C$10,3)","v":0},1040,null,1700,1040,1258.3999999999999,null,1700,1040,1258.3999999999999]
[1800,1300,1573,{"$f":"VLOOKUP(A21,'Correcties op staffel'!$A$5:$C$10,2)","v":-0.2},{"$f":"VLOOKUP(A21,'Correcties op staffel'!$A$5:$C$10,3)","v":0},1040,null,1800,1040,1258.3999999999999,null,1800,1040,1258.3999999999999]
[1900,1300,1573,{"$f":"VLOOKUP(A22,'Correcties op staffel'!$A$5:$C$10,2)","v":-0.2},{"$f":"VLOOKUP(A22,'Correcties op staffel'!$A$5:$C$10,3)","v":0},1040,null,1900,1040,1258.3999999999999,null,1900,1040,1258.3999999999999]
[2000,1400,1694,{"$f":"VLOOKUP(A23,'Correcties op staffel'!$A$5:$C$10,2)","v":-0.2},{"$f":"VLOOKUP(A23,'Correcties op staffel'!$A$5:$C$10,3)","v":0},1120,null,2000,1120,1355.2,null,2000,1120,1355.2]
[2100,1400,1694,{"$f":"VLOOKUP(A24,'Correcties op staffel'!$A$5:$C$10,2)","v":-0.2},{"$f":"VLOOKUP(A24,'Correcties op staffel'!$A$5:$C$10,3)","v":0},1120,null,2100,1120,1355.2,null,2100,1120,1355.2]
[2200,1400,1694,{"$f":"VLOOKUP(A25,'Correcties op staffel'!$A$5:$C$10,2)","v":-0.2},{"$f":"VLOOKUP(A25,'Correcties op staffel'!$A$5:$C$10,3)","v":0},1120,null,2200,1120,1355.2,null,2200,1120,1355.2]
[2300,1500,1815,{"$f":"VLOOKUP(A26,'Correcties op staffel'!$A$5:$C$10,2)","v":-0.2},{"$f":"VLOOKUP(A26,'Correcties op staffel'!$A$5:$C$10,3)","v":0},1200,null,2300,1200,1452,null,2300,1200,1452]
[2400,1500,1815,{"$f":"VLOOKUP(A27,'Correcties op staffel'!$A$5:$C$10,2)","v":-0.2},{"$f":"VLOOKUP(A27,'Correcties op staffel'!$A$5:$C$10,3)","v":0},1200,null,2400,1200,1452,null,2400,1200,1452]
[2500,1500,1815,{"$f":"VLOOKUP(A28,'Correcties op staffel'!$A$5:$C$10,2)","v":-0.2},{"$f":"VLOOKUP(A28,'Correcties op staffel'!$A$5:$C$10,3)","v":0},1200,null,2500,1200,1452,null,2500,1200,1452]
[2600,1600,1936,{"$f":"VLOOKUP(A29,'Correcties op staffel'!$A$5:$C$10,2)","v":-0.2},{"$f":"VLOOKUP(A29,'Correcties op staffel'!$A$5:$C$10,3)","v":0},1280,null,2600,1280,1548.8,null,2600,1280,1548.8]
[2700,1600,1936,{"$f":"VLOOKUP(A30,'Correcties op staffel'!$A$5:$C$10,2)","v":-0.2},{"$f":"VLOOKUP(A30,'Correcties op staffel'!$A$5:$C$10,3)","v":0},1280,null,2700,1280,1548.8,null,2700,1280,1548.8]
[2800,1600,1936,{"$f":"VLOOKUP(A31,'Correcties op staffel'!$A$5:$C$10,2)","v":-0.2},{"$f":"VLOOKUP(A31,'Correcties op staffel'!$A$5:$C$10,3)","v":0},1280,null,2800,1280,1548.8,null,2800,1280,1548.8]
[2900,1600,1936,{"$f":"VLOOKUP(A32,'Correcties op staffel'!$A$5:$C$10,2)","v":-0.2},{"$f":"VLOOKUP(A32,'Correcties op staffel'!$A$5:$C$10,3)","v":0},1280,null,2900,1280,1548.8,null,2900,1280,1548.8]
[3000,1700,2057,{"$f":"VLOOKUP(A33,'Correcties op staffel'!$A$5:$C$10,2)","v":-0.15},{"$f":"VLOOKUP(A33,'Correcties op staffel'!$A$5:$C$10,3)","v":0},1445,null,3000,1445,1748.45,null,3000,1445,1748.45]
[3100,1925,2329.25,{"$f":"VLOOKUP(A34,'Correcties op staffel'!$A$5:$C$10,2)","v":-0.15},{"$f":"VLOOKUP(A34,'Correcties op staffel'!$A$5:$C$10,3)","v":0},1636.25,null,3100,1636,1979.56,null,3100,1640,1984.3999999999999]
[3200,1925,2329.25,{"$f":"VLOOKUP(A35,'Correcties op staffel'!$A$5:$C$10,2)","v":-0.15},{"$f":"VLOOKUP(A35,'Correcties op staffel'!$A$5:$C$10,3)","v":0},1636.25,null,3200,1636,1979.56,null,3200,1640,1984.3999999999999]
[3300,1925,2329.25,{"$f":"VLOOKUP(A36,'Correcties op staffel'!$A$5:$C$10,2)","v":-0.15},{"$f":"VLOOKUP(A36,'Correcties op staffel'!$A$5:$C$10,3)","v":0},1636.25,null,3300,1636,1979.56,null,3300,1640,1984.3999999999999]
[3400,2025,2450.25,{"$f":"VLOOKUP(A37,'Correcties op staffel'!$A$5:$C$10,2)","v":-0.15},{"$f":"VLOOKUP(A37,'Correcties op staffel'!$A$5:$C$10,3)","v":0},1721.25,null,3400,1721,2082.41,null,3400,1725,2087.25]
[3500,2025,2450.25,{"$f":"VLOOKUP(A38,'Correcties op staffel'!$A$5:$C$10,2)","v":-0.15},{"$f":"VLOOKUP(A38,'Correcties op staffel'!$A$5:$C$10,3)","v":0},1721.25,null,3500,1721,2082.41,null,3500,1725,2087.25]
[3600,2025,2450.25,{"$f":"VLOOKUP(A39,'Correcties op staffel'!$A$5:$C$10,2)","v":-0.15},{"$f":"VLOOKUP(A39,'Correcties op staffel'!$A$5:$C$10,3)","v":0},1721.25,null,3600,1721,2082.41,null,3600,1725,2087.25]
[3700,2025,2450.25,{"$f":"VLOOKUP(A40,'Correcties op staffel'!$A$5:$C$10,2)","v":-0.15},{"$f":"VLOOKUP(A40,'Correcties op staffel'!$A$5:$C$10,3)","v":0},1721.25,null,3700,1721,2082.41,null,3700,1725,2087.25]
[3800,2125,2571.25,{"$f":"VLOOKUP(A41,'Correcties op staffel'!$A$5:$C$10,2)","v":-0.15},{"$f":"VLOOKUP(A41,'Correcties op staffel'!$A$5:$C$10,3)","v":0},1806.25,null,3800,1806,2185.2599999999998,null,3800,1810,2190.1]
[3900,2125,2571.25,{"$f":"VLOOKUP(A42,'Correcties op staffel'!$A$5:$C$10,2)","v":-0.15},{"$f":"VLOOKUP(A42,'Correcties op staffel'!$A$5:$C$10,3)","v":0},1806.25,null,3900,1806,2185.2599999999998,null,3900,1810,2190.1]
[4000,2125,2571.25,{"$f":"VLOOKUP(A43,'Correcties op staffel'!$A$5:$C$10,2)","v":-0.15},{"$f":"VLOOKUP(A43,'Correcties op staffel'!$A$5:$C$10,3)","v":0},1806.25,null,4000,1806,2185.2599999999998,null,4000,1810,2190.1]
[4100,2125,2571.25,{"$f":"VLOOKUP(A44,'Correcties op staffel'!$A$5:$C$10,2)","v":-0.15},{"$f":"VLOOKUP(A44,'Correcties op staffel'!$A$5:$C$10,3)","v":0},1806.25,null,4100,1806,2185.2599999999998,null,4100,1810,2190.1]
[4200,2225,2692.25,{"$f":"VLOOKUP(A45,'Correcties op staffel'!$A$5:$C$10,2)","v":-0.15},{"$f":"VLOOKUP(A45,'Correcties op staffel'!$A$5:$C$10,3)","v":0},1891.25,null,4200,1891,2288.11,null,4200,1895,2292.9499999999998]
[4300,2225,2692.25,{"$f":"VLOOKUP(A46,'Correcties op staffel'!$A$5:$C$10,2)","v":-0.15},{"$f":"VLOOKUP(A46,'Correcties op staffel'!$A$5:$C$10,3)","v":0},1891.25,null,4300,1891,2288.11,null,4300,1895,2292.9499999999998]
[4400,2225,2692.25,{"$f":"VLOOKUP(A47,'Correcties op staffel'!$A$5:$C$10,2)","v":-0.15},{"$f":"VLOOKUP(A47,'Correcties op staffel'!$A$5:$C$10,3)","v":0},1891.25,null,4400,1891,2288.11,null,4400,1895,2292.9499999999998]
[4500,2225,2692.25,{"$f":"VLOOKUP(A48,'Correcties op staffel'!$A$5:$C$10,2)","v":-0.15},{"$f":"VLOOKUP(A48,'Correcties op staffel'!$A$5:$C$10,3)","v":0},1891.25,null,4500,1891,2288.11,null,4500,1895,2292.9499999999998]
[4600,2225,2692.25,{"$f":"VLOOKUP(A49,'Correcties op staffel'!$A$5:$C$10,2)","v":-0.15},{"$f":"VLOOKUP(A49,'Correcties op staffel'!$A$5:$C$10,3)","v":0},1891.25,null,4600,1891,2288.11,null,4600,1895,2292.9499999999998]
[4700,2325,2813.25,{"$f":"VLOOKUP(A50,'Correcties op staffel'!$A$5:$C$10,2)","v":-0.15},{"$f":"VLOOKUP(A50,'Correcties op staffel'!$A$5:$C$10,3)","v":0},1976.25,null,4700,1976,2390.96,null,4700,1980,2395.7999999999997]
[4800,2325,2813.25,{"$f":"VLOOKUP(A51,'Correcties op staffel'!$A$5:$C$10,2)","v":-0.15},{"$f":"VLOOKUP(A51,'Correcties op staffel'!$A$5:$C$10,3)","v":0},1976.25,null,4800,1976,2390.96,null,4800,1980,2395.7999999999997]
[4900,2325,2813.25,{"$f":"VLOOKUP(A52,'Correcties op staffel'!$A$5:$C$10,2)","v":-0.15},{"$f":"VLOOKUP(A52,'Correcties op staffel'!$A$5:$C$10,3)","v":0},1976.25,null,4900,1976,2390.96,null,4900,1980,2395.7999999999997]
[5000,2325,2813.25,{"$f":"VLOOKUP(A53,'Correcties op staffel'!$A$5:$C$10,2)","v":0},{"$f":"VLOOKUP(A53,'Correcties op staffel'!$A$5:$C$10,3)","v":-125},2200,null,5000,2200,2662,null,5000,2200,2662]
[5100,2325,2813.25,{"$f":"VLOOKUP(A54,'Correcties op staffel'!$A$5:$C$10,2)","v":0},{"$f":"VLOOKUP(A54,'Correcties op staffel'!$A$5:$C$10,3)","v":-125},2200,null,5100,2200,2662,null,5100,2200,2662]
[5200,2425,2934.25,{"$f":"VLOOKUP(A55,'Correcties op staffel'!$A$5:$C$10,2)","v":0},{"$f":"VLOOKUP(A55,'Correcties op staffel'!$A$5:$C$10,3)","v":-125},2300,null,5200,2300,2783,null,5200,2300,2783]
[5300,2425,2934.25,{"$f":"VLOOKUP(A56,'Correcties op staffel'!$A$5:$C$10,2)","v":0},{"$f":"VLOOKUP(A56,'Correcties op staffel'!$A$5:$C$10,3)","v":-125},2300,null,5300,2300,2783,null,5300,2300,2783]
[5400,2425,2934.25,{"$f":"VLOOKUP(A57,'Correcties op staffel'!$A$5:$C$10,2)","v":0},{"$f":"VLOOKUP(A57,'Correcties op staffel'!$A$5:$C$10,3)","v":-125},2300,null,5400,2300,2783,null,5400,2300,2783]
[5500,2425,2934.25,{"$f":"VLOOKUP(A58,'Correcties op staffel'!$A$5:$C$10,2)","v":0},{"$f":"VLOOKUP(A58,'Correcties op staffel'!$A$5:$C$10,3)","v":-125},2300,null,5500,2300,2783,null,5500,2300,2783]
[5600,2425,2934.25,{"$f":"VLOOKUP(A59,'Correcties op staffel'!$A$5:$C$10,2)","v":0},{"$f":"VLOOKUP(A59,'Correcties op staffel'!$A$5:$C$10,3)","v":-125},2300,null,5600,2300,2783,null,5600,2300,2783]
[5700,2525,3055.25,{"$f":"VLOOKUP(A60,'Correcties op staffel'!$A$5:$C$10,2)","v":0},{"$f":"VLOOKUP(A60,'Correcties op staffel'!$A$5:$C$10,3)","v":-125},2400,null,5700,2400,2904,null,5700,2400,2904]
[5800,2525,3055.25,{"$f":"VLOOKUP(A61,'Correcties op staffel'!$A$5:$C$10,2)","v":0},{"$f":"VLOOKUP(A61,'Correcties op staffel'!$A$5:$C$10,3)","v":-125},2400,null,5800,2400,2904,null,5800,2400,2904]
[5900,2525,3055.25,{"$f":"VLOOKUP(A62,'Correcties op staffel'!$A$5:$C$10,2)","v":0},{"$f":"VLOOKUP(A62,'Correcties op staffel'!$A$5:$C$10,3)","v":-125},2400,null,5900,2400,2904,null,5900,2400,2904]
[6000,2525,3055.25,{"$f":"VLOOKUP(A63,'Correcties op staffel'!$A$5:$C$10,2)","v":0},{"$f":"VLOOKUP(A63,'Correcties op staffel'!$A$5:$C$10,3)","v":-125},2400,null,6000,2400,2904,null,6000,2400,2904]
[6100,2525,3055.25,{"$f":"VLOOKUP(A64,'Correcties op staffel'!$A$5:$C$10,2)","v":0},{"$f":"VLOOKUP(A64,'Correcties op staffel'!$A$5:$C$10,3)","v":-125},2400,null,6100,2400,2904,null,6100,2400,2904]
[6200,2625,3176.25,{"$f":"VLOOKUP(A65,'Correcties op staffel'!$A$5:$C$10,2)","v":0},{"$f":"VLOOKUP(A65,'Correcties op staffel'!$A$5:$C$10,3)","v":-125},2500,null,6200,2500,3025,null,6200,2500,3025]
[6300,2625,3176.25,{"$f":"VLOOKUP(A66,'Correcties op staffel'!$A$5:$C$10,2)","v":0},{"$f":"VLOOKUP(A66,'Correcties op staffel'!$A$5:$C$10,3)","v":-125},2500,null,6300,2500,3025,null,6300,2500,3025]
[6400,2625,3176.25,{"$f":"VLOOKUP(A67,'Correcties op staffel'!$A$5:$C$10,2)","v":0},{"$f":"VLOOKUP(A67,'Correcties op staffel'!$A$5:$C$10,3)","v":-125},2500,null,6400,2500,3025,null,6400,2500,3025]
[6500,2625,3176.25,{"$f":"VLOOKUP(A68,'Correcties op staffel'!$A$5:$C$10,2)","v":0},{"$f":"VLOOKUP(A68,'Correcties op staffel'!$A$5:$C$10,3)","v":-125},{"$f":"B68*(1+D68)+E68","v":2500},null,6500,{"$f":"ROUND(F68,0)","v":2500},3025,null,6500,2500,3025]
[6600,2625,3176.25,{"$f":"VLOOKUP(A69,'Correcties op staffel'!$A$5:$C$10,2)","v":0},{"$f":"VLOOKUP(A69,'Correcties op staffel'!$A$5:$C$10,3)","v":-125},2500,null,6600,2500,{"$f":"I69*1.21","v":3025},null,6600,{"$f":"IF(ROUND(I69/5,0)*5<I69,ROUND(I69/5,0)*5+5,ROUND(I69/5,0)*5)","v":2500},{"$f":"M69*1.21","v":3025}]
[6700,2625,3176.25,{"$f":"VLOOKUP(A70,'Correcties op staffel'!$A$5:$C$10,2)","v":0},{"$f":"VLOOKUP(A70,'Correcties op staffel'!$A$5:$C$10,3)","v":-125},2500,null,6700,2500,3025,null,6700,2500,3025]
[6800,2725,3297.25,{"$f":"VLOOKUP(A71,'Correcties op staffel'!$A$5:$C$10,2)","v":0},{"$f":"VLOOKUP(A71,'Correcties op staffel'!$A$5:$C$10,3)","v":-125},2600,null,6800,2600,3146,null,6800,2600,3146]
[6900,2725,3297.25,{"$f":"VLOOKUP(A72,'Correcties op staffel'!$A$5:$C$10,2)","v":0},{"$f":"VLOOKUP(A72,'Correcties op staffel'!$A$5:$C$10,3)","v":-125},2600,null,6900,2600,3146,null,6900,2600,3146]
[7000,2725,3297.25,{"$f":"VLOOKUP(A73,'Correcties op staffel'!$A$5:$C$10,2)","v":0},{"$f":"VLOOKUP(A73,'Correcties op staffel'!$A$5:$C$10,3)","v":-125},2600,null,7000,2600,3146,null,7000,2600,3146]
[{"$f":"A73+100","v":7100},2725,3297.25,{"$f":"VLOOKUP(A74,'Correcties op staffel'!$A$5:$C$10,2)","v":0},{"$f":"VLOOKUP(A74,'Correcties op staffel'!$A$5:$C$10,3)","v":-125},2600,null,{"$f":"H73+100","v":7100},2600,3146,null,7100,2600,3146]
[7200,2725,3297.25,{"$f":"VLOOKUP(A75,'Correcties op staffel'!$A$5:$C$10,2)","v":0},{"$f":"VLOOKUP(A75,'Correcties op staffel'!$A$5:$C$10,3)","v":-125},2600,null,7200,2600,3146,null,7200,2600,3146]
[7300,2825,3418.25,{"$f":"VLOOKUP(A76,'Correcties op staffel'!$A$5:$C$10,2)","v":0},{"$f":"VLOOKUP(A76,'Correcties op staffel'!$A$5:$C$10,3)","v":-125},2700,null,7300,2700,3267,null,7300,2700,3267]
[7400,2825,3418.25,{"$f":"VLOOKUP(A77,'Correcties op staffel'!$A$5:$C$10,2)","v":0},{"$f":"VLOOKUP(A77,'Correcties op staffel'!$A$5:$C$10,3)","v":-125},2700,null,7400,2700,3267,null,7400,2700,3267]
[7500,2825,3418.25,{"$f":"VLOOKUP(A78,'Correcties op staffel'!$A$5:$C$10,2)","v":0},{"$f":"VLOOKUP(A78,'Correcties op staffel'!$A$5:$C$10,3)","v":-125},2700,null,7500,2700,3267,null,7500,2700,3267]
[7600,2825,3418.25,{"$f":"VLOOKUP(A79,'Correcties op staffel'!$A$5:$C$10,2)","v":0},{"$f":"VLOOKUP(A79,'Correcties op staffel'!$A$5:$C$10,3)","v":-125},2700,null,7600,2700,3267,null,7600,2700,3267]
[7700,2825,3418.25,{"$f":"VLOOKUP(A80,'Correcties op staffel'!$A$5:$C$10,2)","v":0},{"$f":"VLOOKUP(A80,'Correcties op staffel'!$A$5:$C$10,3)","v":-125},2700,null,7700,2700,3267,null,7700,2700,3267]
[7800,2825,3418.25,{"$f":"VLOOKUP(A81,'Correcties op staffel'!$A$5:$C$10,2)","v":0},{"$f":"VLOOKUP(A81,'Correcties op staffel'!$A$5:$C$10,3)","v":-125},2700,null,7800,2700,3267,null,7800,2700,3267]
[7900,2925,3539.25,{"$f":"VLOOKUP(A82,'Correcties op staffel'!$A$5:$C$10,2)","v":0},{"$f":"VLOOKUP(A82,'Correcties op staffel'!$A$5:$C$10,3)","v":-125},2800,null,7900,2800,3388,null,7900,2800,3388]
[8000,2925,3539.25,{"$f":"VLOOKUP(A83,'Correcties op staffel'!$A$5:$C$10,2)","v":0},{"$f":"VLOOKUP(A83,'Correcties op staffel'!$A$5:$C$10,3)","v":-125},2800,null,8000,2800,3388,null,8000,2800,3388]
[8100,2925,3539.25,{"$f":"VLOOKUP(A84,'Correcties op staffel'!$A$5:$C$10,2)","v":0},{"$f":"VLOOKUP(A84,'Correcties op staffel'!$A$5:$C$10,3)","v":-125},2800,null,8100,2800,3388,null,8100,2800,3388]
[8200,2925,3539.25,{"$f":"VLOOKUP(A85,'Correcties op staffel'!$A$5:$C$10,2)","v":0},{"$f":"VLOOKUP(A85,'Correcties op staffel'!$A$5:$C$10,3)","v":-125},2800,null,8200,2800,3388,null,8200,2800,3388]
[8300,2925,3539.25,{"$f":"VLOOKUP(A86,'Correcties op staffel'!$A$5:$C$10,2)","v":0},{"$f":"VLOOKUP(A86,'Correcties op staffel'!$A$5:$C$10,3)","v":-125},2800,null,8300,2800,3388,null,8300,2800,3388]
[8400,2925,3539.25,{"$f":"VLOOKUP(A87,'Correcties op staffel'!$A$5:$C$10,2)","v":0},{"$f":"VLOOKUP(A87,'Correcties op staffel'!$A$5:$C$10,3)","v":-125},2800,null,8400,2800,3388,null,8400,2800,3388]
[8500,2925,3539.25,{"$f":"VLOOKUP(A88,'Correcties op staffel'!$A$5:$C$10,2)","v":0},{"$f":"VLOOKUP(A88,'Correcties op staffel'!$A$5:$C$10,3)","v":-125},2800,null,8500,2800,3388,null,8500,2800,3388]
[8600,3025,3660.25,{"$f":"VLOOKUP(A89,'Correcties op staffel'!$A$5:$C$10,2)","v":0},{"$f":"VLOOKUP(A89,'Correcties op staffel'!$A$5:$C$10,3)","v":-125},2900,null,8600,2900,3509,null,8600,2900,3509]
[8700,3025,3660.25,{"$f":"VLOOKUP(A90,'Correcties op staffel'!$A$5:$C$10,2)","v":0},{"$f":"VLOOKUP(A90,'Correcties op staffel'!$A$5:$C$10,3)","v":-125},2900,null,8700,2900,3509,null,8700,2900,3509]
[8800,3025,3660.25,{"$f":"VLOOKUP(A91,'Correcties op staffel'!$A$5:$C$10,2)","v":0},{"$f":"VLOOKUP(A91,'Correcties op staffel'!$A$5:$C$10,3)","v":-125},2900,null,8800,2900,3509,null,8800,2900,3509]
[8900,3025,3660.25,{"$f":"VLOOKUP(A92,'Correcties op staffel'!$A$5:$C$10,2)","v":0},{"$f":"VLOOKUP(A92,'Correcties op staffel'!$A$5:$C$10,3)","v":-125},2900,null,8900,2900,3509,null,8900,2900,3509]
[9000,3025,3660.25,{"$f":"VLOOKUP(A93,'Correcties op staffel'!$A$5:$C$10,2)","v":0},{"$f":"VLOOKUP(A93,'Correcties op staffel'!$A$5:$C$10,3)","v":-125},2900,null,9000,2900,3509,null,9000,2900,3509]
[9100,3025,3660.25,{"$f":"VLOOKUP(A94,'Correcties op staffel'!$A$5:$C$10,2)","v":0},{"$f":"VLOOKUP(A94,'Correcties op staffel'!$A$5:$C$10,3)","v":-125},2900,null,9100,2900,3509,null,9100,2900,3509]
[9200,3125,3781.25,{"$f":"VLOOKUP(A95,'Correcties op staffel'!$A$5:$C$10,2)","v":0},{"$f":"VLOOKUP(A95,'Correcties op staffel'!$A$5:$C$10,3)","v":-125},3000,null,9200,3000,3630,null,9200,3000,3630]
[9300,3125,3781.25,{"$f":"VLOOKUP(A96,'Correcties op staffel'!$A$5:$C$10,2)","v":0},{"$f":"VLOOKUP(A96,'Correcties op staffel'!$A$5:$C$10,3)","v":-125},3000,null,9300,3000,3630,null,9300,3000,3630]
[9400,3125,3781.25,{"$f":"VLOOKUP(A97,'Correcties op staffel'!$A$5:$C$10,2)","v":0},{"$f":"VLOOKUP(A97,'Correcties op staffel'!$A$5:$C$10,3)","v":-125},3000,null,9400,3000,3630,null,9400,3000,3630]
[9500,3125,3781.25,{"$f":"VLOOKUP(A98,'Correcties op staffel'!$A$5:$C$10,2)","v":0},{"$f":"VLOOKUP(A98,'Correcties op staffel'!$A$5:$C$10,3)","v":-125},3000,null,9500,3000,3630,null,9500,3000,3630]
[9600,3125,3781.25,{"$f":"VLOOKUP(A99,'Correcties op staffel'!$A$5:$C$10,2)","v":0},{"$f":"VLOOKUP(A99,'Correcties op staffel'!$A$5:$C$10,3)","v":-125},3000,null,9600,3000,3630,null,9600,3000,3630]
[9700,3125,3781.25,{"$f":"VLOOKUP(A100,'Correcties op staffel'!$A$5:$C$10,2)","v":0},{"$f":"VLOOKUP(A100,'Correcties op staffel'!$A$5:$C$10,3)","v":-125},3000,null,9700,3000,3630,null,9700,3000,3630]
[9800,3125,3781.25,{"$f":"VLOOKUP(A101,'Correcties op staffel'!$A$5:$C$10,2)","v":0},{"$f":"VLOOKUP(A101,'Correcties op staffel'!$A$5:$C$10,3)","v":-125},3000,null,9800,3000,3630,null,9800,3000,3630]
[9900,3225,3902.25,{"$f":"VLOOKUP(A102,'Correcties op staffel'!$A$5:$C$10,2)","v":0},{"$f":"VLOOKUP(A102,'Correcties op staffel'!$A$5:$C$10,3)","v":-125},3100,null,9900,3100,3751,null,9900,3100,3751]
[10000,3225,3902.25,{"$f":"VLOOKUP(A103,'Correcties op staffel'!$A$5:$C$10,2)","v":0.1},{"$f":"VLOOKUP(A103,'Correcties op staffel'!$A$5:$C$10,3)","v":-125},3422.5000000000005,null,10000,3423,4141.83,null,10000,3425,4144.25]
[10100,3225,3902.25,{"$f":"VLOOKUP(A104,'Correcties op staffel'!$A$5:$C$10,2)","v":0.1},{"$f":"VLOOKUP(A104,'Correcties op staffel'!$A$5:$C$10,3)","v":-125},3422.5000000000005,null,10100,3423,4141.83,null,10100,3425,4144.25]
[10200,3225,3902.25,{"$f":"VLOOKUP(A105,'Correcties op staffel'!$A$5:$C$10,2)","v":0.1},{"$f":"VLOOKUP(A105,'Correcties op staffel'!$A$5:$C$10,3)","v":-125},3422.5000000000005,null,10200,3423,4141.83,null,10200,3425,4144.25]
[10300,3225,3902.25,{"$f":"VLOOKUP(A106,'Correcties op staffel'!$A$5:$C$10,2)","v":0.1},{"$f":"VLOOKUP(A106,'Correcties op staffel'!$A$5:$C$10,3)","v":-125},3422.5000000000005,null,10300,3423,4141.83,null,10300,3425,4144.25]
[10400,3225,3902.25,{"$f":"VLOOKUP(A107,'Correcties op staffel'!$A$5:$C$10,2)","v":0.1},{"$f":"VLOOKUP(A107,'Correcties op staffel'!$A$5:$C$10,3)","v":-125},3422.5000000000005,null,10400,3423,4141.83,null,10400,3425,4144.25]
[10500,3225,3902.25,{"$f":"VLOOKUP(A108,'Correcties op staffel'!$A$5:$C$10,2)","v":0.1},{"$f":"VLOOKUP(A108,'Correcties op staffel'!$A$5:$C$10,3)","v":-125},3422.5000000000005,null,10500,3423,4141.83,null,10500,3425,4144.25]
[10600,3325,4023.25,{"$f":"VLOOKUP(A109,'Correcties op staffel'!$A$5:$C$10,2)","v":0.1},{"$f":"VLOOKUP(A109,'Correcties op staffel'!$A$5:$C$10,3)","v":-125},3532.5000000000005,null,10600,3533,4274.93,null,10600,3535,4277.3499999999995]
[10700,3325,4023.25,{"$f":"VLOOKUP(A110,'Correcties op staffel'!$A$5:$C$10,2)","v":0.1},{"$f":"VLOOKUP(A110,'Correcties op staffel'!$A$5:$C$10,3)","v":-125},3532.5000000000005,null,10700,3533,4274.93,null,10700,3535,4277.3499999999995]
[10800,3325,4023.25,{"$f":"VLOOKUP(A111,'Correcties op staffel'!$A$5:$C$10,2)","v":0.1},{"$f":"VLOOKUP(A111,'Correcties op staffel'!$A$5:$C$10,3)","v":-125},3532.5000000000005,null,10800,3533,4274.93,null,10800,3535,4277.3499999999995]
[10900,3325,4023.25,{"$f":"VLOOKUP(A112,'Correcties op staffel'!$A$5:$C$10,2)","v":0.1},{"$f":"VLOOKUP(A112,'Correcties op staffel'!$A$5:$C$10,3)","v":-125},3532.5000000000005,null,10900,3533,4274.93,null,10900,3535,4277.3499999999995]
[11000,3325,4023.25,{"$f":"VLOOKUP(A113,'Correcties op staffel'!$A$5:$C$10,2)","v":0.1},{"$f":"VLOOKUP(A113,'Correcties op staffel'!$A$5:$C$10,3)","v":-125},3532.5000000000005,null,11000,3533,4274.93,null,11000,3535,4277.3499999999995]
[11100,3325,4023.25,{"$f":"VLOOKUP(A114,'Correcties op staffel'!$A$5:$C$10,2)","v":0.1},{"$f":"VLOOKUP(A114,'Correcties op staffel'!$A$5:$C$10,3)","v":-125},3532.5000000000005,null,11100,3533,4274.93,null,11100,3535,4277.3499999999995]
[11200,3325,4023.25,{"$f":"VLOOKUP(A115,'Correcties op staffel'!$A$5:$C$10,2)","v":0.1},{"$f":"VLOOKUP(A115,'Correcties op staffel'!$A$5:$C$10,3)","v":-125},3532.5000000000005,null,11200,3533,4274.93,null,11200,3535,4277.3499999999995]
[11300,3425,4144.25,{"$f":"VLOOKUP(A116,'Correcties op staffel'!$A$5:$C$10,2)","v":0.1},{"$f":"VLOOKUP(A116,'Correcties op staffel'!$A$5:$C$10,3)","v":-125},3642.5000000000005,null,11300,3643,4408.03,null,11300,3645,4410.45]
[11400,3425,4144.25,{"$f":"VLOOKUP(A117,'Correcties op staffel'!$A$5:$C$10,2)","v":0.1},{"$f":"VLOOKUP(A117,'Correcties op staffel'!$A$5:$C$10,3)","v":-125},3642.5000000000005,null,11400,3643,4408.03,null,11400,3645,4410.45]
[11500,3425,4144.25,{"$f":"VLOOKUP(A118,'Correcties op staffel'!$A$5:$C$10,2)","v":0.1},{"$f":"VLOOKUP(A118,'Correcties op staffel'!$A$5:$C$10,3)","v":-125},3642.5000000000005,null,11500,3643,4408.03,null,11500,3645,4410.45]
[11600,3425,4144.25,{"$f":"VLOOKUP(A119,'Correcties op staffel'!$A$5:$C$10,2)","v":0.1},{"$f":"VLOOKUP(A119,'Correcties op staffel'!$A$5:$C$10,3)","v":-125},3642.5000000000005,null,11600,3643,4408.03,null,11600,3645,4410.45]
[11700,3425,4144.25,{"$f":"VLOOKUP(A120,'Correcties op staffel'!$A$5:$C$10,2)","v":0.1},{"$f":"VLOOKUP(A120,'Correcties op staffel'!$A$5:$C$10,3)","v":-125},3642.5000000000005,null,11700,3643,4408.03,null,11700,3645,4410.45]
[11800,3425,4144.25,{"$f":"VLOOKUP(A121,'Correcties op staffel'!$A$5:$C$10,2)","v":0.1},{"$f":"VLOOKUP(A121,'Correcties op staffel'!$A$5:$C$10,3)","v":-125},3642.5000000000005,null,11800,3643,4408.03,null,11800,3645,4410.45]
[11900,3425,4144.25,{"$f":"VLOOKUP(A122,'Correcties op staffel'!$A$5:$C$10,2)","v":0.1},{"$f":"VLOOKUP(A122,'Correcties op staffel'!$A$5:$C$10,3)","v":-125},3642.5000000000005,null,11900,3643,4408.03,null,11900,3645,4410.45]
[12000,3425,4144.25,{"$f":"VLOOKUP(A123,'Correcties op staffel'!$A$5:$C$10,2)","v":0.1},{"$f":"VLOOKUP(A123,'Correcties op staffel'!$A$5:$C$10,3)","v":-125},3642.5000000000005,null,12000,3643,4408.03,null,12000,3645,4410.45]
[12100,3525,4265.25,{"$f":"VLOOKUP(A124,'Correcties op staffel'!$A$5:$C$10,2)","v":0.1},{"$f":"VLOOKUP(A124,'Correcties op staffel'!$A$5:$C$10,3)","v":-125},3752.5000000000005,null,12100,3753,4541.13,null,12100,3755,4543.55]
[12200,3525,4265.25,{"$f":"VLOOKUP(A125,'Correcties op staffel'!$A$5:$C$10,2)","v":0.1},{"$f":"VLOOKUP(A125,'Correcties op staffel'!$A$5:$C$10,3)","v":-125},3752.5000000000005,null,12200,3753,4541.13,null,12200,3755,4543.55]
[12300,3525,4265.25,{"$f":"VLOOKUP(A126,'Correcties op staffel'!$A$5:$C$10,2)","v":0.1},{"$f":"VLOOKUP(A126,'Correcties op staffel'!$A$5:$C$10,3)","v":-125},3752.5000000000005,null,12300,3753,4541.13,null,12300,3755,4543.55]
[12400,3525,4265.25,{"$f":"VLOOKUP(A127,'Correcties op staffel'!$A$5:$C$10,2)","v":0.1},{"$f":"VLOOKUP(A127,'Correcties op staffel'!$A$5:$C$10,3)","v":-125},3752.5000000000005,null,12400,3753,4541.13,null,12400,3755,4543.55]
[12500,3525,4265.25,{"$f":"VLOOKUP(A128,'Correcties op staffel'!$A$5:$C$10,2)","v":0.1},{"$f":"VLOOKUP(A128,'Correcties op staffel'!$A$5:$C$10,3)","v":-125},3752.5000000000005,null,12500,3753,4541.13,null,12500,3755,4543.55]
[12600,3525,4265.25,{"$f":"VLOOKUP(A129,'Correcties op staffel'!$A$5:$C$10,2)","v":0.1},{"$f":"VLOOKUP(A129,'Correcties op staffel'!$A$5:$C$10,3)","v":-125},3752.5000000000005,null,12600,3753,4541.13,null,12600,3755,4543.55]
[12700,3525,4265.25,{"$f":"VLOOKUP(A130,'Correcties op staffel'!$A$5:$C$10,2)","v":0.1},{"$f":"VLOOKUP(A130,'Correcties op staffel'!$A$5:$C$10,3)","v":-125},3752.5000000000005,null,12700,3753,4541.13,null,12700,3755,4543.55]
[12800,3525,4265.25,{"$f":"VLOOKUP(A131,'Correcties op staffel'!$A$5:$C$10,2)","v":0.1},{"$f":"VLOOKUP(A131,'Correcties op staffel'!$A$5:$C$10,3)","v":-125},3752.5000000000005,null,12800,3753,4541.13,null,12800,3755,4543.55]
[12900,3625,4386.25,{"$f":"VLOOKUP(A132,'Correcties op staffel'!$A$5:$C$10,2)","v":0.1},{"$f":"VLOOKUP(A132,'Correcties op staffel'!$A$5:$C$10,3)","v":-125},{"$f":"B132*(1+D132)+E132","v":3862.5000000000005},null,12900,{"$f":"ROUND(F132,0)","v":3863},4674.2299999999996,null,12900,3865,4676.6499999999996]
[13000,3625,4386.25,{"$f":"VLOOKUP(A133,'Correcties op staffel'!$A$5:$C$10,2)","v":0.1},{"$f":"VLOOKUP(A133,'Correcties op staffel'!$A$5:$C$10,3)","v":-125},3862.5000000000005,null,13000,3863,{"$f":"I133*1.21","v":4674.2299999999996},null,13000,{"$f":"IF(ROUND(I133/5,0)*5<I133,ROUND(I133/5,0)*5+5,ROUND(I133/5,0)*5)","v":3865},{"$f":"M133*1.21","v":4676.6499999999996}]
[13100,3625,4386.25,{"$f":"VLOOKUP(A134,'Correcties op staffel'!$A$5:$C$10,2)","v":0.1},{"$f":"VLOOKUP(A134,'Correcties op staffel'!$A$5:$C$10,3)","v":-125},3862.5000000000005,null,13100,3863,4674.2299999999996,null,13100,3865,4676.6499999999996]
[13200,3625,4386.25,{"$f":"VLOOKUP(A135,'Correcties op staffel'!$A$5:$C$10,2)","v":0.1},{"$f":"VLOOKUP(A135,'Correcties op staffel'!$A$5:$C$10,3)","v":-125},3862.5000000000005,null,13200,3863,4674.2299999999996,null,13200,3865,4676.6499999999996]
[13300,3625,4386.25,{"$f":"VLOOKUP(A136,'Correcties op staffel'!$A$5:$C$10,2)","v":0.1},{"$f":"VLOOKUP(A136,'Correcties op staffel'!$A$5:$C$10,3)","v":-125},3862.5000000000005,null,13300,3863,4674.2299999999996,null,13300,3865,4676.6499999999996]
[13400,3625,4386.25,{"$f":"VLOOKUP(A137,'Correcties op staffel'!$A$5:$C$10,2)","v":0.1},{"$f":"VLOOKUP(A137,'Correcties op staffel'!$A$5:$C$10,3)","v":-125},3862.5000000000005,null,13400,3863,4674.2299999999996,null,13400,3865,4676.6499999999996]
[{"$f":"A137+100","v":13500},3625,4386.25,{"$f":"VLOOKUP(A138,'Correcties op staffel'!$A$5:$C$10,2)","v":0.1},{"$f":"VLOOKUP(A138,'Correcties op staffel'!$A$5:$C$10,3)","v":-125},3862.5000000000005,null,{"$f":"H137+100","v":13500},3863,4674.2299999999996,null,13500,3865,4676.6499999999996]
[13600,3625,4386.25,{"$f":"VLOOKUP(A139,'Correcties op staffel'!$A$5:$C$10,2)","v":0.1},{"$f":"VLOOKUP(A139,'Correcties op staffel'!$A$5:$C$10,3)","v":-125},3862.5000000000005,null,13600,3863,4674.2299999999996,null,13600,3865,4676.6499999999996]
[13700,3725,4507.25,{"$f":"VLOOKUP(A140,'Correcties op staffel'!$A$5:$C$10,2)","v":0.1},{"$f":"VLOOKUP(A140,'Correcties op staffel'!$A$5:$C$10,3)","v":-125},3972.5,null,13700,3973,4807.33,null,13700,3975,4809.75]
[13800,3725,4507.25,{"$f":"VLOOKUP(A141,'Correcties op staffel'!$A$5:$C$10,2)","v":0.1},{"$f":"VLOOKUP(A141,'Correcties op staffel'!$A$5:$C$10,3)","v":-125},3972.5,null,13800,3973,4807.33,null,13800,3975,4809.75]
[13900,3725,4507.25,{"$f":"VLOOKUP(A142,'Correcties op staffel'!$A$5:$C$10,2)","v":0.1},{"$f":"VLOOKUP(A142,'Correcties op staffel'!$A$5:$C$10,3)","v":-125},3972.5,null,13900,3973,4807.33,null,13900,3975,4809.75]
[14000,3725,4507.25,{"$f":"VLOOKUP(A143,'Correcties op staffel'!$A$5:$C$10,2)","v":0.1},{"$f":"VLOOKUP(A143,'Correcties op staffel'!$A$5:$C$10,3)","v":-125},3972.5,null,14000,3973,4807.33,null,14000,3975,4809.75]
[14100,3725,4507.25,{"$f":"VLOOKUP(A144,'Correcties op staffel'!$A$5:$C$10,2)","v":0.1},{"$f":"VLOOKUP(A144,'Correcties op staffel'!$A$5:$C$10,3)","v":-125},3972.5,null,14100,3973,4807.33,null,14100,3975,4809.75]
[14200,3725,4507.25,{"$f":"VLOOKUP(A145,'Correcties op staffel'!$A$5:$C$10,2)","v":0.1},{"$f":"VLOOKUP(A145,'Correcties op staffel'!$A$5:$C$10,3)","v":-125},3972.5,null,14200,3973,4807.33,null,14200,3975,4809.75]
[14300,3725,4507.25,{"$f":"VLOOKUP(A146,'Correcties op staffel'!$A$5:$C$10,2)","v":0.1},{"$f":"VLOOKUP(A146,'Correcties op staffel'!$A$5:$C$10,3)","v":-125},3972.5,null,14300,3973,4807.33,null,14300,3975,4809.75]
[14400,3725,4507.25,{"$f":"VLOOKUP(A147,'Correcties op staffel'!$A$5:$C$10,2)","v":0.1},{"$f":"VLOOKUP(A147,'Correcties op staffel'!$A$5:$C$10,3)","v":-125},3972.5,null,14400,3973,4807.33,null,14400,3975,4809.75]
[14500,3825,4628.25,{"$f":"VLOOKUP(A148,'Correcties op staffel'!$A$5:$C$10,2)","v":0.1},{"$f":"VLOOKUP(A148,'Correcties op staffel'!$A$5:$C$10,3)","v":-125},4082.5,null,14500,4083,4940.43,null,14500,4085,4942.8499999999995]
[14600,3825,4628.25,{"$f":"VLOOKUP(A149,'Correcties op staffel'!$A$5:$C$10,2)","v":0.1},{"$f":"VLOOKUP(A149,'Correcties op staffel'!$A$5:$C$10,3)","v":-125},4082.5,null,14600,4083,4940.43,null,14600,4085,4942.8499999999995]
[14700,3825,4628.25,{"$f":"VLOOKUP(A150,'Correcties op staffel'!$A$5:$C$10,2)","v":0.1},{"$f":"VLOOKUP(A150,'Correcties op staffel'!$A$5:$C$10,3)","v":-125},4082.5,null,14700,4083,4940.43,null,14700,4085,4942.8499999999995]
[14800,3825,4628.25,{"$f":"VLOOKUP(A151,'Correcties op staffel'!$A$5:$C$10,2)","v":0.1},{"$f":"VLOOKUP(A151,'Correcties op staffel'!$A$5:$C$10,3)","v":-125},4082.5,null,14800,4083,4940.43,null,14800,4085,4942.8499999999995]
[14900,3825,4628.25,{"$f":"VLOOKUP(A152,'Correcties op staffel'!$A$5:$C$10,2)","v":0.1},{"$f":"VLOOKUP(A152,'Correcties op staffel'!$A$5:$C$10,3)","v":-125},4082.5,null,14900,4083,4940.43,null,14900,4085,4942.8499999999995]
[15000,3825,4628.25,{"$f":"VLOOKUP(A153,'Correcties op staffel'!$A$5:$C$10,2)","v":0.1},{"$f":"VLOOKUP(A153,'Correcties op staffel'!$A$5:$C$10,3)","v":-125},4082.5,null,15000,4083,4940.43,null,15000,4085,4942.8499999999995]
[15100,3825,4628.25,{"$f":"VLOOKUP(A154,'Correcties op staffel'!$A$5:$C$10,2)","v":0.1},{"$f":"VLOOKUP(A154,'Correcties op staffel'!$A$5:$C$10,3)","v":-125},4082.5,null,15100,4083,4940.43,null,15100,4085,4942.8499999999995]
[15200,3825,4628.25,{"$f":"VLOOKUP(A155,'Correcties op staffel'!$A$5:$C$10,2)","v":0.1},{"$f":"VLOOKUP(A155,'Correcties op staffel'!$A$5:$C$10,3)","v":-125},4082.5,null,15200,4083,4940.43,null,15200,4085,4942.8499999999995]
[15300,3925,4749.25,{"$f":"VLOOKUP(A156,'Correcties op staffel'!$A$5:$C$10,2)","v":0.1},{"$f":"VLOOKUP(A156,'Correcties op staffel'!$A$5:$C$10,3)","v":-125},4192.5,null,15300,4193,5073.53,null,15300,4195,5075.95]
[15400,3925,4749.25,{"$f":"VLOOKUP(A157,'Correcties op staffel'!$A$5:$C$10,2)","v":0.1},{"$f":"VLOOKUP(A157,'Correcties op staffel'!$A$5:$C$10,3)","v":-125},4192.5,null,15400,4193,5073.53,null,15400,4195,5075.95]
[15500,3925,4749.25,{"$f":"VLOOKUP(A158,'Correcties op staffel'!$A$5:$C$10,2)","v":0.1},{"$f":"VLOOKUP(A158,'Correcties op staffel'!$A$5:$C$10,3)","v":-125},4192.5,null,15500,4193,5073.53,null,15500,4195,5075.95]
[15600,3925,4749.25,{"$f":"VLOOKUP(A159,'Correcties op staffel'!$A$5:$C$10,2)","v":0.1},{"$f":"VLOOKUP(A159,'Correcties op staffel'!$A$5:$C$10,3)","v":-125},4192.5,null,15600,4193,5073.53,null,15600,4195,5075.95]
[15700,3925,4749.25,{"$f":"VLOOKUP(A160,'Correcties op staffel'!$A$5:$C$10,2)","v":0.1},{"$f":"VLOOKUP(A160,'Correcties op staffel'!$A$5:$C$10,3)","v":-125},4192.5,null,15700,4193,5073.53,null,15700,4195,5075.95]
[15800,3925,4749.25,{"$f":"VLOOKUP(A161,'Correcties op staffel'!$A$5:$C$10,2)","v":0.1},{"$f":"VLOOKUP(A161,'Correcties op staffel'!$A$5:$C$10,3)","v":-125},4192.5,null,15800,4193,5073.53,null,15800,4195,5075.95]
[15900,3925,4749.25,{"$f":"VLOOKUP(A162,'Correcties op staffel'!$A$5:$C$10,2)","v":0.1},{"$f":"VLOOKUP(A162,'Correcties op staffel'!$A$5:$C$10,3)","v":-125},4192.5,null,15900,4193,5073.53,null,15900,4195,5075.95]
[16000,3925,4749.25,{"$f":"VLOOKUP(A163,'Correcties op staffel'!$A$5:$C$10,2)","v":0.1},{"$f":"VLOOKUP(A163,'Correcties op staffel'!$A$5:$C$10,3)","v":-125},4192.5,null,16000,4193,5073.53,null,16000,4195,5075.95]
[16100,3925,4749.25,{"$f":"VLOOKUP(A164,'Correcties op staffel'!$A$5:$C$10,2)","v":0.1},{"$f":"VLOOKUP(A164,'Correcties op staffel'!$A$5:$C$10,3)","v":-125},4192.5,null,16100,4193,5073.53,null,16100,4195,5075.95]
[16200,4025,4870.25,{"$f":"VLOOKUP(A165,'Correcties op staffel'!$A$5:$C$10,2)","v":0.1},{"$f":"VLOOKUP(A165,'Correcties op staffel'!$A$5:$C$10,3)","v":-125},4302.5,null,16200,4303,5206.63,null,16200,4305,5209.05]
[16300,4025,4870.25,{"$f":"VLOOKUP(A166,'Correcties op staffel'!$A$5:$C$10,2)","v":0.1},{"$f":"VLOOKUP(A166,'Correcties op staffel'!$A$5:$C$10,3)","v":-125},4302.5,null,16300,4303,5206.63,null,16300,4305,5209.05]
[16400,4025,4870.25,{"$f":"VLOOKUP(A167,'Correcties op staffel'!$A$5:$C$10,2)","v":0.1},{"$f":"VLOOKUP(A167,'Correcties op staffel'!$A$5:$C$10,3)","v":-125},4302.5,null,16400,4303,5206.63,null,16400,4305,5209.05]
[16500,4025,4870.25,{"$f":"VLOOKUP(A168,'Correcties op staffel'!$A$5:$C$10,2)","v":0.1},{"$f":"VLOOKUP(A168,'Correcties op staffel'!$A$5:$C$10,3)","v":-125},4302.5,null,16500,4303,5206.63,null,16500,4305,5209.05]
[16600,4025,4870.25,{"$f":"VLOOKUP(A169,'Correcties op staffel'!$A$5:$C$10,2)","v":0.1},{"$f":"VLOOKUP(A169,'Correcties op staffel'!$A$5:$C$10,3)","v":-125},4302.5,null,16600,4303,5206.63,null,16600,4305,5209.05]
[16700,4025,4870.25,{"$f":"VLOOKUP(A170,'Correcties op staffel'!$A$5:$C$10,2)","v":0.1},{"$f":"VLOOKUP(A170,'Correcties op staffel'!$A$5:$C$10,3)","v":-125},4302.5,null,16700,4303,5206.63,null,16700,4305,5209.05]
[16800,4025,4870.25,{"$f":"VLOOKUP(A171,'Correcties op staffel'!$A$5:$C$10,2)","v":0.1},{"$f":"VLOOKUP(A171,'Correcties op staffel'!$A$5:$C$10,3)","v":-125},4302.5,null,16800,4303,5206.63,null,16800,4305,5209.05]
[16900,4025,4870.25,{"$f":"VLOOKUP(A172,'Correcties op staffel'!$A$5:$C$10,2)","v":0.1},{"$f":"VLOOKUP(A172,'Correcties op staffel'!$A$5:$C$10,3)","v":-125},4302.5,null,16900,4303,5206.63,null,16900,4305,5209.05]
[17000,4025,4870.25,{"$f":"VLOOKUP(A173,'Correcties op staffel'!$A$5:$C$10,2)","v":0.1},{"$f":"VLOOKUP(A173,'Correcties op staffel'!$A$5:$C$10,3)","v":-125},4302.5,null,17000,4303,5206.63,null,17000,4305,5209.05]
[17100,4125,4991.25,{"$f":"VLOOKUP(A174,'Correcties op staffel'!$A$5:$C$10,2)","v":0.1},{"$f":"VLOOKUP(A174,'Correcties op staffel'!$A$5:$C$10,3)","v":-125},4412.5,null,17100,4413,5339.73,null,17100,4415,5342.15]
[17200,4125,4991.25,{"$f":"VLOOKUP(A175,'Correcties op staffel'!$A$5:$C$10,2)","v":0.1},{"$f":"VLOOKUP(A175,'Correcties op staffel'!$A$5:$C$10,3)","v":-125},4412.5,null,17200,4413,5339.73,null,17200,4415,5342.15]
[17300,4125,4991.25,{"$f":"VLOOKUP(A176,'Correcties op staffel'!$A$5:$C$10,2)","v":0.1},{"$f":"VLOOKUP(A176,'Correcties op staffel'!$A$5:$C$10,3)","v":-125},4412.5,null,17300,4413,5339.73,null,17300,4415,5342.15]
[17400,4125,4991.25,{"$f":"VLOOKUP(A177,'Correcties op staffel'!$A$5:$C$10,2)","v":0.1},{"$f":"VLOOKUP(A177,'Correcties op staffel'!$A$5:$C$10,3)","v":-125},4412.5,null,17400,4413,5339.73,null,17400,4415,5342.15]
[17500,4125,4991.25,{"$f":"VLOOKUP(A178,'Correcties op staffel'!$A$5:$C$10,2)","v":0.1},{"$f":"VLOOKUP(A178,'Correcties op staffel'!$A$5:$C$10,3)","v":-125},4412.5,null,17500,4413,5339.73,null,17500,4415,5342.15]
[17600,4125,4991.25,{"$f":"VLOOKUP(A179,'Correcties op staffel'!$A$5:$C$10,2)","v":0.1},{"$f":"VLOOKUP(A179,'Correcties op staffel'!$A$5:$C$10,3)","v":-125},4412.5,null,17600,4413,5339.73,null,17600,4415,5342.15]
[17700,4125,4991.25,{"$f":"VLOOKUP(A180,'Correcties op staffel'!$A$5:$C$10,2)","v":0.1},{"$f":"VLOOKUP(A180,'Correcties op staffel'!$A$5:$C$10,3)","v":-125},4412.5,null,17700,4413,5339.73,null,17700,4415,5342.15]
[17800,4125,4991.25,{"$f":"VLOOKUP(A181,'Correcties op staffel'!$A$5:$C$10,2)","v":0.1},{"$f":"VLOOKUP(A181,'Correcties op staffel'!$A$5:$C$10,3)","v":-125},4412.5,null,17800,4413,5339.73,null,17800,4415,5342.15]
[17900,4125,4991.25,{"$f":"VLOOKUP(A182,'Correcties op staffel'!$A$5:$C$10,2)","v":0.1},{"$f":"VLOOKUP(A182,'Correcties op staffel'!$A$5:$C$10,3)","v":-125},4412.5,null,17900,4413,5339.73,null,17900,4415,5342.15]
[18000,4225,5112.25,{"$f":"VLOOKUP(A183,'Correcties op staffel'!$A$5:$C$10,2)","v":0.1},{"$f":"VLOOKUP(A183,'Correcties op staffel'!$A$5:$C$10,3)","v":-125},4522.5,null,18000,4523,5472.83,null,18000,4525,5475.25]
[18100,4225,5112.25,{"$f":"VLOOKUP(A184,'Correcties op staffel'!$A$5:$C$10,2)","v":0.1},{"$f":"VLOOKUP(A184,'Correcties op staffel'!$A$5:$C$10,3)","v":-125},4522.5,null,18100,4523,5472.83,null,18100,4525,5475.25]
[18200,4225,5112.25,{"$f":"VLOOKUP(A185,'Correcties op staffel'!$A$5:$C$10,2)","v":0.1},{"$f":"VLOOKUP(A185,'Correcties op staffel'!$A$5:$C$10,3)","v":-125},4522.5,null,18200,4523,5472.83,null,18200,4525,5475.25]
[18300,4225,5112.25,{"$f":"VLOOKUP(A186,'Correcties op staffel'!$A$5:$C$10,2)","v":0.1},{"$f":"VLOOKUP(A186,'Correcties op staffel'!$A$5:$C$10,3)","v":-125},4522.5,null,18300,4523,5472.83,null,18300,4525,5475.25]
[18400,4225,5112.25,{"$f":"VLOOKUP(A187,'Correcties op staffel'!$A$5:$C$10,2)","v":0.1},{"$f":"VLOOKUP(A187,'Correcties op staffel'!$A$5:$C$10,3)","v":-125},4522.5,null,18400,4523,5472.83,null,18400,4525,5475.25]
[18500,4225,5112.25,{"$f":"VLOOKUP(A188,'Correcties op staffel'!$A$5:$C$10,2)","v":0.1},{"$f":"VLOOKUP(A188,'Correcties op staffel'!$A$5:$C$10,3)","v":-125},4522.5,null,18500,4523,5472.83,null,18500,4525,5475.25]
[18600,4225,5112.25,{"$f":"VLOOKUP(A189,'Correcties op staffel'!$A$5:$C$10,2)","v":0.1},{"$f":"VLOOKUP(A189,'Correcties op staffel'!$A$5:$C$10,3)","v":-125},4522.5,null,18600,4523,5472.83,null,18600,4525,5475.25]
[18700,4225,5112.25,{"$f":"VLOOKUP(A190,'Correcties op staffel'!$A$5:$C$10,2)","v":0.1},{"$f":"VLOOKUP(A190,'Correcties op staffel'!$A$5:$C$10,3)","v":-125},4522.5,null,18700,4523,5472.83,null,18700,4525,5475.25]
[18800,4225,5112.25,{"$f":"VLOOKUP(A191,'Correcties op staffel'!$A$5:$C$10,2)","v":0.1},{"$f":"VLOOKUP(A191,'Correcties op staffel'!$A$5:$C$10,3)","v":-125},4522.5,null,18800,4523,5472.83,null,18800,4525,5475.25]
[18900,4225,5112.25,{"$f":"VLOOKUP(A192,'Correcties op staffel'!$A$5:$C$10,2)","v":0.1},{"$f":"VLOOKUP(A192,'Correcties op staffel'!$A$5:$C$10,3)","v":-125},4522.5,null,18900,4523,5472.83,null,18900,4525,5475.25]
[19000,4325,5233.25,{"$f":"VLOOKUP(A193,'Correcties op staffel'!$A$5:$C$10,2)","v":0.1},{"$f":"VLOOKUP(A193,'Correcties op staffel'!$A$5:$C$10,3)","v":-125},4632.5,null,19000,4633,5605.9299999999994,null,19000,4635,5608.3499999999995]
[19100,4325,5233.25,{"$f":"VLOOKUP(A194,'Correcties op staffel'!$A$5:$C$10,2)","v":0.1},{"$f":"VLOOKUP(A194,'Correcties op staffel'!$A$5:$C$10,3)","v":-125},4632.5,null,19100,4633,5605.9299999999994,null,19100,4635,5608.3499999999995]
[19200,4325,5233.25,{"$f":"VLOOKUP(A195,'Correcties op staffel'!$A$5:$C$10,2)","v":0.1},{"$f":"VLOOKUP(A195,'Correcties op staffel'!$A$5:$C$10,3)","v":-125},4632.5,null,19200,4633,5605.9299999999994,null,19200,4635,5608.3499999999995]
[19300,4325,5233.25,{"$f":"VLOOKUP(A196,'Correcties op staffel'!$A$5:$C$10,2)","v":0.1},{"$f":"VLOOKUP(A196,'Correcties op staffel'!$A$5:$C$10,3)","v":-125},{"$f":"B196*(1+D196)+E196","v":4632.5},null,19300,{"$f":"ROUND(F196,0)","v":4633},5605.9299999999994,null,19300,4635,5608.3499999999995]
[19400,4325,5233.25,{"$f":"VLOOKUP(A197,'Correcties op staffel'!$A$5:$C$10,2)","v":0.1},{"$f":"VLOOKUP(A197,'Correcties op staffel'!$A$5:$C$10,3)","v":-125},4632.5,null,19400,4633,{"$f":"I197*1.21","v":5605.9299999999994},null,19400,{"$f":"IF(ROUND(I197/5,0)*5<I197,ROUND(I197/5,0)*5+5,ROUND(I197/5,0)*5)","v":4635},{"$f":"M197*1.21","v":5608.3499999999995}]
[19500,4325,5233.25,{"$f":"VLOOKUP(A198,'Correcties op staffel'!$A$5:$C$10,2)","v":0.1},{"$f":"VLOOKUP(A198,'Correcties op staffel'!$A$5:$C$10,3)","v":-125},4632.5,null,19500,4633,5605.9299999999994,null,19500,4635,5608.3499999999995]
[19600,4325,5233.25,{"$f":"VLOOKUP(A199,'Correcties op staffel'!$A$5:$C$10,2)","v":0.1},{"$f":"VLOOKUP(A199,'Correcties op staffel'!$A$5:$C$10,3)","v":-125},4632.5,null,19600,4633,5605.9299999999994,null,19600,4635,5608.3499999999995]
[19700,4325,5233.25,{"$f":"VLOOKUP(A200,'Correcties op staffel'!$A$5:$C$10,2)","v":0.1},{"$f":"VLOOKUP(A200,'Correcties op staffel'!$A$5:$C$10,3)","v":-125},4632.5,null,19700,4633,5605.9299999999994,null,19700,4635,5608.3499999999995]
[19800,4325,5233.25,{"$f":"VLOOKUP(A201,'Correcties op staffel'!$A$5:$C$10,2)","v":0.1},{"$f":"VLOOKUP(A201,'Correcties op staffel'!$A$5:$C$10,3)","v":-125},4632.5,null,19800,4633,5605.9299999999994,null,19800,4635,5608.3499999999995]
[{"$f":"A201+100","v":19900},4425,5354.25,{"$f":"VLOOKUP(A202,'Correcties op staffel'!$A$5:$C$10,2)","v":0.1},{"$f":"VLOOKUP(A202,'Correcties op staffel'!$A$5:$C$10,3)","v":-125},4742.5,null,{"$f":"H201+100","v":19900},4743,5739.03,null,19900,4745,5741.45]
[20000,4425,5354.25,{"$f":"VLOOKUP(A203,'Correcties op staffel'!$A$5:$C$10,2)","v":0.1},{"$f":"VLOOKUP(A203,'Correcties op staffel'!$A$5:$C$10,3)","v":-125},4742.5,null,20000,4743,5739.03,null,20000,4745,5741.45]
[20100,4425,5354.25,{"$f":"VLOOKUP(A204,'Correcties op staffel'!$A$5:$C$10,2)","v":0.1},{"$f":"VLOOKUP(A204,'Correcties op staffel'!$A$5:$C$10,3)","v":-125},4742.5,null,20100,4743,5739.03,null,20100,4745,5741.45]
[20200,4425,5354.25,{"$f":"VLOOKUP(A205,'Correcties op staffel'!$A$5:$C$10,2)","v":0.1},{"$f":"VLOOKUP(A205,'Correcties op staffel'!$A$5:$C$10,3)","v":-125},4742.5,null,20200,4743,5739.03,null,20200,4745,5741.45]
[20300,4425,5354.25,{"$f":"VLOOKUP(A206,'Correcties op staffel'!$A$5:$C$10,2)","v":0.1},{"$f":"VLOOKUP(A206,'Correcties op staffel'!$A$5:$C$10,3)","v":-125},4742.5,null,20300,4743,5739.03,null,20300,4745,5741.45]
[20400,4425,5354.25,{"$f":"VLOOKUP(A207,'Correcties op staffel'!$A$5:$C$10,2)","v":0.1},{"$f":"VLOOKUP(A207,'Correcties op staffel'!$A$5:$C$10,3)","v":-125},4742.5,null,20400,4743,5739.03,null,20400,4745,5741.45]
[20500,4425,5354.25,{"$f":"VLOOKUP(A208,'Correcties op staffel'!$A$5:$C$10,2)","v":0.1},{"$f":"VLOOKUP(A208,'Correcties op staffel'!$A$5:$C$10,3)","v":-125},4742.5,null,20500,4743,5739.03,null,20500,4745,5741.45]
[20600,4425,5354.25,{"$f":"VLOOKUP(A209,'Correcties op staffel'!$A$5:$C$10,2)","v":0.1},{"$f":"VLOOKUP(A209,'Correcties op staffel'!$A$5:$C$10,3)","v":-125},4742.5,null,20600,4743,5739.03,null,20600,4745,5741.45]
[20700,4425,5354.25,{"$f":"VLOOKUP(A210,'Correcties op staffel'!$A$5:$C$10,2)","v":0.1},{"$f":"VLOOKUP(A210,'Correcties op staffel'!$A$5:$C$10,3)","v":-125},4742.5,null,20700,4743,5739.03,null,20700,4745,5741.45]
[20800,4425,5354.25,{"$f":"VLOOKUP(A211,'Correcties op staffel'!$A$5:$C$10,2)","v":0.1},{"$f":"VLOOKUP(A211,'Correcties op staffel'!$A$5:$C$10,3)","v":-125},4742.5,null,20800,4743,5739.03,null,20800,4745,5741.45]
[20900,4525,5475.25,{"$f":"VLOOKUP(A212,'Correcties op staffel'!$A$5:$C$10,2)","v":0.1},{"$f":"VLOOKUP(A212,'Correcties op staffel'!$A$5:$C$10,3)","v":-125},4852.5,null,20900,4853,5872.13,null,20900,4855,5874.55]
[21000,4525,5475.25,{"$f":"VLOOKUP(A213,'Correcties op staffel'!$A$5:$C$10,2)","v":0.1},{"$f":"VLOOKUP(A213,'Correcties op staffel'!$A$5:$C$10,3)","v":-125},4852.5,null,21000,4853,5872.13,null,21000,4855,5874.55]
[21100,4525,5475.25,{"$f":"VLOOKUP(A214,'Correcties op staffel'!$A$5:$C$10,2)","v":0.1},{"$f":"VLOOKUP(A214,'Correcties op staffel'!$A$5:$C$10,3)","v":-125},4852.5,null,21100,4853,5872.13,null,21100,4855,5874.55]
[21200,4525,5475.25,{"$f":"VLOOKUP(A215,'Correcties op staffel'!$A$5:$C$10,2)","v":0.1},{"$f":"VLOOKUP(A215,'Correcties op staffel'!$A$5:$C$10,3)","v":-125},4852.5,null,21200,4853,5872.13,null,21200,4855,5874.55]
[21300,4525,5475.25,{"$f":"VLOOKUP(A216,'Correcties op staffel'!$A$5:$C$10,2)","v":0.1},{"$f":"VLOOKUP(A216,'Correcties op staffel'!$A$5:$C$10,3)","v":-125},4852.5,null,21300,4853,5872.13,null,21300,4855,5874.55]
[21400,4525,5475.25,{"$f":"VLOOKUP(A217,'Correcties op staffel'!$A$5:$C$10,2)","v":0.1},{"$f":"VLOOKUP(A217,'Correcties op staffel'!$A$5:$C$10,3)","v":-125},4852.5,null,21400,4853,5872.13,null,21400,4855,5874.55]
[21500,4525,5475.25,{"$f":"VLOOKUP(A218,'Correcties op staffel'!$A$5:$C$10,2)","v":0.1},{"$f":"VLOOKUP(A218,'Correcties op staffel'!$A$5:$C$10,3)","v":-125},4852.5,null,21500,4853,5872.13,null,21500,4855,5874.55]
[21600,4525,5475.25,{"$f":"VLOOKUP(A219,'Correcties op staffel'!$A$5:$C$10,2)","v":0.1},{"$f":"VLOOKUP(A219,'Correcties op staffel'!$A$5:$C$10,3)","v":-125},4852.5,null,21600,4853,5872.13,null,21600,4855,5874.55]
[21700,4525,5475.25,{"$f":"VLOOKUP(A220,'Correcties op staffel'!$A$5:$C$10,2)","v":0.1},{"$f":"VLOOKUP(A220,'Correcties op staffel'!$A$5:$C$10,3)","v":-125},4852.5,null,21700,4853,5872.13,null,21700,4855,5874.55]
[21800,4525,5475.25,{"$f":"VLOOKUP(A221,'Correcties op staffel'!$A$5:$C$10,2)","v":0.1},{"$f":"VLOOKUP(A221,'Correcties op staffel'!$A$5:$C$10,3)","v":-125},4852.5,null,21800,4853,5872.13,null,21800,4855,5874.55]
[21900,4625,5596.25,{"$f":"VLOOKUP(A222,'Correcties op staffel'!$A$5:$C$10,2)","v":0.1},{"$f":"VLOOKUP(A222,'Correcties op staffel'!$A$5:$C$10,3)","v":-125},4962.5,null,21900,4963,6005.23,null,21900,4965,6007.65]
[22000,4625,5596.25,{"$f":"VLOOKUP(A223,'Correcties op staffel'!$A$5:$C$10,2)","v":0.1},{"$f":"VLOOKUP(A223,'Correcties op staffel'!$A$5:$C$10,3)","v":-125},4962.5,null,22000,4963,6005.23,null,22000,4965,6007.65]
[22100,4625,5596.25,{"$f":"VLOOKUP(A224,'Correcties op staffel'!$A$5:$C$10,2)","v":0.1},{"$f":"VLOOKUP(A224,'Correcties op staffel'!$A$5:$C$10,3)","v":-125},4962.5,null,22100,4963,6005.23,null,22100,4965,6007.65]
[22200,4625,5596.25,{"$f":"VLOOKUP(A225,'Correcties op staffel'!$A$5:$C$10,2)","v":0.1},{"$f":"VLOOKUP(A225,'Correcties op staffel'!$A$5:$C$10,3)","v":-125},4962.5,null,22200,4963,6005.23,null,22200,4965,6007.65]
[22300,4625,5596.25,{"$f":"VLOOKUP(A226,'Correcties op staffel'!$A$5:$C$10,2)","v":0.1},{"$f":"VLOOKUP(A226,'Correcties op staffel'!$A$5:$C$10,3)","v":-125},4962.5,null,22300,4963,6005.23,null,22300,4965,6007.65]
[22400,4625,5596.25,{"$f":"VLOOKUP(A227,'Correcties op staffel'!$A$5:$C$10,2)","v":0.1},{"$f":"VLOOKUP(A227,'Correcties op staffel'!$A$5:$C$10,3)","v":-125},4962.5,null,22400,4963,6005.23,null,22400,4965,6007.65]
[22500,4625,5596.25,{"$f":"VLOOKUP(A228,'Correcties op staffel'!$A$5:$C$10,2)","v":0.1},{"$f":"VLOOKUP(A228,'Correcties op staffel'!$A$5:$C$10,3)","v":-125},4962.5,null,22500,4963,6005.23,null,22500,4965,6007.65]
[22600,4625,5596.25,{"$f":"VLOOKUP(A229,'Correcties op staffel'!$A$5:$C$10,2)","v":0.1},{"$f":"VLOOKUP(A229,'Correcties op staffel'!$A$5:$C$10,3)","v":-125},4962.5,null,22600,4963,6005.23,null,22600,4965,6007.65]
[22700,4625,5596.25,{"$f":"VLOOKUP(A230,'Correcties op staffel'!$A$5:$C$10,2)","v":0.1},{"$f":"VLOOKUP(A230,'Correcties op staffel'!$A$5:$C$10,3)","v":-125},4962.5,null,22700,4963,6005.23,null,22700,4965,6007.65]
[22800,4625,5596.25,{"$f":"VLOOKUP(A231,'Correcties op staffel'!$A$5:$C$10,2)","v":0.1},{"$f":"VLOOKUP(A231,'Correcties op staffel'!$A$5:$C$10,3)","v":-125},4962.5,null,22800,4963,6005.23,null,22800,4965,6007.65]
[22900,4625,5596.25,{"$f":"VLOOKUP(A232,'Correcties op staffel'!$A$5:$C$10,2)","v":0.1},{"$f":"VLOOKUP(A232,'Correcties op staffel'!$A$5:$C$10,3)","v":-125},4962.5,null,22900,4963,6005.23,null,22900,4965,6007.65]
[23000,4725,5717.25,{"$f":"VLOOKUP(A233,'Correcties op staffel'!$A$5:$C$10,2)","v":0.1},{"$f":"VLOOKUP(A233,'Correcties op staffel'!$A$5:$C$10,3)","v":-125},5072.5,null,23000,5073,6138.33,null,23000,5075,6140.75]
[23100,4725,5717.25,{"$f":"VLOOKUP(A234,'Correcties op staffel'!$A$5:$C$10,2)","v":0.1},{"$f":"VLOOKUP(A234,'Correcties op staffel'!$A$5:$C$10,3)","v":-125},5072.5,null,23100,5073,6138.33,null,23100,5075,6140.75]
[23200,4725,5717.25,{"$f":"VLOOKUP(A235,'Correcties op staffel'!$A$5:$C$10,2)","v":0.1},{"$f":"VLOOKUP(A235,'Correcties op staffel'!$A$5:$C$10,3)","v":-125},5072.5,null,23200,5073,6138.33,null,23200,5075,6140.75]
[23300,4725,5717.25,{"$f":"VLOOKUP(A236,'Correcties op staffel'!$A$5:$C$10,2)","v":0.1},{"$f":"VLOOKUP(A236,'Correcties op staffel'!$A$5:$C$10,3)","v":-125},5072.5,null,23300,5073,6138.33,null,23300,5075,6140.75]
[23400,4725,5717.25,{"$f":"VLOOKUP(A237,'Correcties op staffel'!$A$5:$C$10,2)","v":0.1},{"$f":"VLOOKUP(A237,'Correcties op staffel'!$A$5:$C$10,3)","v":-125},5072.5,null,23400,5073,6138.33,null,23400,5075,6140.75]
[23500,4725,5717.25,{"$f":"VLOOKUP(A238,'Correcties op staffel'!$A$5:$C$10,2)","v":0.1},{"$f":"VLOOKUP(A238,'Correcties op staffel'!$A$5:$C$10,3)","v":-125},5072.5,null,23500,5073,6138.33,null,23500,5075,6140.75]
[23600,4725,5717.25,{"$f":"VLOOKUP(A239,'Correcties op staffel'!$A$5:$C$10,2)","v":0.1},{"$f":"VLOOKUP(A239,'Correcties op staffel'!$A$5:$C$10,3)","v":-125},5072.5,null,23600,5073,6138.33,null,23600,5075,6140.75]
[23700,4725,5717.25,{"$f":"VLOOKUP(A240,'Correcties op staffel'!$A$5:$C$10,2)","v":0.1},{"$f":"VLOOKUP(A240,'Correcties op staffel'!$A$5:$C$10,3)","v":-125},5072.5,null,23700,5073,6138.33,null,23700,5075,6140.75]
[23800,4725,5717.25,{"$f":"VLOOKUP(A241,'Correcties op staffel'!$A$5:$C$10,2)","v":0.1},{"$f":"VLOOKUP(A241,'Correcties op staffel'!$A$5:$C$10,3)","v":-125},5072.5,null,23800,5073,6138.33,null,23800,5075,6140.75]
[23900,4725,5717.25,{"$f":"VLOOKUP(A242,'Correcties op staffel'!$A$5:$C$10,2)","v":0.1},{"$f":"VLOOKUP(A242,'Correcties op staffel'!$A$5:$C$10,3)","v":-125},5072.5,null,23900,5073,6138.33,null,23900,5075,6140.75]
[24000,4725,5717.25,{"$f":"VLOOKUP(A243,'Correcties op staffel'!$A$5:$C$10,2)","v":0.1},{"$f":"VLOOKUP(A243,'Correcties op staffel'!$A$5:$C$10,3)","v":-125},5072.5,null,24000,5073,6138.33,null,24000,5075,6140.75]
[24100,4825,5838.25,{"$f":"VLOOKUP(A244,'Correcties op staffel'!$A$5:$C$10,2)","v":0.1},{"$f":"VLOOKUP(A244,'Correcties op staffel'!$A$5:$C$10,3)","v":-125},5182.5,null,24100,5183,6271.4299999999994,null,24100,5185,6273.8499999999995]
[24200,4825,5838.25,{"$f":"VLOOKUP(A245,'Correcties op staffel'!$A$5:$C$10,2)","v":0.1},{"$f":"VLOOKUP(A245,'Correcties op staffel'!$A$5:$C$10,3)","v":-125},5182.5,null,24200,5183,6271.4299999999994,null,24200,5185,6273.8499999999995]
[24300,4825,5838.25,{"$f":"VLOOKUP(A246,'Correcties op staffel'!$A$5:$C$10,2)","v":0.1},{"$f":"VLOOKUP(A246,'Correcties op staffel'!$A$5:$C$10,3)","v":-125},5182.5,null,24300,5183,6271.4299999999994,null,24300,5185,6273.8499999999995]
[24400,4825,5838.25,{"$f":"VLOOKUP(A247,'Correcties op staffel'!$A$5:$C$10,2)","v":0.1},{"$f":"VLOOKUP(A247,'Correcties op staffel'!$A$5:$C$10,3)","v":-125},5182.5,null,24400,5183,6271.4299999999994,null,24400,5185,6273.8499999999995]
[24500,4825,5838.25,{"$f":"VLOOKUP(A248,'Correcties op staffel'!$A$5:$C$10,2)","v":0.1},{"$f":"VLOOKUP(A248,'Correcties op staffel'!$A$5:$C$10,3)","v":-125},5182.5,null,24500,5183,6271.4299999999994,null,24500,5185,6273.8499999999995]
[24600,4825,5838.25,{"$f":"VLOOKUP(A249,'Correcties op staffel'!$A$5:$C$10,2)","v":0.1},{"$f":"VLOOKUP(A249,'Correcties op staffel'!$A$5:$C$10,3)","v":-125},5182.5,null,24600,5183,6271.4299999999994,null,24600,5185,6273.8499999999995]
[24700,4825,5838.25,{"$f":"VLOOKUP(A250,'Correcties op staffel'!$A$5:$C$10,2)","v":0.1},{"$f":"VLOOKUP(A250,'Correcties op staffel'!$A$5:$C$10,3)","v":-125},5182.5,null,24700,5183,6271.4299999999994,null,24700,5185,6273.8499999999995]
[24800,4825,5838.25,{"$f":"VLOOKUP(A251,'Correcties op staffel'!$A$5:$C$10,2)","v":0.1},{"$f":"VLOOKUP(A251,'Correcties op staffel'!$A$5:$C$10,3)","v":-125},5182.5,null,24800,5183,6271.4299999999994,null,24800,5185,6273.8499999999995]
[24900,4825,5838.25,{"$f":"VLOOKUP(A252,'Correcties op staffel'!$A$5:$C$10,2)","v":0.1},{"$f":"VLOOKUP(A252,'Correcties op staffel'!$A$5:$C$10,3)","v":-125},5182.5,null,24900,5183,6271.4299999999994,null,24900,5185,6273.8499999999995]
[25000,4925,5959.25,{"$f":"VLOOKUP(A253,'Correcties op staffel'!$A$5:$C$10,2)","v":0.1},{"$f":"VLOOKUP(A253,'Correcties op staffel'!$A$5:$C$10,3)","v":-125},5292.5,null,25000,5293,6404.53,null,25000,5295,6406.95]
[25100,5025,6080.25,{"$f":"VLOOKUP(A254,'Correcties op staffel'!$A$5:$C$10,2)","v":0.1},{"$f":"VLOOKUP(A254,'Correcties op staffel'!$A$5:$C$10,3)","v":-125},5402.5,null,25100,5403,6537.63,null,25100,5405,6540.05]
[25200,5025,6080.25,{"$f":"VLOOKUP(A255,'Correcties op staffel'!$A$5:$C$10,2)","v":0.1},{"$f":"VLOOKUP(A255,'Correcties op staffel'!$A$5:$C$10,3)","v":-125},5402.5,null,25200,5403,6537.63,null,25200,5405,6540.05]
[25300,5025,6080.25,{"$f":"VLOOKUP(A256,'Correcties op staffel'!$A$5:$C$10,2)","v":0.1},{"$f":"VLOOKUP(A256,'Correcties op staffel'!$A$5:$C$10,3)","v":-125},5402.5,null,25300,5403,6537.63,null,25300,5405,6540.05]
[25400,5025,6080.25,{"$f":"VLOOKUP(A257,'Correcties op staffel'!$A$5:$C$10,2)","v":0.1},{"$f":"VLOOKUP(A257,'Correcties op staffel'!$A$5:$C$10,3)","v":-125},5402.5,null,25400,5403,6537.63,null,25400,5405,6540.05]
[25500,5025,6080.25,{"$f":"VLOOKUP(A258,'Correcties op staffel'!$A$5:$C$10,2)","v":0.1},{"$f":"VLOOKUP(A258,'Correcties op staffel'!$A$5:$C$10,3)","v":-125},5402.5,null,25500,5403,6537.63,null,25500,5405,6540.05]
[25600,5025,6080.25,{"$f":"VLOOKUP(A259,'Correcties op staffel'!$A$5:$C$10,2)","v":0.1},{"$f":"VLOOKUP(A259,'Correcties op staffel'!$A$5:$C$10,3)","v":-125},5402.5,null,25600,5403,6537.63,null,25600,5405,6540.05]
[25700,5025,6080.25,{"$f":"VLOOKUP(A260,'Correcties op staffel'!$A$5:$C$10,2)","v":0.1},{"$f":"VLOOKUP(A260,'Correcties op staffel'!$A$5:$C$10,3)","v":-125},{"$f":"B260*(1+D260)+E260","v":5402.5},null,25700,{"$f":"ROUND(F260,0)","v":5403},6537.63,null,25700,5405,6540.05]
[25800,5025,6080.25,{"$f":"VLOOKUP(A261,'Correcties op staffel'!$A$5:$C$10,2)","v":0.1},{"$f":"VLOOKUP(A261,'Correcties op staffel'!$A$5:$C$10,3)","v":-125},5402.5,null,25800,5403,{"$f":"I261*1.21","v":6537.63},null,25800,{"$f":"IF(ROUND(I261/5,0)*5<I261,ROUND(I261/5,0)*5+5,ROUND(I261/5,0)*5)","v":5405},{"$f":"M261*1.21","v":6540.05}]
[25900,5025,6080.25,{"$f":"VLOOKUP(A262,'Correcties op staffel'!$A$5:$C$10,2)","v":0.1},{"$f":"VLOOKUP(A262,'Correcties op staffel'!$A$5:$C$10,3)","v":-125},5402.5,null,25900,5403,6537.63,null,25900,5405,6540.05]
[26000,5025,6080.25,{"$f":"VLOOKUP(A263,'Correcties op staffel'!$A$5:$C$10,2)","v":0.1},{"$f":"VLOOKUP(A263,'Correcties op staffel'!$A$5:$C$10,3)","v":-125},5402.5,null,26000,5403,6537.63,null,26000,5405,6540.05]
[26100,5025,6080.25,{"$f":"VLOOKUP(A264,'Correcties op staffel'!$A$5:$C$10,2)","v":0.1},{"$f":"VLOOKUP(A264,'Correcties op staffel'!$A$5:$C$10,3)","v":-125},5402.5,null,26100,5403,6537.63,null,26100,5405,6540.05]
[26200,5125,6201.25,{"$f":"VLOOKUP(A265,'Correcties op staffel'!$A$5:$C$10,2)","v":0.1},{"$f":"VLOOKUP(A265,'Correcties op staffel'!$A$5:$C$10,3)","v":-125},5512.5000000000009,null,26200,5513,6670.73,null,26200,5515,6673.15]
[{"$f":"A265+100","v":26300},5125,6201.25,{"$f":"VLOOKUP(A266,'Correcties op staffel'!$A$5:$C$10,2)","v":0.1},{"$f":"VLOOKUP(A266,'Correcties op staffel'!$A$5:$C$10,3)","v":-125},5512.5000000000009,null,{"$f":"H265+100","v":26300},5513,6670.73,null,26300,5515,6673.15]
[26400,5125,6201.25,{"$f":"VLOOKUP(A267,'Correcties op staffel'!$A$5:$C$10,2)","v":0.1},{"$f":"VLOOKUP(A267,'Correcties op staffel'!$A$5:$C$10,3)","v":-125},5512.5000000000009,null,26400,5513,6670.73,null,26400,5515,6673.15]
[26500,5125,6201.25,{"$f":"VLOOKUP(A268,'Correcties op staffel'!$A$5:$C$10,2)","v":0.1},{"$f":"VLOOKUP(A268,'Correcties op staffel'!$A$5:$C$10,3)","v":-125},5512.5000000000009,null,26500,5513,6670.73,null,26500,5515,6673.15]
[26600,5125,6201.25,{"$f":"VLOOKUP(A269,'Correcties op staffel'!$A$5:$C$10,2)","v":0.1},{"$f":"VLOOKUP(A269,'Correcties op staffel'!$A$5:$C$10,3)","v":-125},5512.5000000000009,null,26600,5513,6670.73,null,26600,5515,6673.15]
[26700,5125,6201.25,{"$f":"VLOOKUP(A270,'Correcties op staffel'!$A$5:$C$10,2)","v":0.1},{"$f":"VLOOKUP(A270,'Correcties op staffel'!$A$5:$C$10,3)","v":-125},5512.5000000000009,null,26700,5513,6670.73,null,26700,5515,6673.15]
[26800,5125,6201.25,{"$f":"VLOOKUP(A271,'Correcties op staffel'!$A$5:$C$10,2)","v":0.1},{"$f":"VLOOKUP(A271,'Correcties op staffel'!$A$5:$C$10,3)","v":-125},5512.5000000000009,null,26800,5513,6670.73,null,26800,5515,6673.15]
[26900,5125,6201.25,{"$f":"VLOOKUP(A272,'Correcties op staffel'!$A$5:$C$10,2)","v":0.1},{"$f":"VLOOKUP(A272,'Correcties op staffel'!$A$5:$C$10,3)","v":-125},5512.5000000000009,null,26900,5513,6670.73,null,26900,5515,6673.15]
[27000,5125,6201.25,{"$f":"VLOOKUP(A273,'Correcties op staffel'!$A$5:$C$10,2)","v":0.1},{"$f":"VLOOKUP(A273,'Correcties op staffel'!$A$5:$C$10,3)","v":-125},5512.5000000000009,null,27000,5513,6670.73,null,27000,5515,6673.15]
[27100,5125,6201.25,{"$f":"VLOOKUP(A274,'Correcties op staffel'!$A$5:$C$10,2)","v":0.1},{"$f":"VLOOKUP(A274,'Correcties op staffel'!$A$5:$C$10,3)","v":-125},5512.5000000000009,null,27100,5513,6670.73,null,27100,5515,6673.15]
[27200,5125,6201.25,{"$f":"VLOOKUP(A275,'Correcties op staffel'!$A$5:$C$10,2)","v":0.1},{"$f":"VLOOKUP(A275,'Correcties op staffel'!$A$5:$C$10,3)","v":-125},5512.5000000000009,null,27200,5513,6670.73,null,27200,5515,6673.15]
[27300,5225,6322.25,{"$f":"VLOOKUP(A276,'Correcties op staffel'!$A$5:$C$10,2)","v":0.1},{"$f":"VLOOKUP(A276,'Correcties op staffel'!$A$5:$C$10,3)","v":-125},5622.5000000000009,null,27300,5623,6803.83,null,27300,5625,6806.25]
[27400,5225,6322.25,{"$f":"VLOOKUP(A277,'Correcties op staffel'!$A$5:$C$10,2)","v":0.1},{"$f":"VLOOKUP(A277,'Correcties op staffel'!$A$5:$C$10,3)","v":-125},5622.5000000000009,null,27400,5623,6803.83,null,27400,5625,6806.25]
[27500,5225,6322.25,{"$f":"VLOOKUP(A278,'Correcties op staffel'!$A$5:$C$10,2)","v":0.1},{"$f":"VLOOKUP(A278,'Correcties op staffel'!$A$5:$C$10,3)","v":-125},5622.5000000000009,null,27500,5623,6803.83,null,27500,5625,6806.25]
[27600,5225,6322.25,{"$f":"VLOOKUP(A279,'Correcties op staffel'!$A$5:$C$10,2)","v":0.1},{"$f":"VLOOKUP(A279,'Correcties op staffel'!$A$5:$C$10,3)","v":-125},5622.5000000000009,null,27600,5623,6803.83,null,27600,5625,6806.25]
[27700,5225,6322.25,{"$f":"VLOOKUP(A280,'Correcties op staffel'!$A$5:$C$10,2)","v":0.1},{"$f":"VLOOKUP(A280,'Correcties op staffel'!$A$5:$C$10,3)","v":-125},5622.5000000000009,null,27700,5623,6803.83,null,27700,5625,6806.25]
[27800,5225,6322.25,{"$f":"VLOOKUP(A281,'Correcties op staffel'!$A$5:$C$10,2)","v":0.1},{"$f":"VLOOKUP(A281,'Correcties op staffel'!$A$5:$C$10,3)","v":-125},5622.5000000000009,null,27800,5623,6803.83,null,27800,5625,6806.25]
[27900,5225,6322.25,{"$f":"VLOOKUP(A282,'Correcties op staffel'!$A$5:$C$10,2)","v":0.1},{"$f":"VLOOKUP(A282,'Correcties op staffel'!$A$5:$C$10,3)","v":-125},5622.5000000000009,null,27900,5623,6803.83,null,27900,5625,6806.25]
[28000,5225,6322.25,{"$f":"VLOOKUP(A283,'Correcties op staffel'!$A$5:$C$10,2)","v":0.1},{"$f":"VLOOKUP(A283,'Correcties op staffel'!$A$5:$C$10,3)","v":-125},5622.5000000000009,null,28000,5623,6803.83,null,28000,5625,6806.25]
[28100,5225,6322.25,{"$f":"VLOOKUP(A284,'Correcties op staffel'!$A$5:$C$10,2)","v":0.1},{"$f":"VLOOKUP(A284,'Correcties op staffel'!$A$5:$C$10,3)","v":-125},5622.5000000000009,null,28100,5623,6803.83,null,28100,5625,6806.25]
[28200,5225,6322.25,{"$f":"VLOOKUP(A285,'Correcties op staffel'!$A$5:$C$10,2)","v":0.1},{"$f":"VLOOKUP(A285,'Correcties op staffel'!$A$5:$C$10,3)","v":-125},5622.5000000000009,null,28200,5623,6803.83,null,28200,5625,6806.25]
[28300,5225,6322.25,{"$f":"VLOOKUP(A286,'Correcties op staffel'!$A$5:$C$10,2)","v":0.1},{"$f":"VLOOKUP(A286,'Correcties op staffel'!$A$5:$C$10,3)","v":-125},5622.5000000000009,null,28300,5623,6803.83,null,28300,5625,6806.25]
[28400,5325,6443.25,{"$f":"VLOOKUP(A287,'Correcties op staffel'!$A$5:$C$10,2)","v":0.1},{"$f":"VLOOKUP(A287,'Correcties op staffel'!$A$5:$C$10,3)","v":-125},5732.5000000000009,null,28400,5733,6936.9299999999994,null,28400,5735,6939.3499999999995]
[28500,5325,6443.25,{"$f":"VLOOKUP(A288,'Correcties op staffel'!$A$5:$C$10,2)","v":0.1},{"$f":"VLOOKUP(A288,'Correcties op staffel'!$A$5:$C$10,3)","v":-125},5732.5000000000009,null,28500,5733,6936.9299999999994,null,28500,5735,6939.3499999999995]
[28600,5325,6443.25,{"$f":"VLOOKUP(A289,'Correcties op staffel'!$A$5:$C$10,2)","v":0.1},{"$f":"VLOOKUP(A289,'Correcties op staffel'!$A$5:$C$10,3)","v":-125},5732.5000000000009,null,28600,5733,6936.9299999999994,null,28600,5735,6939.3499999999995]
[28700,5325,6443.25,{"$f":"VLOOKUP(A290,'Correcties op staffel'!$A$5:$C$10,2)","v":0.1},{"$f":"VLOOKUP(A290,'Correcties op staffel'!$A$5:$C$10,3)","v":-125},5732.5000000000009,null,28700,5733,6936.9299999999994,null,28700,5735,6939.3499999999995]
[28800,5325,6443.25,{"$f":"VLOOKUP(A291,'Correcties op staffel'!$A$5:$C$10,2)","v":0.1},{"$f":"VLOOKUP(A291,'Correcties op staffel'!$A$5:$C$10,3)","v":-125},5732.5000000000009,null,28800,5733,6936.9299999999994,null,28800,5735,6939.3499999999995]
[28900,5325,6443.25,{"$f":"VLOOKUP(A292,'Correcties op staffel'!$A$5:$C$10,2)","v":0.1},{"$f":"VLOOKUP(A292,'Correcties op staffel'!$A$5:$C$10,3)","v":-125},5732.5000000000009,null,28900,5733,6936.9299999999994,null,28900,5735,6939.3499999999995]
[29000,5325,6443.25,{"$f":"VLOOKUP(A293,'Correcties op staffel'!$A$5:$C$10,2)","v":0.1},{"$f":"VLOOKUP(A293,'Correcties op staffel'!$A$5:$C$10,3)","v":-125},5732.5000000000009,null,29000,5733,6936.9299999999994,null,29000,5735,6939.3499999999995]
[29100,5325,6443.25,{"$f":"VLOOKUP(A294,'Correcties op staffel'!$A$5:$C$10,2)","v":0.1},{"$f":"VLOOKUP(A294,'Correcties op staffel'!$A$5:$C$10,3)","v":-125},5732.5000000000009,null,29100,5733,6936.9299999999994,null,29100,5735,6939.3499999999995]
[29200,5325,6443.25,{"$f":"VLOOKUP(A295,'Correcties op staffel'!$A$5:$C$10,2)","v":0.1},{"$f":"VLOOKUP(A295,'Correcties op staffel'!$A$5:$C$10,3)","v":-125},5732.5000000000009,null,29200,5733,6936.9299999999994,null,29200,5735,6939.3499999999995]
[29300,5325,6443.25,{"$f":"VLOOKUP(A296,'Correcties op staffel'!$A$5:$C$10,2)","v":0.1},{"$f":"VLOOKUP(A296,'Correcties op staffel'!$A$5:$C$10,3)","v":-125},5732.5000000000009,null,29300,5733,6936.9299999999994,null,29300,5735,6939.3499999999995]
[29400,5325,6443.25,{"$f":"VLOOKUP(A297,'Correcties op staffel'!$A$5:$C$10,2)","v":0.1},{"$f":"VLOOKUP(A297,'Correcties op staffel'!$A$5:$C$10,3)","v":-125},5732.5000000000009,null,29400,5733,6936.9299999999994,null,29400,5735,6939.3499999999995]
[29500,5325,6443.25,{"$f":"VLOOKUP(A298,'Correcties op staffel'!$A$5:$C$10,2)","v":0.1},{"$f":"VLOOKUP(A298,'Correcties op staffel'!$A$5:$C$10,3)","v":-125},5732.5000000000009,null,29500,5733,6936.9299999999994,null,29500,5735,6939.3499999999995]
[29600,5425,6564.25,{"$f":"VLOOKUP(A299,'Correcties op staffel'!$A$5:$C$10,2)","v":0.1},{"$f":"VLOOKUP(A299,'Correcties op staffel'!$A$5:$C$10,3)","v":-125},5842.5000000000009,null,29600,5843,7070.03,null,29600,5845,7072.45]
[29700,5425,6564.25,{"$f":"VLOOKUP(A300,'Correcties op staffel'!$A$5:$C$10,2)","v":0.1},{"$f":"VLOOKUP(A300,'Correcties op staffel'!$A$5:$C$10,3)","v":-125},5842.5000000000009,null,29700,5843,7070.03,null,29700,5845,7072.45]
[29800,5425,6564.25,{"$f":"VLOOKUP(A301,'Correcties op staffel'!$A$5:$C$10,2)","v":0.1},{"$f":"VLOOKUP(A301,'Correcties op staffel'!$A$5:$C$10,3)","v":-125},5842.5000000000009,null,29800,5843,7070.03,null,29800,5845,7072.45]
[29900,5425,6564.25,{"$f":"VLOOKUP(A302,'Correcties op staffel'!$A$5:$C$10,2)","v":0.1},{"$f":"VLOOKUP(A302,'Correcties op staffel'!$A$5:$C$10,3)","v":-125},{"$f":"B302*(1+D302)+E302","v":5842.5000000000009},null,29900,5843,7070.03,null,29900,5845,7072.45]
[30000,5425,6564.25,{"$f":"VLOOKUP(A303,'Correcties op staffel'!$A$5:$C$10,2)","v":0},{"$f":"VLOOKUP(A303,'Correcties op staffel'!$A$5:$C$10,3)","v":0},{"$f":"F302+'kosten tabel 2016'!$G$2","v":5843.9137931034493},null,30000,5844,7071.24,null,30000,5845,7072.45]
[30100,5425,6564.25,{"$f":"VLOOKUP(A304,'Correcties op staffel'!$A$5:$C$10,2)","v":0},{"$f":"VLOOKUP(A304,'Correcties op staffel'!$A$5:$C$10,3)","v":0},{"$f":"F303+'kosten tabel 2016'!$G$2","v":5845.3275862068976},null,30100,5845,7072.45,null,30100,5845,7072.45]
[30200,5425,6564.25,{"$f":"VLOOKUP(A305,'Correcties op staffel'!$A$5:$C$10,2)","v":0},{"$f":"VLOOKUP(A305,'Correcties op staffel'!$A$5:$C$10,3)","v":0},{"$f":"F304+'kosten tabel 2016'!$G$2","v":5846.741379310346},null,30200,5847,7074.87,null,30200,5850,7078.5]
[30300,5425,6564.25,{"$f":"VLOOKUP(A306,'Correcties op staffel'!$A$5:$C$10,2)","v":0},{"$f":"VLOOKUP(A306,'Correcties op staffel'!$A$5:$C$10,3)","v":0},{"$f":"F305+'kosten tabel 2016'!$G$2","v":5848.1551724137944},null,30300,5848,7076.08,null,30300,5850,7078.5]
[30400,5425,6564.25,{"$f":"VLOOKUP(A307,'Correcties op staffel'!$A$5:$C$10,2)","v":0},{"$f":"VLOOKUP(A307,'Correcties op staffel'!$A$5:$C$10,3)","v":0},{"$f":"F306+'kosten tabel 2016'!$G$2","v":5849.5689655172428},null,30400,5850,7078.5,null,30400,5850,7078.5]
[30500,5425,6564.25,{"$f":"VLOOKUP(A308,'Correcties op staffel'!$A$5:$C$10,2)","v":0},{"$f":"VLOOKUP(A308,'Correcties op staffel'!$A$5:$C$10,3)","v":0},{"$f":"F307+'kosten tabel 2016'!$G$2","v":5850.9827586206911},null,30500,5851,7079.71,null,30500,5855,7084.55]
[30600,5425,6564.25,{"$f":"VLOOKUP(A309,'Correcties op staffel'!$A$5:$C$10,2)","v":0},{"$f":"VLOOKUP(A309,'Correcties op staffel'!$A$5:$C$10,3)","v":0},{"$f":"F308+'kosten tabel 2016'!$G$2","v":5852.3965517241395},null,30600,5852,7080.92,null,30600,5855,7084.55]
[30700,5425,6564.25,{"$f":"VLOOKUP(A310,'Correcties op staffel'!$A$5:$C$10,2)","v":0},{"$f":"VLOOKUP(A310,'Correcties op staffel'!$A$5:$C$10,3)","v":0},{"$f":"F309+'kosten tabel 2016'!$G$2","v":5853.8103448275879},null,30700,5854,7083.34,null,30700,5855,7084.55]
[30800,5525,6685.25,{"$f":"VLOOKUP(A311,'Correcties op staffel'!$A$5:$C$10,2)","v":0},{"$f":"VLOOKUP(A311,'Correcties op staffel'!$A$5:$C$10,3)","v":0},{"$f":"F310+'kosten tabel 2016'!$G$2","v":5855.2241379310362},null,30800,5855,7084.55,null,30800,5855,7084.55]
[30900,5525,6685.25,{"$f":"VLOOKUP(A312,'Correcties op staffel'!$A$5:$C$10,2)","v":0},{"$f":"VLOOKUP(A312,'Correcties op staffel'!$A$5:$C$10,3)","v":0},{"$f":"F311+'kosten tabel 2016'!$G$2","v":5856.6379310344846},null,30900,5857,7086.9699999999993,null,30900,5860,7090.5999999999995]
[31000,5525,6685.25,{"$f":"VLOOKUP(A313,'Correcties op staffel'!$A$5:$C$10,2)","v":0},{"$f":"VLOOKUP(A313,'Correcties op staffel'!$A$5:$C$10,3)","v":0},{"$f":"F312+'kosten tabel 2016'!$G$2","v":5858.051724137933},null,31000,5858,7088.1799999999994,null,31000,5860,7090.5999999999995]
[31100,5525,6685.25,{"$f":"VLOOKUP(A314,'Correcties op staffel'!$A$5:$C$10,2)","v":0},{"$f":"VLOOKUP(A314,'Correcties op staffel'!$A$5:$C$10,3)","v":0},{"$f":"F313+'kosten tabel 2016'!$G$2","v":5859.4655172413813},null,31100,5859,7089.3899999999994,null,31100,5860,7090.5999999999995]
[31200,5525,6685.25,{"$f":"VLOOKUP(A315,'Correcties op staffel'!$A$5:$C$10,2)","v":0},{"$f":"VLOOKUP(A315,'Correcties op staffel'!$A$5:$C$10,3)","v":0},{"$f":"F314+'kosten tabel 2016'!$G$2","v":5860.8793103448297},null,31200,5861,7091.8099999999995,null,31200,5865,7096.65]
[31300,5525,6685.25,{"$f":"VLOOKUP(A316,'Correcties op staffel'!$A$5:$C$10,2)","v":0},{"$f":"VLOOKUP(A316,'Correcties op staffel'!$A$5:$C$10,3)","v":0},{"$f":"F315+'kosten tabel 2016'!$G$2","v":5862.2931034482781},null,31300,5862,7093.0199999999995,null,31300,5865,7096.65]
[31400,5525,6685.25,{"$f":"VLOOKUP(A317,'Correcties op staffel'!$A$5:$C$10,2)","v":0},{"$f":"VLOOKUP(A317,'Correcties op staffel'!$A$5:$C$10,3)","v":0},{"$f":"F316+'kosten tabel 2016'!$G$2","v":5863.7068965517265},null,31400,5864,7095.44,null,31400,5865,7096.65]
[31500,5525,6685.25,{"$f":"VLOOKUP(A318,'Correcties op staffel'!$A$5:$C$10,2)","v":0},{"$f":"VLOOKUP(A318,'Correcties op staffel'!$A$5:$C$10,3)","v":0},{"$f":"F317+'kosten tabel 2016'!$G$2","v":5865.1206896551748},null,31500,5865,7096.65,null,31500,5865,7096.65]
[31600,5525,6685.25,{"$f":"VLOOKUP(A319,'Correcties op staffel'!$A$5:$C$10,2)","v":0},{"$f":"VLOOKUP(A319,'Correcties op staffel'!$A$5:$C$10,3)","v":0},{"$f":"F318+'kosten tabel 2016'!$G$2","v":5866.5344827586232},null,31600,5867,7099.07,null,31600,5870,7102.7]
[31700,5525,6685.25,{"$f":"VLOOKUP(A320,'Correcties op staffel'!$A$5:$C$10,2)","v":0},{"$f":"VLOOKUP(A320,'Correcties op staffel'!$A$5:$C$10,3)","v":0},{"$f":"F319+'kosten tabel 2016'!$G$2","v":5867.9482758620716},null,31700,5868,7100.28,null,31700,5870,7102.7]
[31800,5525,6685.25,{"$f":"VLOOKUP(A321,'Correcties op staffel'!$A$5:$C$10,2)","v":0},{"$f":"VLOOKUP(A321,'Correcties op staffel'!$A$5:$C$10,3)","v":0},{"$f":"F320+'kosten tabel 2016'!$G$2","v":5869.3620689655199},null,31800,5869,7101.49,null,31800,5870,7102.7]
[31900,5525,6685.25,{"$f":"VLOOKUP(A322,'Correcties op staffel'!$A$5:$C$10,2)","v":0},{"$f":"VLOOKUP(A322,'Correcties op staffel'!$A$5:$C$10,3)","v":0},{"$f":"F321+'kosten tabel 2016'!$G$2","v":5870.7758620689683},null,31900,5871,7103.91,null,31900,5875,7108.75]
[32000,5625,6806.25,{"$f":"VLOOKUP(A323,'Correcties op staffel'!$A$5:$C$10,2)","v":0},{"$f":"VLOOKUP(A323,'Correcties op staffel'!$A$5:$C$10,3)","v":0},{"$f":"F322+'kosten tabel 2016'!$G$2","v":5872.1896551724167},null,32000,5872,7105.12,null,32000,5875,7108.75]
[32100,5625,6806.25,{"$f":"VLOOKUP(A324,'Correcties op staffel'!$A$5:$C$10,2)","v":0},{"$f":"VLOOKUP(A324,'Correcties op staffel'!$A$5:$C$10,3)","v":0},{"$f":"F323+'kosten tabel 2016'!$G$2","v":5873.603448275865},null,32100,{"$f":"ROUND(F324,0)","v":5874},7107.54,null,32100,5875,7108.75]
[32200,5625,6806.25,{"$f":"VLOOKUP(A325,'Correcties op staffel'!$A$5:$C$10,2)","v":0},{"$f":"VLOOKUP(A325,'Correcties op staffel'!$A$5:$C$10,3)","v":0},{"$f":"F324+'kosten tabel 2016'!$G$2","v":5875.0172413793134},null,32200,5875,{"$f":"I325*1.21","v":7108.75},null,32200,{"$f":"IF(ROUND(I325/5,0)*5<I325,ROUND(I325/5,0)*5+5,ROUND(I325/5,0)*5)","v":5875},{"$f":"M325*1.21","v":7108.75}]
[32300,5625,6806.25,{"$f":"VLOOKUP(A326,'Correcties op staffel'!$A$5:$C$10,2)","v":0},{"$f":"VLOOKUP(A326,'Correcties op staffel'!$A$5:$C$10,3)","v":0},{"$f":"F325+'kosten tabel 2016'!$G$2","v":5876.4310344827618},null,32300,5876,7109.96,null,32300,5880,7114.8]
[32400,5625,6806.25,{"$f":"VLOOKUP(A327,'Correcties op staffel'!$A$5:$C$10,2)","v":0},{"$f":"VLOOKUP(A327,'Correcties op staffel'!$A$5:$C$10,3)","v":0},{"$f":"F326+'kosten tabel 2016'!$G$2","v":5877.8448275862102},null,32400,5878,7112.38,null,32400,5880,7114.8]
[32500,5625,6806.25,{"$f":"VLOOKUP(A328,'Correcties op staffel'!$A$5:$C$10,2)","v":0},{"$f":"VLOOKUP(A328,'Correcties op staffel'!$A$5:$C$10,3)","v":0},{"$f":"F327+'kosten tabel 2016'!$G$2","v":5879.2586206896585},null,32500,5879,7113.59,null,32500,5880,7114.8]
[32600,5625,6806.25,{"$f":"VLOOKUP(A329,'Correcties op staffel'!$A$5:$C$10,2)","v":0},{"$f":"VLOOKUP(A329,'Correcties op staffel'!$A$5:$C$10,3)","v":0},{"$f":"F328+'kosten tabel 2016'!$G$2","v":5880.6724137931069},null,32600,5881,7116.01,null,32600,5885,7120.8499999999995]
[{"$f":"A329+100","v":32700},5625,6806.25,{"$f":"VLOOKUP(A330,'Correcties op staffel'!$A$5:$C$10,2)","v":0},{"$f":"VLOOKUP(A330,'Correcties op staffel'!$A$5:$C$10,3)","v":0},{"$f":"F329+'kosten tabel 2016'!$G$2","v":5882.0862068965553},null,{"$f":"H329+100","v":32700},5882,7117.2199999999993,null,32700,5885,7120.8499999999995]
[32800,5625,6806.25,{"$f":"VLOOKUP(A331,'Correcties op staffel'!$A$5:$C$10,2)","v":0},{"$f":"VLOOKUP(A331,'Correcties op staffel'!$A$5:$C$10,3)","v":0},{"$f":"F330+'kosten tabel 2016'!$G$2","v":5883.5000000000036},null,32800,5884,7119.6399999999994,null,32800,5885,7120.8499999999995]
[32900,5625,6806.25,{"$f":"VLOOKUP(A332,'Correcties op staffel'!$A$5:$C$10,2)","v":0},{"$f":"VLOOKUP(A332,'Correcties op staffel'!$A$5:$C$10,3)","v":0},{"$f":"F331+'kosten tabel 2016'!$G$2","v":5884.913793103452},null,32900,5885,7120.8499999999995,null,32900,5885,7120.8499999999995]
[33000,5625,6806.25,{"$f":"VLOOKUP(A333,'Correcties op staffel'!$A$5:$C$10,2)","v":0},{"$f":"VLOOKUP(A333,'Correcties op staffel'!$A$5:$C$10,3)","v":0},{"$f":"F332+'kosten tabel 2016'!$G$2","v":5886.3275862069004},null,33000,5886,7122.0599999999995,null,33000,5890,7126.9]
[33100,5625,6806.25,{"$f":"VLOOKUP(A334,'Correcties op staffel'!$A$5:$C$10,2)","v":0},{"$f":"VLOOKUP(A334,'Correcties op staffel'!$A$5:$C$10,3)","v":0},{"$f":"F333+'kosten tabel 2016'!$G$2","v":5887.7413793103487},null,33100,5888,7124.48,null,33100,5890,7126.9]
[33200,5725,6927.25,{"$f":"VLOOKUP(A335,'Correcties op staffel'!$A$5:$C$10,2)","v":0},{"$f":"VLOOKUP(A335,'Correcties op staffel'!$A$5:$C$10,3)","v":0},{"$f":"F334+'kosten tabel 2016'!$G$2","v":5889.1551724137971},null,33200,5889,7125.69,null,33200,5890,7126.9]
[{"$f":"A335+100","v":33300},5725,6927.25,{"$f":"VLOOKUP(A336,'Correcties op staffel'!$A$5:$C$10,2)","v":0},{"$f":"VLOOKUP(A336,'Correcties op staffel'!$A$5:$C$10,3)","v":0},{"$f":"F335+'kosten tabel 2016'!$G$2","v":5890.5689655172455},null,33300,5891,7128.11,null,33300,5895,7132.95]
[33400,5725,6927.25,{"$f":"VLOOKUP(A337,'Correcties op staffel'!$A$5:$C$10,2)","v":0},{"$f":"VLOOKUP(A337,'Correcties op staffel'!$A$5:$C$10,3)","v":0},{"$f":"F336+'kosten tabel 2016'!$G$2","v":5891.9827586206939},null,33400,5892,7129.32,null,33400,5895,7132.95]
[33500,5725,6927.25,{"$f":"VLOOKUP(A338,'Correcties op staffel'!$A$5:$C$10,2)","v":0},{"$f":"VLOOKUP(A338,'Correcties op staffel'!$A$5:$C$10,3)","v":0},{"$f":"F337+'kosten tabel 2016'!$G$2","v":5893.3965517241422},null,33500,5893,7130.53,null,33500,5895,7132.95]
[33600,5725,6927.25,{"$f":"VLOOKUP(A339,'Correcties op staffel'!$A$5:$C$10,2)","v":0},{"$f":"VLOOKUP(A339,'Correcties op staffel'!$A$5:$C$10,3)","v":0},{"$f":"F338+'kosten tabel 2016'!$G$2","v":5894.8103448275906},null,33600,5895,7132.95,null,33600,5895,7132.95]
[33700,5725,6927.25,{"$f":"VLOOKUP(A340,'Correcties op staffel'!$A$5:$C$10,2)","v":0},{"$f":"VLOOKUP(A340,'Correcties op staffel'!$A$5:$C$10,3)","v":0},{"$f":"F339+'kosten tabel 2016'!$G$2","v":5896.224137931039},null,33700,5896,7134.16,null,33700,5900,7139]
[33800,5725,6927.25,{"$f":"VLOOKUP(A341,'Correcties op staffel'!$A$5:$C$10,2)","v":0},{"$f":"VLOOKUP(A341,'Correcties op staffel'!$A$5:$C$10,3)","v":0},{"$f":"F340+'kosten tabel 2016'!$G$2","v":5897.6379310344873},null,33800,5898,7136.58,null,33800,5900,7139]
[33900,5725,6927.25,{"$f":"VLOOKUP(A342,'Correcties op staffel'!$A$5:$C$10,2)","v":0},{"$f":"VLOOKUP(A342,'Correcties op staffel'!$A$5:$C$10,3)","v":0},{"$f":"F341+'kosten tabel 2016'!$G$2","v":5899.0517241379357},null,33900,5899,7137.79,null,33900,5900,7139]
[34000,5725,6927.25,{"$f":"VLOOKUP(A343,'Correcties op staffel'!$A$5:$C$10,2)","v":0},{"$f":"VLOOKUP(A343,'Correcties op staffel'!$A$5:$C$10,3)","v":0},{"$f":"F342+'kosten tabel 2016'!$G$2","v":5900.4655172413841},null,34000,5900,7139,null,34000,5900,7139]
[34100,5725,6927.25,{"$f":"VLOOKUP(A344,'Correcties op staffel'!$A$5:$C$10,2)","v":0},{"$f":"VLOOKUP(A344,'Correcties op staffel'!$A$5:$C$10,3)","v":0},{"$f":"F343+'kosten tabel 2016'!$G$2","v":5901.8793103448324},null,34100,5902,7141.42,null,34100,5905,7145.05]
[34200,5725,6927.25,{"$f":"VLOOKUP(A345,'Correcties op staffel'!$A$5:$C$10,2)","v":0},{"$f":"VLOOKUP(A345,'Correcties op staffel'!$A$5:$C$10,3)","v":0},{"$f":"F344+'kosten tabel 2016'!$G$2","v":5903.2931034482808},null,34200,5903,7142.63,null,34200,5905,7145.05]
[34300,5725,6927.25,{"$f":"VLOOKUP(A346,'Correcties op staffel'!$A$5:$C$10,2)","v":0},{"$f":"VLOOKUP(A346,'Correcties op staffel'!$A$5:$C$10,3)","v":0},{"$f":"F345+'kosten tabel 2016'!$G$2","v":5904.7068965517292},null,34300,5905,7145.05,null,34300,5905,7145.05]
[34400,5825,7048.25,{"$f":"VLOOKUP(A347,'Correcties op staffel'!$A$5:$C$10,2)","v":0},{"$f":"VLOOKUP(A347,'Correcties op staffel'!$A$5:$C$10,3)","v":0},{"$f":"F346+'kosten tabel 2016'!$G$2","v":5906.1206896551776},null,34400,5906,7146.26,null,34400,5910,7151.0999999999995]
[34500,5825,7048.25,{"$f":"VLOOKUP(A348,'Correcties op staffel'!$A$5:$C$10,2)","v":0},{"$f":"VLOOKUP(A348,'Correcties op staffel'!$A$5:$C$10,3)","v":0},{"$f":"F347+'kosten tabel 2016'!$G$2","v":5907.5344827586259},null,34500,5908,7148.6799999999994,null,34500,5910,7151.0999999999995]
[34600,5825,7048.25,{"$f":"VLOOKUP(A349,'Correcties op staffel'!$A$5:$C$10,2)","v":0},{"$f":"VLOOKUP(A349,'Correcties op staffel'!$A$5:$C$10,3)","v":0},{"$f":"F348+'kosten tabel 2016'!$G$2","v":5908.9482758620743},null,34600,5909,7149.8899999999994,null,34600,5910,7151.0999999999995]
[34700,5825,7048.25,{"$f":"VLOOKUP(A350,'Correcties op staffel'!$A$5:$C$10,2)","v":0},{"$f":"VLOOKUP(A350,'Correcties op staffel'!$A$5:$C$10,3)","v":0},{"$f":"F349+'kosten tabel 2016'!$G$2","v":5910.3620689655227},null,34700,5910,7151.0999999999995,null,34700,5910,7151.0999999999995]
[34800,5825,7048.25,{"$f":"VLOOKUP(A351,'Correcties op staffel'!$A$5:$C$10,2)","v":0},{"$f":"VLOOKUP(A351,'Correcties op staffel'!$A$5:$C$10,3)","v":0},{"$f":"F350+'kosten tabel 2016'!$G$2","v":5911.775862068971},null,34800,5912,7153.5199999999995,null,34800,5915,7157.15]
[34900,5825,7048.25,{"$f":"VLOOKUP(A352,'Correcties op staffel'!$A$5:$C$10,2)","v":0},{"$f":"VLOOKUP(A352,'Correcties op staffel'!$A$5:$C$10,3)","v":0},{"$f":"F351+'kosten tabel 2016'!$G$2","v":5913.1896551724194},null,34900,5913,7154.73,null,34900,5915,7157.15]
[35000,5825,7048.25,{"$f":"VLOOKUP(A353,'Correcties op staffel'!$A$5:$C$10,2)","v":0},{"$f":"VLOOKUP(A353,'Correcties op staffel'!$A$5:$C$10,3)","v":0},{"$f":"F352+'kosten tabel 2016'!$G$2","v":5914.6034482758678},null,35000,5915,7157.15,null,35000,5915,7157.15]
[35100,5825,7048.25,{"$f":"VLOOKUP(A354,'Correcties op staffel'!$A$5:$C$10,2)","v":0},{"$f":"VLOOKUP(A354,'Correcties op staffel'!$A$5:$C$10,3)","v":0},{"$f":"F353+'kosten tabel 2016'!$G$2","v":5916.0172413793161},null,35100,5916,7158.36,null,35100,5920,7163.2]
[35200,5825,7048.25,{"$f":"VLOOKUP(A355,'Correcties op staffel'!$A$5:$C$10,2)","v":0},{"$f":"VLOOKUP(A355,'Correcties op staffel'!$A$5:$C$10,3)","v":0},{"$f":"F354+'kosten tabel 2016'!$G$2","v":5917.4310344827645},null,35200,5917,7159.57,null,35200,5920,7163.2]
[35300,5825,7048.25,{"$f":"VLOOKUP(A356,'Correcties op staffel'!$A$5:$C$10,2)","v":0},{"$f":"VLOOKUP(A356,'Correcties op staffel'!$A$5:$C$10,3)","v":0},{"$f":"F355+'kosten tabel 2016'!$G$2","v":5918.8448275862129},null,35300,5919,7161.99,null,35300,5920,7163.2]
[35400,5825,7048.25,{"$f":"VLOOKUP(A357,'Correcties op staffel'!$A$5:$C$10,2)","v":0},{"$f":"VLOOKUP(A357,'Correcties op staffel'!$A$5:$C$10,3)","v":0},{"$f":"F356+'kosten tabel 2016'!$G$2","v":5920.2586206896613},null,35400,5920,7163.2,null,35400,5920,7163.2]
[35500,5825,7048.25,{"$f":"VLOOKUP(A358,'Correcties op staffel'!$A$5:$C$10,2)","v":0},{"$f":"VLOOKUP(A358,'Correcties op staffel'!$A$5:$C$10,3)","v":0},{"$f":"F357+'kosten tabel 2016'!$G$2","v":5921.6724137931096},null,35500,5922,7165.62,null,35500,5925,7169.25]
[35600,5825,7048.25,{"$f":"VLOOKUP(A359,'Correcties op staffel'!$A$5:$C$10,2)","v":0},{"$f":"VLOOKUP(A359,'Correcties op staffel'!$A$5:$C$10,3)","v":0},{"$f":"F358+'kosten tabel 2016'!$G$2","v":5923.086206896558},null,35600,5923,7166.83,null,35600,5925,7169.25]
[35700,5925,7169.25,{"$f":"VLOOKUP(A360,'Correcties op staffel'!$A$5:$C$10,2)","v":0},{"$f":"VLOOKUP(A360,'Correcties op staffel'!$A$5:$C$10,3)","v":0},{"$f":"B360*(1+D360)+E360","v":5925},null,35700,5925,7169.25,null,35700,5925,7169.25]
[35800,5925,7169.25,{"$f":"VLOOKUP(A361,'Correcties op staffel'!$A$5:$C$10,2)","v":0},{"$f":"VLOOKUP(A361,'Correcties op staffel'!$A$5:$C$10,3)","v":0},{"$f":"B361*(1+D361)+E361","v":5925},null,35800,5925,7169.25,null,35800,5925,7169.25]
[35900,5925,7169.25,{"$f":"VLOOKUP(A362,'Correcties op staffel'!$A$5:$C$10,2)","v":0},{"$f":"VLOOKUP(A362,'Correcties op staffel'!$A$5:$C$10,3)","v":0},5925,null,35900,5925,7169.25,null,35900,5925,7169.25]
[36000,5925,7169.25,{"$f":"VLOOKUP(A363,'Correcties op staffel'!$A$5:$C$10,2)","v":0},{"$f":"VLOOKUP(A363,'Correcties op staffel'!$A$5:$C$10,3)","v":0},5925,null,36000,5925,7169.25,null,36000,5925,7169.25]
[36100,5925,7169.25,{"$f":"VLOOKUP(A364,'Correcties op staffel'!$A$5:$C$10,2)","v":0},{"$f":"VLOOKUP(A364,'Correcties op staffel'!$A$5:$C$10,3)","v":0},5925,null,36100,5925,7169.25,null,36100,5925,7169.25]
[36200,5925,7169.25,{"$f":"VLOOKUP(A365,'Correcties op staffel'!$A$5:$C$10,2)","v":0},{"$f":"VLOOKUP(A365,'Correcties op staffel'!$A$5:$C$10,3)","v":0},5925,null,36200,5925,7169.25,null,36200,5925,7169.25]
[36300,5925,7169.25,{"$f":"VLOOKUP(A366,'Correcties op staffel'!$A$5:$C$10,2)","v":0},{"$f":"VLOOKUP(A366,'Correcties op staffel'!$A$5:$C$10,3)","v":0},5925,null,36300,5925,7169.25,null,36300,5925,7169.25]
[36400,5925,7169.25,{"$f":"VLOOKUP(A367,'Correcties op staffel'!$A$5:$C$10,2)","v":0},{"$f":"VLOOKUP(A367,'Correcties op staffel'!$A$5:$C$10,3)","v":0},5925,null,36400,5925,7169.25,null,36400,5925,7169.25]
[36500,5925,7169.25,{"$f":"VLOOKUP(A368,'Correcties op staffel'!$A$5:$C$10,2)","v":0},{"$f":"VLOOKUP(A368,'Correcties op staffel'!$A$5:$C$10,3)","v":0},5925,null,36500,5925,7169.25,null,36500,5925,7169.25]
[36600,5925,7169.25,{"$f":"VLOOKUP(A369,'Correcties op staffel'!$A$5:$C$10,2)","v":0},{"$f":"VLOOKUP(A369,'Correcties op staffel'!$A$5:$C$10,3)","v":0},5925,null,36600,5925,7169.25,null,36600,5925,7169.25]
[36700,5925,7169.25,{"$f":"VLOOKUP(A370,'Correcties op staffel'!$A$5:$C$10,2)","v":0},{"$f":"VLOOKUP(A370,'Correcties op staffel'!$A$5:$C$10,3)","v":0},5925,null,36700,5925,7169.25,null,36700,5925,7169.25]
[36800,5925,7169.25,{"$f":"VLOOKUP(A371,'Correcties op staffel'!$A$5:$C$10,2)","v":0},{"$f":"VLOOKUP(A371,'Correcties op staffel'!$A$5:$C$10,3)","v":0},5925,null,36800,5925,7169.25,null,36800,5925,7169.25]
[36900,5925,7169.25,{"$f":"VLOOKUP(A372,'Correcties op staffel'!$A$5:$C$10,2)","v":0},{"$f":"VLOOKUP(A372,'Correcties op staffel'!$A$5:$C$10,3)","v":0},5925,null,36900,5925,7169.25,null,36900,5925,7169.25]
[37000,6025,7290.25,{"$f":"VLOOKUP(A373,'Correcties op staffel'!$A$5:$C$10,2)","v":0},{"$f":"VLOOKUP(A373,'Correcties op staffel'!$A$5:$C$10,3)","v":0},6025,null,37000,6025,7290.25,null,37000,6025,7290.25]
[37100,6025,7290.25,{"$f":"VLOOKUP(A374,'Correcties op staffel'!$A$5:$C$10,2)","v":0},{"$f":"VLOOKUP(A374,'Correcties op staffel'!$A$5:$C$10,3)","v":0},6025,null,37100,6025,7290.25,null,37100,6025,7290.25]
[37200,6025,7290.25,{"$f":"VLOOKUP(A375,'Correcties op staffel'!$A$5:$C$10,2)","v":0},{"$f":"VLOOKUP(A375,'Correcties op staffel'!$A$5:$C$10,3)","v":0},6025,null,37200,6025,7290.25,null,37200,6025,7290.25]
[37300,6025,7290.25,{"$f":"VLOOKUP(A376,'Correcties op staffel'!$A$5:$C$10,2)","v":0},{"$f":"VLOOKUP(A376,'Correcties op staffel'!$A$5:$C$10,3)","v":0},6025,null,37300,6025,7290.25,null,37300,6025,7290.25]
[37400,6025,7290.25,{"$f":"VLOOKUP(A377,'Correcties op staffel'!$A$5:$C$10,2)","v":0},{"$f":"VLOOKUP(A377,'Correcties op staffel'!$A$5:$C$10,3)","v":0},6025,null,37400,6025,7290.25,null,37400,6025,7290.25]
[37500,6025,7290.25,{"$f":"VLOOKUP(A378,'Correcties op staffel'!$A$5:$C$10,2)","v":0},{"$f":"VLOOKUP(A378,'Correcties op staffel'!$A$5:$C$10,3)","v":0},6025,null,37500,6025,7290.25,null,37500,6025,7290.25]
[37600,6025,7290.25,{"$f":"VLOOKUP(A379,'Correcties op staffel'!$A$5:$C$10,2)","v":0},{"$f":"VLOOKUP(A379,'Correcties op staffel'!$A$5:$C$10,3)","v":0},6025,null,37600,6025,7290.25,null,37600,6025,7290.25]
[37700,6025,7290.25,{"$f":"VLOOKUP(A380,'Correcties op staffel'!$A$5:$C$10,2)","v":0},{"$f":"VLOOKUP(A380,'Correcties op staffel'!$A$5:$C$10,3)","v":0},6025,null,37700,6025,7290.25,null,37700,6025,7290.25]
[37800,6025,7290.25,{"$f":"VLOOKUP(A381,'Correcties op staffel'!$A$5:$C$10,2)","v":0},{"$f":"VLOOKUP(A381,'Correcties op staffel'!$A$5:$C$10,3)","v":0},6025,null,37800,6025,7290.25,null,37800,6025,7290.25]
[37900,6025,7290.25,{"$f":"VLOOKUP(A382,'Correcties op staffel'!$A$5:$C$10,2)","v":0},{"$f":"VLOOKUP(A382,'Correcties op staffel'!$A$5:$C$10,3)","v":0},6025,null,37900,6025,7290.25,null,37900,6025,7290.25]
[38000,6025,7290.25,{"$f":"VLOOKUP(A383,'Correcties op staffel'!$A$5:$C$10,2)","v":0},{"$f":"VLOOKUP(A383,'Correcties op staffel'!$A$5:$C$10,3)","v":0},6025,null,38000,6025,7290.25,null,38000,6025,7290.25]
[38100,6025,7290.25,{"$f":"VLOOKUP(A384,'Correcties op staffel'!$A$5:$C$10,2)","v":0},{"$f":"VLOOKUP(A384,'Correcties op staffel'!$A$5:$C$10,3)","v":0},6025,null,38100,6025,7290.25,null,38100,6025,7290.25]
[38200,6025,7290.25,{"$f":"VLOOKUP(A385,'Correcties op staffel'!$A$5:$C$10,2)","v":0},{"$f":"VLOOKUP(A385,'Correcties op staffel'!$A$5:$C$10,3)","v":0},6025,null,38200,6025,7290.25,null,38200,6025,7290.25]
[38300,6125,7411.25,{"$f":"VLOOKUP(A386,'Correcties op staffel'!$A$5:$C$10,2)","v":0},{"$f":"VLOOKUP(A386,'Correcties op staffel'!$A$5:$C$10,3)","v":0},6125,null,38300,6125,7411.25,null,38300,6125,7411.25]
[38400,6125,7411.25,{"$f":"VLOOKUP(A387,'Correcties op staffel'!$A$5:$C$10,2)","v":0},{"$f":"VLOOKUP(A387,'Correcties op staffel'!$A$5:$C$10,3)","v":0},6125,null,38400,6125,7411.25,null,38400,6125,7411.25]
[38500,6125,7411.25,{"$f":"VLOOKUP(A388,'Correcties op staffel'!$A$5:$C$10,2)","v":0},{"$f":"VLOOKUP(A388,'Correcties op staffel'!$A$5:$C$10,3)","v":0},{"$f":"B388*(1+D388)+E388","v":6125},null,38500,{"$f":"ROUND(F388,0)","v":6125},7411.25,null,38500,6125,7411.25]
[38600,6125,7411.25,{"$f":"VLOOKUP(A389,'Correcties op staffel'!$A$5:$C$10,2)","v":0},{"$f":"VLOOKUP(A389,'Correcties op staffel'!$A$5:$C$10,3)","v":0},6125,null,38600,6125,{"$f":"I389*1.21","v":7411.25},null,38600,{"$f":"IF(ROUND(I389/5,0)*5<I389,ROUND(I389/5,0)*5+5,ROUND(I389/5,0)*5)","v":6125},{"$f":"M389*1.21","v":7411.25}]
[38700,6125,7411.25,{"$f":"VLOOKUP(A390,'Correcties op staffel'!$A$5:$C$10,2)","v":0},{"$f":"VLOOKUP(A390,'Correcties op staffel'!$A$5:$C$10,3)","v":0},6125,null,38700,6125,7411.25,null,38700,6125,7411.25]
[38800,6125,7411.25,{"$f":"VLOOKUP(A391,'Correcties op staffel'!$A$5:$C$10,2)","v":0},{"$f":"VLOOKUP(A391,'Correcties op staffel'!$A$5:$C$10,3)","v":0},6125,null,38800,6125,7411.25,null,38800,6125,7411.25]
[38900,6125,7411.25,{"$f":"VLOOKUP(A392,'Correcties op staffel'!$A$5:$C$10,2)","v":0},{"$f":"VLOOKUP(A392,'Correcties op staffel'!$A$5:$C$10,3)","v":0},6125,null,38900,6125,7411.25,null,38900,6125,7411.25]
[39000,6125,7411.25,{"$f":"VLOOKUP(A393,'Correcties op staffel'!$A$5:$C$10,2)","v":0},{"$f":"VLOOKUP(A393,'Correcties op staffel'!$A$5:$C$10,3)","v":0},6125,null,39000,6125,7411.25,null,39000,6125,7411.25]
[39100,6125,7411.25,{"$f":"VLOOKUP(A394,'Correcties op staffel'!$A$5:$C$10,2)","v":0},{"$f":"VLOOKUP(A394,'Correcties op staffel'!$A$5:$C$10,3)","v":0},6125,null,{"$f":"H393+100","v":39100},6125,7411.25,null,39100,6125,7411.25]
[39200,6125,7411.25,{"$f":"VLOOKUP(A395,'Correcties op staffel'!$A$5:$C$10,2)","v":0},{"$f":"VLOOKUP(A395,'Correcties op staffel'!$A$5:$C$10,3)","v":0},6125,null,39200,6125,7411.25,null,39200,6125,7411.25]
[39300,6125,7411.25,{"$f":"VLOOKUP(A396,'Correcties op staffel'!$A$5:$C$10,2)","v":0},{"$f":"VLOOKUP(A396,'Correcties op staffel'!$A$5:$C$10,3)","v":0},6125,null,39300,6125,7411.25,null,39300,6125,7411.25]
[39400,6125,7411.25,{"$f":"VLOOKUP(A397,'Correcties op staffel'!$A$5:$C$10,2)","v":0},{"$f":"VLOOKUP(A397,'Correcties op staffel'!$A$5:$C$10,3)","v":0},6125,null,39400,6125,7411.25,null,39400,6125,7411.25]
[39500,6125,7411.25,{"$f":"VLOOKUP(A398,'Correcties op staffel'!$A$5:$C$10,2)","v":0},{"$f":"VLOOKUP(A398,'Correcties op staffel'!$A$5:$C$10,3)","v":0},6125,null,39500,6125,7411.25,null,39500,6125,7411.25]
[39600,6125,7411.25,{"$f":"VLOOKUP(A399,'Correcties op staffel'!$A$5:$C$10,2)","v":0},{"$f":"VLOOKUP(A399,'Correcties op staffel'!$A$5:$C$10,3)","v":0},6125,null,39600,6125,7411.25,null,39600,6125,7411.25]
[{"$f":"A399+100","v":39700},6225,7532.25,{"$f":"VLOOKUP(A400,'Correcties op staffel'!$A$5:$C$10,2)","v":0},{"$f":"VLOOKUP(A400,'Correcties op staffel'!$A$5:$C$10,3)","v":0},6225,null,39700,6225,7532.25,null,39700,6225,7532.25]
[39800,6225,7532.25,{"$f":"VLOOKUP(A401,'Correcties op staffel'!$A$5:$C$10,2)","v":0},{"$f":"VLOOKUP(A401,'Correcties op staffel'!$A$5:$C$10,3)","v":0},6225,null,39800,6225,7532.25,null,39800,6225,7532.25]
[39900,6225,7532.25,{"$f":"VLOOKUP(A402,'Correcties op staffel'!$A$5:$C$10,2)","v":0},{"$f":"VLOOKUP(A402,'Correcties op staffel'!$A$5:$C$10,3)","v":0},6225,null,39900,6225,7532.25,null,39900,6225,7532.25]
[40000,6225,7532.25,{"$f":"VLOOKUP(A403,'Correcties op staffel'!$A$5:$C$10,2)","v":0},{"$f":"VLOOKUP(A403,'Correcties op staffel'!$A$5:$C$10,3)","v":0},6225,null,40000,6225,7532.25,null,40000,6225,7532.25]
[40100,6225,7532.25,{"$f":"VLOOKUP(A404,'Correcties op staffel'!$A$5:$C$10,2)","v":0},{"$f":"VLOOKUP(A404,'Correcties op staffel'!$A$5:$C$10,3)","v":0},6225,null,40100,6225,7532.25,null,40100,6225,7532.25]
[40200,6225,7532.25,{"$f":"VLOOKUP(A405,'Correcties op staffel'!$A$5:$C$10,2)","v":0},{"$f":"VLOOKUP(A405,'Correcties op staffel'!$A$5:$C$10,3)","v":0},6225,null,40200,6225,7532.25,null,40200,6225,7532.25]
[40300,6225,7532.25,{"$f":"VLOOKUP(A406,'Correcties op staffel'!$A$5:$C$10,2)","v":0},{"$f":"VLOOKUP(A406,'Correcties op staffel'!$A$5:$C$10,3)","v":0},6225,null,40300,6225,7532.25,null,40300,6225,7532.25]
[40400,6225,7532.25,{"$f":"VLOOKUP(A407,'Correcties op staffel'!$A$5:$C$10,2)","v":0},{"$f":"VLOOKUP(A407,'Correcties op staffel'!$A$5:$C$10,3)","v":0},6225,null,40400,6225,7532.25,null,40400,6225,7532.25]
[40500,6225,7532.25,{"$f":"VLOOKUP(A408,'Correcties op staffel'!$A$5:$C$10,2)","v":0},{"$f":"VLOOKUP(A408,'Correcties op staffel'!$A$5:$C$10,3)","v":0},6225,null,40500,6225,7532.25,null,40500,6225,7532.25]
[40600,6225,7532.25,{"$f":"VLOOKUP(A409,'Correcties op staffel'!$A$5:$C$10,2)","v":0},{"$f":"VLOOKUP(A409,'Correcties op staffel'!$A$5:$C$10,3)","v":0},6225,null,40600,6225,7532.25,null,40600,6225,7532.25]
[40700,6225,7532.25,{"$f":"VLOOKUP(A410,'Correcties op staffel'!$A$5:$C$10,2)","v":0},{"$f":"VLOOKUP(A410,'Correcties op staffel'!$A$5:$C$10,3)","v":0},6225,null,40700,6225,7532.25,null,40700,6225,7532.25]
[40800,6225,7532.25,{"$f":"VLOOKUP(A411,'Correcties op staffel'!$A$5:$C$10,2)","v":0},{"$f":"VLOOKUP(A411,'Correcties op staffel'!$A$5:$C$10,3)","v":0},6225,null,40800,6225,7532.25,null,40800,6225,7532.25]
[40900,6225,7532.25,{"$f":"VLOOKUP(A412,'Correcties op staffel'!$A$5:$C$10,2)","v":0},{"$f":"VLOOKUP(A412,'Correcties op staffel'!$A$5:$C$10,3)","v":0},6225,null,40900,6225,7532.25,null,40900,6225,7532.25]
[41000,6325,7653.25,{"$f":"VLOOKUP(A413,'Correcties op staffel'!$A$5:$C$10,2)","v":0},{"$f":"VLOOKUP(A413,'Correcties op staffel'!$A$5:$C$10,3)","v":0},6325,null,41000,6325,7653.25,null,41000,6325,7653.25]
[41100,6325,7653.25,{"$f":"VLOOKUP(A414,'Correcties op staffel'!$A$5:$C$10,2)","v":0},{"$f":"VLOOKUP(A414,'Correcties op staffel'!$A$5:$C$10,3)","v":0},6325,null,41100,6325,7653.25,null,41100,6325,7653.25]
[41200,6325,7653.25,{"$f":"VLOOKUP(A415,'Correcties op staffel'!$A$5:$C$10,2)","v":0},{"$f":"VLOOKUP(A415,'Correcties op staffel'!$A$5:$C$10,3)","v":0},6325,null,41200,6325,7653.25,null,41200,6325,7653.25]
[41300,6325,7653.25,{"$f":"VLOOKUP(A416,'Correcties op staffel'!$A$5:$C$10,2)","v":0},{"$f":"VLOOKUP(A416,'Correcties op staffel'!$A$5:$C$10,3)","v":0},6325,null,41300,6325,7653.25,null,41300,6325,7653.25]
[41400,6325,7653.25,{"$f":"VLOOKUP(A417,'Correcties op staffel'!$A$5:$C$10,2)","v":0},{"$f":"VLOOKUP(A417,'Correcties op staffel'!$A$5:$C$10,3)","v":0},6325,null,41400,6325,7653.25,null,41400,6325,7653.25]
[41500,6325,7653.25,{"$f":"VLOOKUP(A418,'Correcties op staffel'!$A$5:$C$10,2)","v":0},{"$f":"VLOOKUP(A418,'Correcties op staffel'!$A$5:$C$10,3)","v":0},6325,null,41500,6325,7653.25,null,41500,6325,7653.25]
[41600,6325,7653.25,{"$f":"VLOOKUP(A419,'Correcties op staffel'!$A$5:$C$10,2)","v":0},{"$f":"VLOOKUP(A419,'Correcties op staffel'!$A$5:$C$10,3)","v":0},6325,null,41600,6325,7653.25,null,41600,6325,7653.25]
[41700,6325,7653.25,{"$f":"VLOOKUP(A420,'Correcties op staffel'!$A$5:$C$10,2)","v":0},{"$f":"VLOOKUP(A420,'Correcties op staffel'!$A$5:$C$10,3)","v":0},6325,null,41700,6325,7653.25,null,41700,6325,7653.25]
[41800,6325,7653.25,{"$f":"VLOOKUP(A421,'Correcties op staffel'!$A$5:$C$10,2)","v":0},{"$f":"VLOOKUP(A421,'Correcties op staffel'!$A$5:$C$10,3)","v":0},6325,null,41800,6325,7653.25,null,41800,6325,7653.25]
[41900,6325,7653.25,{"$f":"VLOOKUP(A422,'Correcties op staffel'!$A$5:$C$10,2)","v":0},{"$f":"VLOOKUP(A422,'Correcties op staffel'!$A$5:$C$10,3)","v":0},6325,null,41900,6325,7653.25,null,41900,6325,7653.25]
[42000,6325,7653.25,{"$f":"VLOOKUP(A423,'Correcties op staffel'!$A$5:$C$10,2)","v":0},{"$f":"VLOOKUP(A423,'Correcties op staffel'!$A$5:$C$10,3)","v":0},6325,null,42000,6325,7653.25,null,42000,6325,7653.25]
[42100,6325,7653.25,{"$f":"VLOOKUP(A424,'Correcties op staffel'!$A$5:$C$10,2)","v":0},{"$f":"VLOOKUP(A424,'Correcties op staffel'!$A$5:$C$10,3)","v":0},6325,null,42100,6325,7653.25,null,42100,6325,7653.25]
[42200,6325,7653.25,{"$f":"VLOOKUP(A425,'Correcties op staffel'!$A$5:$C$10,2)","v":0},{"$f":"VLOOKUP(A425,'Correcties op staffel'!$A$5:$C$10,3)","v":0},6325,null,42200,6325,7653.25,null,42200,6325,7653.25]
[42300,6325,7653.25,{"$f":"VLOOKUP(A426,'Correcties op staffel'!$A$5:$C$10,2)","v":0},{"$f":"VLOOKUP(A426,'Correcties op staffel'!$A$5:$C$10,3)","v":0},6325,null,42300,6325,7653.25,null,42300,6325,7653.25]
[42400,6425,7774.25,{"$f":"VLOOKUP(A427,'Correcties op staffel'!$A$5:$C$10,2)","v":0},{"$f":"VLOOKUP(A427,'Correcties op staffel'!$A$5:$C$10,3)","v":0},6425,null,42400,6425,7774.25,null,42400,6425,7774.25]
[42500,6425,7774.25,{"$f":"VLOOKUP(A428,'Correcties op staffel'!$A$5:$C$10,2)","v":0},{"$f":"VLOOKUP(A428,'Correcties op staffel'!$A$5:$C$10,3)","v":0},6425,null,42500,6425,7774.25,null,42500,6425,7774.25]
[42600,6425,7774.25,{"$f":"VLOOKUP(A429,'Correcties op staffel'!$A$5:$C$10,2)","v":0},{"$f":"VLOOKUP(A429,'Correcties op staffel'!$A$5:$C$10,3)","v":0},6425,null,42600,6425,7774.25,null,42600,6425,7774.25]
[42700,6425,7774.25,{"$f":"VLOOKUP(A430,'Correcties op staffel'!$A$5:$C$10,2)","v":0},{"$f":"VLOOKUP(A430,'Correcties op staffel'!$A$5:$C$10,3)","v":0},6425,null,42700,6425,7774.25,null,42700,6425,7774.25]
[42800,6425,7774.25,{"$f":"VLOOKUP(A431,'Correcties op staffel'!$A$5:$C$10,2)","v":0},{"$f":"VLOOKUP(A431,'Correcties op staffel'!$A$5:$C$10,3)","v":0},6425,null,42800,6425,7774.25,null,42800,6425,7774.25]
[42900,6425,7774.25,{"$f":"VLOOKUP(A432,'Correcties op staffel'!$A$5:$C$10,2)","v":0},{"$f":"VLOOKUP(A432,'Correcties op staffel'!$A$5:$C$10,3)","v":0},6425,null,42900,6425,7774.25,null,42900,6425,7774.25]
[43000,6425,7774.25,{"$f":"VLOOKUP(A433,'Correcties op staffel'!$A$5:$C$10,2)","v":0},{"$f":"VLOOKUP(A433,'Correcties op staffel'!$A$5:$C$10,3)","v":0},6425,null,43000,6425,7774.25,null,43000,6425,7774.25]
[43100,6425,7774.25,{"$f":"VLOOKUP(A434,'Correcties op staffel'!$A$5:$C$10,2)","v":0},{"$f":"VLOOKUP(A434,'Correcties op staffel'!$A$5:$C$10,3)","v":0},6425,null,43100,6425,7774.25,null,43100,6425,7774.25]
[43200,6425,7774.25,{"$f":"VLOOKUP(A435,'Correcties op staffel'!$A$5:$C$10,2)","v":0},{"$f":"VLOOKUP(A435,'Correcties op staffel'!$A$5:$C$10,3)","v":0},6425,null,43200,6425,7774.25,null,43200,6425,7774.25]
[43300,6425,7774.25,{"$f":"VLOOKUP(A436,'Correcties op staffel'!$A$5:$C$10,2)","v":0},{"$f":"VLOOKUP(A436,'Correcties op staffel'!$A$5:$C$10,3)","v":0},6425,null,43300,6425,7774.25,null,43300,6425,7774.25]
[43400,6425,7774.25,{"$f":"VLOOKUP(A437,'Correcties op staffel'!$A$5:$C$10,2)","v":0},{"$f":"VLOOKUP(A437,'Correcties op staffel'!$A$5:$C$10,3)","v":0},6425,null,43400,6425,7774.25,null,43400,6425,7774.25]
[43500,6425,7774.25,{"$f":"VLOOKUP(A438,'Correcties op staffel'!$A$5:$C$10,2)","v":0},{"$f":"VLOOKUP(A438,'Correcties op staffel'!$A$5:$C$10,3)","v":0},6425,null,43500,6425,7774.25,null,43500,6425,7774.25]
[43600,6425,7774.25,{"$f":"VLOOKUP(A439,'Correcties op staffel'!$A$5:$C$10,2)","v":0},{"$f":"VLOOKUP(A439,'Correcties op staffel'!$A$5:$C$10,3)","v":0},6425,null,43600,6425,7774.25,null,43600,6425,7774.25]
[43700,6425,7774.25,{"$f":"VLOOKUP(A440,'Correcties op staffel'!$A$5:$C$10,2)","v":0},{"$f":"VLOOKUP(A440,'Correcties op staffel'!$A$5:$C$10,3)","v":0},6425,null,43700,6425,7774.25,null,43700,6425,7774.25]
[43800,6525,7895.25,{"$f":"VLOOKUP(A441,'Correcties op staffel'!$A$5:$C$10,2)","v":0},{"$f":"VLOOKUP(A441,'Correcties op staffel'!$A$5:$C$10,3)","v":0},6525,null,43800,6525,7895.25,null,43800,6525,7895.25]
[43900,6525,7895.25,{"$f":"VLOOKUP(A442,'Correcties op staffel'!$A$5:$C$10,2)","v":0},{"$f":"VLOOKUP(A442,'Correcties op staffel'!$A$5:$C$10,3)","v":0},6525,null,43900,6525,7895.25,null,43900,6525,7895.25]
[44000,6525,7895.25,{"$f":"VLOOKUP(A443,'Correcties op staffel'!$A$5:$C$10,2)","v":0},{"$f":"VLOOKUP(A443,'Correcties op staffel'!$A$5:$C$10,3)","v":0},6525,null,44000,6525,7895.25,null,44000,6525,7895.25]
[44100,6525,7895.25,{"$f":"VLOOKUP(A444,'Correcties op staffel'!$A$5:$C$10,2)","v":0},{"$f":"VLOOKUP(A444,'Correcties op staffel'!$A$5:$C$10,3)","v":0},6525,null,44100,6525,7895.25,null,44100,6525,7895.25]
[44200,6525,7895.25,{"$f":"VLOOKUP(A445,'Correcties op staffel'!$A$5:$C$10,2)","v":0},{"$f":"VLOOKUP(A445,'Correcties op staffel'!$A$5:$C$10,3)","v":0},6525,null,44200,6525,7895.25,null,44200,6525,7895.25]
[44300,6525,7895.25,{"$f":"VLOOKUP(A446,'Correcties op staffel'!$A$5:$C$10,2)","v":0},{"$f":"VLOOKUP(A446,'Correcties op staffel'!$A$5:$C$10,3)","v":0},6525,null,44300,6525,7895.25,null,44300,6525,7895.25]
[44400,6525,7895.25,{"$f":"VLOOKUP(A447,'Correcties op staffel'!$A$5:$C$10,2)","v":0},{"$f":"VLOOKUP(A447,'Correcties op staffel'!$A$5:$C$10,3)","v":0},6525,null,44400,6525,7895.25,null,44400,6525,7895.25]
[44500,6525,7895.25,{"$f":"VLOOKUP(A448,'Correcties op staffel'!$A$5:$C$10,2)","v":0},{"$f":"VLOOKUP(A448,'Correcties op staffel'!$A$5:$C$10,3)","v":0},6525,null,44500,6525,7895.25,null,44500,6525,7895.25]
[44600,6525,7895.25,{"$f":"VLOOKUP(A449,'Correcties op staffel'!$A$5:$C$10,2)","v":0},{"$f":"VLOOKUP(A449,'Correcties op staffel'!$A$5:$C$10,3)","v":0},6525,null,44600,6525,7895.25,null,44600,6525,7895.25]
[44700,6525,7895.25,{"$f":"VLOOKUP(A450,'Correcties op staffel'!$A$5:$C$10,2)","v":0},{"$f":"VLOOKUP(A450,'Correcties op staffel'!$A$5:$C$10,3)","v":0},6525,null,44700,6525,7895.25,null,44700,6525,7895.25]
[44800,6525,7895.25,{"$f":"VLOOKUP(A451,'Correcties op staffel'!$A$5:$C$10,2)","v":0},{"$f":"VLOOKUP(A451,'Correcties op staffel'!$A$5:$C$10,3)","v":0},6525,null,44800,6525,7895.25,null,44800,6525,7895.25]
[44900,6525,7895.25,{"$f":"VLOOKUP(A452,'Correcties op staffel'!$A$5:$C$10,2)","v":0},{"$f":"VLOOKUP(A452,'Correcties op staffel'!$A$5:$C$10,3)","v":0},{"$f":"B452*(1+D452)+E452","v":6525},null,44900,{"$f":"ROUND(F452,0)","v":6525},7895.25,null,44900,6525,7895.25]
[45000,6525,7895.25,{"$f":"VLOOKUP(A453,'Correcties op staffel'!$A$5:$C$10,2)","v":0},{"$f":"VLOOKUP(A453,'Correcties op staffel'!$A$5:$C$10,3)","v":0},6525,null,45000,6525,{"$f":"I453*1.21","v":7895.25},null,45000,{"$f":"IF(ROUND(I453/5,0)*5<I453,ROUND(I453/5,0)*5+5,ROUND(I453/5,0)*5)","v":6525},{"$f":"M453*1.21","v":7895.25}]
[45100,6625,8016.25,{"$f":"VLOOKUP(A454,'Correcties op staffel'!$A$5:$C$10,2)","v":0},{"$f":"VLOOKUP(A454,'Correcties op staffel'!$A$5:$C$10,3)","v":0},6625,null,45100,6625,8016.25,null,45100,6625,8016.25]
[45200,6625,8016.25,{"$f":"VLOOKUP(A455,'Correcties op staffel'!$A$5:$C$10,2)","v":0},{"$f":"VLOOKUP(A455,'Correcties op staffel'!$A$5:$C$10,3)","v":0},6625,null,45200,6625,8016.25,null,45200,6625,8016.25]
[45300,6625,8016.25,{"$f":"VLOOKUP(A456,'Correcties op staffel'!$A$5:$C$10,2)","v":0},{"$f":"VLOOKUP(A456,'Correcties op staffel'!$A$5:$C$10,3)","v":0},6625,null,45300,6625,8016.25,null,45300,6625,8016.25]
[45400,6625,8016.25,{"$f":"VLOOKUP(A457,'Correcties op staffel'!$A$5:$C$10,2)","v":0},{"$f":"VLOOKUP(A457,'Correcties op staffel'!$A$5:$C$10,3)","v":0},6625,null,45400,6625,8016.25,null,45400,6625,8016.25]
[45500,6625,8016.25,{"$f":"VLOOKUP(A458,'Correcties op staffel'!$A$5:$C$10,2)","v":0},{"$f":"VLOOKUP(A458,'Correcties op staffel'!$A$5:$C$10,3)","v":0},6625,null,{"$f":"H457+100","v":45500},6625,8016.25,null,45500,6625,8016.25]
[45600,6725,8137.25,{"$f":"VLOOKUP(A459,'Correcties op staffel'!$A$5:$C$10,2)","v":0},{"$f":"VLOOKUP(A459,'Correcties op staffel'!$A$5:$C$10,3)","v":0},6725,null,45600,6725,8137.25,null,45600,6725,8137.25]
[45700,6725,8137.25,{"$f":"VLOOKUP(A460,'Correcties op staffel'!$A$5:$C$10,2)","v":0},{"$f":"VLOOKUP(A460,'Correcties op staffel'!$A$5:$C$10,3)","v":0},6725,null,45700,6725,8137.25,null,45700,6725,8137.25]
[45800,6725,8137.25,{"$f":"VLOOKUP(A461,'Correcties op staffel'!$A$5:$C$10,2)","v":0},{"$f":"VLOOKUP(A461,'Correcties op staffel'!$A$5:$C$10,3)","v":0},6725,null,45800,6725,8137.25,null,45800,6725,8137.25]
[45900,6725,8137.25,{"$f":"VLOOKUP(A462,'Correcties op staffel'!$A$5:$C$10,2)","v":0},{"$f":"VLOOKUP(A462,'Correcties op staffel'!$A$5:$C$10,3)","v":0},6725,null,45900,6725,8137.25,null,45900,6725,8137.25]
[46000,6725,8137.25,{"$f":"VLOOKUP(A463,'Correcties op staffel'!$A$5:$C$10,2)","v":0},{"$f":"VLOOKUP(A463,'Correcties op staffel'!$A$5:$C$10,3)","v":0},6725,null,46000,6725,8137.25,null,46000,6725,8137.25]
[{"$f":"A463+100","v":46100},6725,8137.25,{"$f":"VLOOKUP(A464,'Correcties op staffel'!$A$5:$C$10,2)","v":0},{"$f":"VLOOKUP(A464,'Correcties op staffel'!$A$5:$C$10,3)","v":0},6725,null,46100,6725,8137.25,null,46100,6725,8137.25]
[46200,6825,8258.25,{"$f":"VLOOKUP(A465,'Correcties op staffel'!$A$5:$C$10,2)","v":0},{"$f":"VLOOKUP(A465,'Correcties op staffel'!$A$5:$C$10,3)","v":0},6825,null,46200,6825,8258.25,null,46200,6825,8258.25]
[46300,6825,8258.25,{"$f":"VLOOKUP(A466,'Correcties op staffel'!$A$5:$C$10,2)","v":0},{"$f":"VLOOKUP(A466,'Correcties op staffel'!$A$5:$C$10,3)","v":0},6825,null,46300,6825,8258.25,null,46300,6825,8258.25]
[46400,6825,8258.25,{"$f":"VLOOKUP(A467,'Correcties op staffel'!$A$5:$C$10,2)","v":0},{"$f":"VLOOKUP(A467,'Correcties op staffel'!$A$5:$C$10,3)","v":0},6825,null,46400,6825,8258.25,null,46400,6825,8258.25]
[46500,6825,8258.25,{"$f":"VLOOKUP(A468,'Correcties op staffel'!$A$5:$C$10,2)","v":0},{"$f":"VLOOKUP(A468,'Correcties op staffel'!$A$5:$C$10,3)","v":0},6825,null,46500,6825,8258.25,null,46500,6825,8258.25]
[46600,6825,8258.25,{"$f":"VLOOKUP(A469,'Correcties op staffel'!$A$5:$C$10,2)","v":0},{"$f":"VLOOKUP(A469,'Correcties op staffel'!$A$5:$C$10,3)","v":0},6825,null,46600,6825,8258.25,null,46600,6825,8258.25]
[46700,6825,8258.25,{"$f":"VLOOKUP(A470,'Correcties op staffel'!$A$5:$C$10,2)","v":0},{"$f":"VLOOKUP(A470,'Correcties op staffel'!$A$5:$C$10,3)","v":0},6825,null,46700,6825,8258.25,null,46700,6825,8258.25]
[46800,6925,8379.25,{"$f":"VLOOKUP(A471,'Correcties op staffel'!$A$5:$C$10,2)","v":0},{"$f":"VLOOKUP(A471,'Correcties op staffel'!$A$5:$C$10,3)","v":0},6925,null,46800,6925,8379.25,null,46800,6925,8379.25]
[46900,6925,8379.25,{"$f":"VLOOKUP(A472,'Correcties op staffel'!$A$5:$C$10,2)","v":0},{"$f":"VLOOKUP(A472,'Correcties op staffel'!$A$5:$C$10,3)","v":0},6925,null,46900,6925,8379.25,null,46900,6925,8379.25]
[47000,6925,8379.25,{"$f":"VLOOKUP(A473,'Correcties op staffel'!$A$5:$C$10,2)","v":0},{"$f":"VLOOKUP(A473,'Correcties op staffel'!$A$5:$C$10,3)","v":0},6925,null,47000,6925,8379.25,null,47000,6925,8379.25]
[47100,6925,8379.25,{"$f":"VLOOKUP(A474,'Correcties op staffel'!$A$5:$C$10,2)","v":0},{"$f":"VLOOKUP(A474,'Correcties op staffel'!$A$5:$C$10,3)","v":0},6925,null,47100,6925,8379.25,null,47100,6925,8379.25]
[47200,6925,8379.25,{"$f":"VLOOKUP(A475,'Correcties op staffel'!$A$5:$C$10,2)","v":0},{"$f":"VLOOKUP(A475,'Correcties op staffel'!$A$5:$C$10,3)","v":0},6925,null,47200,6925,8379.25,null,47200,6925,8379.25]
[47300,6925,8379.25,{"$f":"VLOOKUP(A476,'Correcties op staffel'!$A$5:$C$10,2)","v":0},{"$f":"VLOOKUP(A476,'Correcties op staffel'!$A$5:$C$10,3)","v":0},6925,null,47300,6925,8379.25,null,47300,6925,8379.25]
[47400,7025,8500.25,{"$f":"VLOOKUP(A477,'Correcties op staffel'!$A$5:$C$10,2)","v":0},{"$f":"VLOOKUP(A477,'Correcties op staffel'!$A$5:$C$10,3)","v":0},7025,null,47400,7025,8500.25,null,47400,7025,8500.25]
[47500,7025,8500.25,{"$f":"VLOOKUP(A478,'Correcties op staffel'!$A$5:$C$10,2)","v":0},{"$f":"VLOOKUP(A478,'Correcties op staffel'!$A$5:$C$10,3)","v":0},7025,null,47500,7025,8500.25,null,47500,7025,8500.25]
[47600,7025,8500.25,{"$f":"VLOOKUP(A479,'Correcties op staffel'!$A$5:$C$10,2)","v":0},{"$f":"VLOOKUP(A479,'Correcties op staffel'!$A$5:$C$10,3)","v":0},7025,null,47600,7025,8500.25,null,47600,7025,8500.25]
[47700,7025,8500.25,{"$f":"VLOOKUP(A480,'Correcties op staffel'!$A$5:$C$10,2)","v":0},{"$f":"VLOOKUP(A480,'Correcties op staffel'!$A$5:$C$10,3)","v":0},7025,null,47700,7025,8500.25,null,47700,7025,8500.25]
[47800,7025,8500.25,{"$f":"VLOOKUP(A481,'Correcties op staffel'!$A$5:$C$10,2)","v":0},{"$f":"VLOOKUP(A481,'Correcties op staffel'!$A$5:$C$10,3)","v":0},7025,null,47800,7025,8500.25,null,47800,7025,8500.25]
[47900,7125,8621.25,{"$f":"VLOOKUP(A482,'Correcties op staffel'!$A$5:$C$10,2)","v":0},{"$f":"VLOOKUP(A482,'Correcties op staffel'!$A$5:$C$10,3)","v":0},7125,null,47900,7125,8621.25,null,47900,7125,8621.25]
[48000,7125,8621.25,{"$f":"VLOOKUP(A483,'Correcties op staffel'!$A$5:$C$10,2)","v":0},{"$f":"VLOOKUP(A483,'Correcties op staffel'!$A$5:$C$10,3)","v":0},7125,null,48000,7125,8621.25,null,48000,7125,8621.25]
[48100,7125,8621.25,{"$f":"VLOOKUP(A484,'Correcties op staffel'!$A$5:$C$10,2)","v":0},{"$f":"VLOOKUP(A484,'Correcties op staffel'!$A$5:$C$10,3)","v":0},7125,null,48100,7125,8621.25,null,48100,7125,8621.25]
[48200,7125,8621.25,{"$f":"VLOOKUP(A485,'Correcties op staffel'!$A$5:$C$10,2)","v":0},{"$f":"VLOOKUP(A485,'Correcties op staffel'!$A$5:$C$10,3)","v":0},7125,null,48200,7125,8621.25,null,48200,7125,8621.25]
[48300,7125,8621.25,{"$f":"VLOOKUP(A486,'Correcties op staffel'!$A$5:$C$10,2)","v":0},{"$f":"VLOOKUP(A486,'Correcties op staffel'!$A$5:$C$10,3)","v":0},7125,null,48300,7125,8621.25,null,48300,7125,8621.25]
[48400,7125,8621.25,{"$f":"VLOOKUP(A487,'Correcties op staffel'!$A$5:$C$10,2)","v":0},{"$f":"VLOOKUP(A487,'Correcties op staffel'!$A$5:$C$10,3)","v":0},7125,null,48400,7125,8621.25,null,48400,7125,8621.25]
[48500,7225,8742.25,{"$f":"VLOOKUP(A488,'Correcties op staffel'!$A$5:$C$10,2)","v":0},{"$f":"VLOOKUP(A488,'Correcties op staffel'!$A$5:$C$10,3)","v":0},7225,null,48500,7225,8742.25,null,48500,7225,8742.25]
[48600,7225,8742.25,{"$f":"VLOOKUP(A489,'Correcties op staffel'!$A$5:$C$10,2)","v":0},{"$f":"VLOOKUP(A489,'Correcties op staffel'!$A$5:$C$10,3)","v":0},7225,null,48600,7225,8742.25,null,48600,7225,8742.25]
[48700,7225,8742.25,{"$f":"VLOOKUP(A490,'Correcties op staffel'!$A$5:$C$10,2)","v":0},{"$f":"VLOOKUP(A490,'Correcties op staffel'!$A$5:$C$10,3)","v":0},7225,null,48700,7225,8742.25,null,48700,7225,8742.25]
[48800,7225,8742.25,{"$f":"VLOOKUP(A491,'Correcties op staffel'!$A$5:$C$10,2)","v":0},{"$f":"VLOOKUP(A491,'Correcties op staffel'!$A$5:$C$10,3)","v":0},7225,null,48800,7225,8742.25,null,48800,7225,8742.25]
[48900,7225,8742.25,{"$f":"VLOOKUP(A492,'Correcties op staffel'!$A$5:$C$10,2)","v":0},{"$f":"VLOOKUP(A492,'Correcties op staffel'!$A$5:$C$10,3)","v":0},7225,null,48900,7225,8742.25,null,48900,7225,8742.25]
[49000,7225,8742.25,{"$f":"VLOOKUP(A493,'Correcties op staffel'!$A$5:$C$10,2)","v":0},{"$f":"VLOOKUP(A493,'Correcties op staffel'!$A$5:$C$10,3)","v":0},7225,null,49000,7225,8742.25,null,49000,7225,8742.25]
[49100,7325,8863.25,{"$f":"VLOOKUP(A494,'Correcties op staffel'!$A$5:$C$10,2)","v":0},{"$f":"VLOOKUP(A494,'Correcties op staffel'!$A$5:$C$10,3)","v":0},7325,null,49100,7325,8863.25,null,49100,7325,8863.25]
[49200,7325,8863.25,{"$f":"VLOOKUP(A495,'Correcties op staffel'!$A$5:$C$10,2)","v":0},{"$f":"VLOOKUP(A495,'Correcties op staffel'!$A$5:$C$10,3)","v":0},7325,null,49200,7325,8863.25,null,49200,7325,8863.25]
[49300,7325,8863.25,{"$f":"VLOOKUP(A496,'Correcties op staffel'!$A$5:$C$10,2)","v":0},{"$f":"VLOOKUP(A496,'Correcties op staffel'!$A$5:$C$10,3)","v":0},7325,null,49300,7325,8863.25,null,49300,7325,8863.25]
[49400,7325,8863.25,{"$f":"VLOOKUP(A497,'Correcties op staffel'!$A$5:$C$10,2)","v":0},{"$f":"VLOOKUP(A497,'Correcties op staffel'!$A$5:$C$10,3)","v":0},7325,null,49400,7325,8863.25,null,49400,7325,8863.25]
[49500,7325,8863.25,{"$f":"VLOOKUP(A498,'Correcties op staffel'!$A$5:$C$10,2)","v":0},{"$f":"VLOOKUP(A498,'Correcties op staffel'!$A$5:$C$10,3)","v":0},7325,null,49500,7325,8863.25,null,49500,7325,8863.25]
[49600,7325,8863.25,{"$f":"VLOOKUP(A499,'Correcties op staffel'!$A$5:$C$10,2)","v":0},{"$f":"VLOOKUP(A499,'Correcties op staffel'!$A$5:$C$10,3)","v":0},7325,null,49600,7325,8863.25,null,49600,7325,8863.25]
[49700,7425,8984.25,{"$f":"VLOOKUP(A500,'Correcties op staffel'!$A$5:$C$10,2)","v":0},{"$f":"VLOOKUP(A500,'Correcties op staffel'!$A$5:$C$10,3)","v":0},7425,null,49700,7425,8984.25,null,49700,7425,8984.25]
[49800,7425,8984.25,{"$f":"VLOOKUP(A501,'Correcties op staffel'!$A$5:$C$10,2)","v":0},{"$f":"VLOOKUP(A501,'Correcties op staffel'!$A$5:$C$10,3)","v":0},7425,null,49800,7425,8984.25,null,49800,7425,8984.25]
[49900,7425,8984.25,{"$f":"VLOOKUP(A502,'Correcties op staffel'!$A$5:$C$10,2)","v":0},{"$f":"VLOOKUP(A502,'Correcties op staffel'!$A$5:$C$10,3)","v":0},7425,null,49900,7425,8984.25,null,49900,7425,8984.25]
[50000,7425,8984.25,{"$f":"VLOOKUP(A503,'Correcties op staffel'!$A$5:$C$10,2)","v":0},{"$f":"VLOOKUP(A503,'Correcties op staffel'!$A$5:$C$10,3)","v":0},7425,null,50000,7425,8984.25,null,50000,7425,8984.25]
[50100,7425,8984.25,{"$f":"VLOOKUP(A504,'Correcties op staffel'!$A$5:$C$10,2)","v":0},{"$f":"VLOOKUP(A504,'Correcties op staffel'!$A$5:$C$10,3)","v":0},7425,null,50100,7425,8984.25,null,50100,7425,8984.25]
[50200,7425,8984.25,{"$f":"VLOOKUP(A505,'Correcties op staffel'!$A$5:$C$10,2)","v":0},{"$f":"VLOOKUP(A505,'Correcties op staffel'!$A$5:$C$10,3)","v":0},7425,null,50200,7425,8984.25,null,50200,7425,8984.25]
[50300,7475,9044.75,{"$f":"VLOOKUP(A506,'Correcties op staffel'!$A$5:$C$10,2)","v":0},{"$f":"VLOOKUP(A506,'Correcties op staffel'!$A$5:$C$10,3)","v":0},7475,null,50300,7475,9044.75,null,50300,7475,9044.75]
[50400,7475,9044.75,{"$f":"VLOOKUP(A507,'Correcties op staffel'!$A$5:$C$10,2)","v":0},{"$f":"VLOOKUP(A507,'Correcties op staffel'!$A$5:$C$10,3)","v":0},7475,null,50400,7475,9044.75,null,50400,7475,9044.75]
[50500,7475,9044.75,{"$f":"VLOOKUP(A508,'Correcties op staffel'!$A$5:$C$10,2)","v":0},{"$f":"VLOOKUP(A508,'Correcties op staffel'!$A$5:$C$10,3)","v":0},7475,null,50500,7475,9044.75,null,50500,7475,9044.75]
[50600,7475,9044.75,{"$f":"VLOOKUP(A509,'Correcties op staffel'!$A$5:$C$10,2)","v":0},{"$f":"VLOOKUP(A509,'Correcties op staffel'!$A$5:$C$10,3)","v":0},7475,null,50600,7475,9044.75,null,50600,7475,9044.75]
[50700,7475,9044.75,{"$f":"VLOOKUP(A510,'Correcties op staffel'!$A$5:$C$10,2)","v":0},{"$f":"VLOOKUP(A510,'Correcties op staffel'!$A$5:$C$10,3)","v":0},7475,null,50700,7475,9044.75,null,50700,7475,9044.75]
[50800,7525,9105.25,{"$f":"VLOOKUP(A511,'Correcties op staffel'!$A$5:$C$10,2)","v":0},{"$f":"VLOOKUP(A511,'Correcties op staffel'!$A$5:$C$10,3)","v":0},7525,null,50800,7525,9105.25,null,50800,7525,9105.25]
[50900,7525,9105.25,{"$f":"VLOOKUP(A512,'Correcties op staffel'!$A$5:$C$10,2)","v":0},{"$f":"VLOOKUP(A512,'Correcties op staffel'!$A$5:$C$10,3)","v":0},7525,null,50900,7525,9105.25,null,50900,7525,9105.25]
[51000,7525,9105.25,{"$f":"VLOOKUP(A513,'Correcties op staffel'!$A$5:$C$10,2)","v":0},{"$f":"VLOOKUP(A513,'Correcties op staffel'!$A$5:$C$10,3)","v":0},7525,null,51000,7525,9105.25,null,51000,7525,9105.25]
[51100,7525,9105.25,{"$f":"VLOOKUP(A514,'Correcties op staffel'!$A$5:$C$10,2)","v":0},{"$f":"VLOOKUP(A514,'Correcties op staffel'!$A$5:$C$10,3)","v":0},7525,null,51100,7525,9105.25,null,51100,7525,9105.25]
[51200,7525,9105.25,{"$f":"VLOOKUP(A515,'Correcties op staffel'!$A$5:$C$10,2)","v":0},{"$f":"VLOOKUP(A515,'Correcties op staffel'!$A$5:$C$10,3)","v":0},7525,null,51200,7525,9105.25,null,51200,7525,9105.25]
[51300,7525,9105.25,{"$f":"VLOOKUP(A516,'Correcties op staffel'!$A$5:$C$10,2)","v":0},{"$f":"VLOOKUP(A516,'Correcties op staffel'!$A$5:$C$10,3)","v":0},{"$f":"B516*(1+D516)+E516","v":7525},null,51300,{"$f":"ROUND(F516,0)","v":7525},9105.25,null,51300,7525,9105.25]
[51400,7575,9165.75,{"$f":"VLOOKUP(A517,'Correcties op staffel'!$A$5:$C$10,2)","v":0},{"$f":"VLOOKUP(A517,'Correcties op staffel'!$A$5:$C$10,3)","v":0},7575,null,51400,7575,{"$f":"I517*1.21","v":9165.75},null,51400,{"$f":"IF(ROUND(I517/5,0)*5<I517,ROUND(I517/5,0)*5+5,ROUND(I517/5,0)*5)","v":7575},{"$f":"M517*1.21","v":9165.75}]
[51500,7575,9165.75,{"$f":"VLOOKUP(A518,'Correcties op staffel'!$A$5:$C$10,2)","v":0},{"$f":"VLOOKUP(A518,'Correcties op staffel'!$A$5:$C$10,3)","v":0},7575,null,51500,7575,9165.75,null,51500,7575,9165.75]
[51600,7575,9165.75,{"$f":"VLOOKUP(A519,'Correcties op staffel'!$A$5:$C$10,2)","v":0},{"$f":"VLOOKUP(A519,'Correcties op staffel'!$A$5:$C$10,3)","v":0},7575,null,51600,7575,9165.75,null,51600,7575,9165.75]
[51700,7575,9165.75,{"$f":"VLOOKUP(A520,'Correcties op staffel'!$A$5:$C$10,2)","v":0},{"$f":"VLOOKUP(A520,'Correcties op staffel'!$A$5:$C$10,3)","v":0},7575,null,51700,7575,9165.75,null,51700,7575,9165.75]
[51800,7575,9165.75,{"$f":"VLOOKUP(A521,'Correcties op staffel'!$A$5:$C$10,2)","v":0},{"$f":"VLOOKUP(A521,'Correcties op staffel'!$A$5:$C$10,3)","v":0},7575,null,51800,7575,9165.75,null,51800,7575,9165.75]
[51900,7575,9165.75,{"$f":"VLOOKUP(A522,'Correcties op staffel'!$A$5:$C$10,2)","v":0},{"$f":"VLOOKUP(A522,'Correcties op staffel'!$A$5:$C$10,3)","v":0},7575,null,{"$f":"H521+100","v":51900},7575,9165.75,null,51900,7575,9165.75]
[52000,7625,9226.25,{"$f":"VLOOKUP(A523,'Correcties op staffel'!$A$5:$C$10,2)","v":0},{"$f":"VLOOKUP(A523,'Correcties op staffel'!$A$5:$C$10,3)","v":0},7625,null,52000,7625,9226.25,null,52000,7625,9226.25]
[52100,7625,9226.25,{"$f":"VLOOKUP(A524,'Correcties op staffel'!$A$5:$C$10,2)","v":0},{"$f":"VLOOKUP(A524,'Correcties op staffel'!$A$5:$C$10,3)","v":0},7625,null,52100,7625,9226.25,null,52100,7625,9226.25]
[52200,7625,9226.25,{"$f":"VLOOKUP(A525,'Correcties op staffel'!$A$5:$C$10,2)","v":0},{"$f":"VLOOKUP(A525,'Correcties op staffel'!$A$5:$C$10,3)","v":0},7625,null,52200,7625,9226.25,null,52200,7625,9226.25]
[52300,7625,9226.25,{"$f":"VLOOKUP(A526,'Correcties op staffel'!$A$5:$C$10,2)","v":0},{"$f":"VLOOKUP(A526,'Correcties op staffel'!$A$5:$C$10,3)","v":0},7625,null,52300,7625,9226.25,null,52300,7625,9226.25]
[52400,7625,9226.25,{"$f":"VLOOKUP(A527,'Correcties op staffel'!$A$5:$C$10,2)","v":0},{"$f":"VLOOKUP(A527,'Correcties op staffel'!$A$5:$C$10,3)","v":0},7625,null,52400,7625,9226.25,null,52400,7625,9226.25]
[{"$f":"A527+100","v":52500},7625,9226.25,{"$f":"VLOOKUP(A528,'Correcties op staffel'!$A$5:$C$10,2)","v":0},{"$f":"VLOOKUP(A528,'Correcties op staffel'!$A$5:$C$10,3)","v":0},7625,null,52500,7625,9226.25,null,52500,7625,9226.25]
[52600,7700,9317,{"$f":"VLOOKUP(A529,'Correcties op staffel'!$A$5:$C$10,2)","v":0},{"$f":"VLOOKUP(A529,'Correcties op staffel'!$A$5:$C$10,3)","v":0},7700,null,52600,7700,9317,null,52600,7700,9317]
[52700,7700,9317,{"$f":"VLOOKUP(A530,'Correcties op staffel'!$A$5:$C$10,2)","v":0},{"$f":"VLOOKUP(A530,'Correcties op staffel'!$A$5:$C$10,3)","v":0},7700,null,52700,7700,9317,null,52700,7700,9317]
[52800,7700,9317,{"$f":"VLOOKUP(A531,'Correcties op staffel'!$A$5:$C$10,2)","v":0},{"$f":"VLOOKUP(A531,'Correcties op staffel'!$A$5:$C$10,3)","v":0},7700,null,52800,7700,9317,null,52800,7700,9317]
[52900,7700,9317,{"$f":"VLOOKUP(A532,'Correcties op staffel'!$A$5:$C$10,2)","v":0},{"$f":"VLOOKUP(A532,'Correcties op staffel'!$A$5:$C$10,3)","v":0},7700,null,52900,7700,9317,null,52900,7700,9317]
[53000,7700,9317,{"$f":"VLOOKUP(A533,'Correcties op staffel'!$A$5:$C$10,2)","v":0},{"$f":"VLOOKUP(A533,'Correcties op staffel'!$A$5:$C$10,3)","v":0},7700,null,53000,7700,9317,null,53000,7700,9317]
[53100,7700,9317,{"$f":"VLOOKUP(A534,'Correcties op staffel'!$A$5:$C$10,2)","v":0},{"$f":"VLOOKUP(A534,'Correcties op staffel'!$A$5:$C$10,3)","v":0},7700,null,53100,7700,9317,null,53100,7700,9317]
[53200,7800,9438,{"$f":"VLOOKUP(A535,'Correcties op staffel'!$A$5:$C$10,2)","v":0},{"$f":"VLOOKUP(A535,'Correcties op staffel'!$A$5:$C$10,3)","v":0},7800,null,53200,7800,9438,null,53200,7800,9438]
[53300,7800,9438,{"$f":"VLOOKUP(A536,'Correcties op staffel'!$A$5:$C$10,2)","v":0},{"$f":"VLOOKUP(A536,'Correcties op staffel'!$A$5:$C$10,3)","v":0},7800,null,53300,7800,9438,null,53300,7800,9438]
[53400,7800,9438,{"$f":"VLOOKUP(A537,'Correcties op staffel'!$A$5:$C$10,2)","v":0},{"$f":"VLOOKUP(A537,'Correcties op staffel'!$A$5:$C$10,3)","v":0},7800,null,53400,7800,9438,null,53400,7800,9438]
[53500,7800,9438,{"$f":"VLOOKUP(A538,'Correcties op staffel'!$A$5:$C$10,2)","v":0},{"$f":"VLOOKUP(A538,'Correcties op staffel'!$A$5:$C$10,3)","v":0},7800,null,53500,7800,9438,null,53500,7800,9438]
[53600,7800,9438,{"$f":"VLOOKUP(A539,'Correcties op staffel'!$A$5:$C$10,2)","v":0},{"$f":"VLOOKUP(A539,'Correcties op staffel'!$A$5:$C$10,3)","v":0},7800,null,53600,7800,9438,null,53600,7800,9438]
[53700,7900,9559,{"$f":"VLOOKUP(A540,'Correcties op staffel'!$A$5:$C$10,2)","v":0},{"$f":"VLOOKUP(A540,'Correcties op staffel'!$A$5:$C$10,3)","v":0},7900,null,53700,7900,9559,null,53700,7900,9559]
[53800,7900,9559,{"$f":"VLOOKUP(A541,'Correcties op staffel'!$A$5:$C$10,2)","v":0},{"$f":"VLOOKUP(A541,'Correcties op staffel'!$A$5:$C$10,3)","v":0},7900,null,53800,7900,9559,null,53800,7900,9559]
[53900,7900,9559,{"$f":"VLOOKUP(A542,'Correcties op staffel'!$A$5:$C$10,2)","v":0},{"$f":"VLOOKUP(A542,'Correcties op staffel'!$A$5:$C$10,3)","v":0},7900,null,53900,7900,9559,null,53900,7900,9559]
[54000,7900,9559,{"$f":"VLOOKUP(A543,'Correcties op staffel'!$A$5:$C$10,2)","v":0},{"$f":"VLOOKUP(A543,'Correcties op staffel'!$A$5:$C$10,3)","v":0},7900,null,54000,7900,9559,null,54000,7900,9559]
[54100,7900,9559,{"$f":"VLOOKUP(A544,'Correcties op staffel'!$A$5:$C$10,2)","v":0},{"$f":"VLOOKUP(A544,'Correcties op staffel'!$A$5:$C$10,3)","v":0},7900,null,54100,7900,9559,null,54100,7900,9559]
[54200,7900,9559,{"$f":"VLOOKUP(A545,'Correcties op staffel'!$A$5:$C$10,2)","v":0},{"$f":"VLOOKUP(A545,'Correcties op staffel'!$A$5:$C$10,3)","v":0},7900,null,54200,7900,9559,null,54200,7900,9559]
[54300,8000,9680,{"$f":"VLOOKUP(A546,'Correcties op staffel'!$A$5:$C$10,2)","v":0},{"$f":"VLOOKUP(A546,'Correcties op staffel'!$A$5:$C$10,3)","v":0},8000,null,54300,8000,9680,null,54300,8000,9680]
[54400,8000,9680,{"$f":"VLOOKUP(A547,'Correcties op staffel'!$A$5:$C$10,2)","v":0},{"$f":"VLOOKUP(A547,'Correcties op staffel'!$A$5:$C$10,3)","v":0},8000,null,54400,8000,9680,null,54400,8000,9680]
[54500,8000,9680,{"$f":"VLOOKUP(A548,'Correcties op staffel'!$A$5:$C$10,2)","v":0},{"$f":"VLOOKUP(A548,'Correcties op staffel'!$A$5:$C$10,3)","v":0},8000,null,54500,8000,9680,null,54500,8000,9680]
[54600,8000,9680,{"$f":"VLOOKUP(A549,'Correcties op staffel'!$A$5:$C$10,2)","v":0},{"$f":"VLOOKUP(A549,'Correcties op staffel'!$A$5:$C$10,3)","v":0},8000,null,54600,8000,9680,null,54600,8000,9680]
[54700,8000,9680,{"$f":"VLOOKUP(A550,'Correcties op staffel'!$A$5:$C$10,2)","v":0},{"$f":"VLOOKUP(A550,'Correcties op staffel'!$A$5:$C$10,3)","v":0},8000,null,54700,8000,9680,null,54700,8000,9680]
[54800,8000,9680,{"$f":"VLOOKUP(A551,'Correcties op staffel'!$A$5:$C$10,2)","v":0},{"$f":"VLOOKUP(A551,'Correcties op staffel'!$A$5:$C$10,3)","v":0},8000,null,54800,8000,9680,null,54800,8000,9680]
[54900,8100,9801,{"$f":"VLOOKUP(A552,'Correcties op staffel'!$A$5:$C$10,2)","v":0},{"$f":"VLOOKUP(A552,'Correcties op staffel'!$A$5:$C$10,3)","v":0},8100,null,54900,8100,9801,null,54900,8100,9801]
[55000,8100,9801,{"$f":"VLOOKUP(A553,'Correcties op staffel'!$A$5:$C$10,2)","v":0},{"$f":"VLOOKUP(A553,'Correcties op staffel'!$A$5:$C$10,3)","v":0},8100,null,55000,8100,9801,null,55000,8100,9801]
[55100,8100,9801,{"$f":"VLOOKUP(A554,'Correcties op staffel'!$A$5:$C$10,2)","v":0},{"$f":"VLOOKUP(A554,'Correcties op staffel'!$A$5:$C$10,3)","v":0},8100,null,55100,8100,9801,null,55100,8100,9801]
[55200,8100,9801,{"$f":"VLOOKUP(A555,'Correcties op staffel'!$A$5:$C$10,2)","v":0},{"$f":"VLOOKUP(A555,'Correcties op staffel'!$A$5:$C$10,3)","v":0},8100,null,55200,8100,9801,null,55200,8100,9801]
[55300,8100,9801,{"$f":"VLOOKUP(A556,'Correcties op staffel'!$A$5:$C$10,2)","v":0},{"$f":"VLOOKUP(A556,'Correcties op staffel'!$A$5:$C$10,3)","v":0},8100,null,55300,8100,9801,null,55300,8100,9801]
[55400,8100,9801,{"$f":"VLOOKUP(A557,'Correcties op staffel'!$A$5:$C$10,2)","v":0},{"$f":"VLOOKUP(A557,'Correcties op staffel'!$A$5:$C$10,3)","v":0},8100,null,55400,8100,9801,null,55400,8100,9801]
[55500,8200,9922,{"$f":"VLOOKUP(A558,'Correcties op staffel'!$A$5:$C$10,2)","v":0},{"$f":"VLOOKUP(A558,'Correcties op staffel'!$A$5:$C$10,3)","v":0},8200,null,55500,8200,9922,null,55500,8200,9922]
[55600,8200,9922,{"$f":"VLOOKUP(A559,'Correcties op staffel'!$A$5:$C$10,2)","v":0},{"$f":"VLOOKUP(A559,'Correcties op staffel'!$A$5:$C$10,3)","v":0},8200,null,55600,8200,9922,null,55600,8200,9922]
[55700,8200,9922,{"$f":"VLOOKUP(A560,'Correcties op staffel'!$A$5:$C$10,2)","v":0},{"$f":"VLOOKUP(A560,'Correcties op staffel'!$A$5:$C$10,3)","v":0},8200,null,55700,8200,9922,null,55700,8200,9922]
[55800,8200,9922,{"$f":"VLOOKUP(A561,'Correcties op staffel'!$A$5:$C$10,2)","v":0},{"$f":"VLOOKUP(A561,'Correcties op staffel'!$A$5:$C$10,3)","v":0},8200,null,55800,8200,9922,null,55800,8200,9922]
[55900,8200,9922,{"$f":"VLOOKUP(A562,'Correcties op staffel'!$A$5:$C$10,2)","v":0},{"$f":"VLOOKUP(A562,'Correcties op staffel'!$A$5:$C$10,3)","v":0},8200,null,55900,8200,9922,null,55900,8200,9922]
[56000,8200,9922,{"$f":"VLOOKUP(A563,'Correcties op staffel'!$A$5:$C$10,2)","v":0},{"$f":"VLOOKUP(A563,'Correcties op staffel'!$A$5:$C$10,3)","v":0},8200,null,56000,8200,9922,null,56000,8200,9922]
[56100,8300,10043,{"$f":"VLOOKUP(A564,'Correcties op staffel'!$A$5:$C$10,2)","v":0},{"$f":"VLOOKUP(A564,'Correcties op staffel'!$A$5:$C$10,3)","v":0},8300,null,56100,8300,10043,null,56100,8300,10043]
[56200,8300,10043,{"$f":"VLOOKUP(A565,'Correcties op staffel'!$A$5:$C$10,2)","v":0},{"$f":"VLOOKUP(A565,'Correcties op staffel'!$A$5:$C$10,3)","v":0},8300,null,56200,8300,10043,null,56200,8300,10043]
[56300,8300,10043,{"$f":"VLOOKUP(A566,'Correcties op staffel'!$A$5:$C$10,2)","v":0},{"$f":"VLOOKUP(A566,'Correcties op staffel'!$A$5:$C$10,3)","v":0},8300,null,56300,8300,10043,null,56300,8300,10043]
[56400,8300,10043,{"$f":"VLOOKUP(A567,'Correcties op staffel'!$A$5:$C$10,2)","v":0},{"$f":"VLOOKUP(A567,'Correcties op staffel'!$A$5:$C$10,3)","v":0},8300,null,56400,8300,10043,null,56400,8300,10043]
[56500,8300,10043,{"$f":"VLOOKUP(A568,'Correcties op staffel'!$A$5:$C$10,2)","v":0},{"$f":"VLOOKUP(A568,'Correcties op staffel'!$A$5:$C$10,3)","v":0},8300,null,56500,8300,10043,null,56500,8300,10043]
[56600,8400,10164,{"$f":"VLOOKUP(A569,'Correcties op staffel'!$A$5:$C$10,2)","v":0},{"$f":"VLOOKUP(A569,'Correcties op staffel'!$A$5:$C$10,3)","v":0},8400,null,56600,8400,10164,null,56600,8400,10164]
[56700,8400,10164,{"$f":"VLOOKUP(A570,'Correcties op staffel'!$A$5:$C$10,2)","v":0},{"$f":"VLOOKUP(A570,'Correcties op staffel'!$A$5:$C$10,3)","v":0},8400,null,56700,8400,10164,null,56700,8400,10164]
[56800,8400,10164,{"$f":"VLOOKUP(A571,'Correcties op staffel'!$A$5:$C$10,2)","v":0},{"$f":"VLOOKUP(A571,'Correcties op staffel'!$A$5:$C$10,3)","v":0},8400,null,56800,8400,10164,null,56800,8400,10164]
[56900,8400,10164,{"$f":"VLOOKUP(A572,'Correcties op staffel'!$A$5:$C$10,2)","v":0},{"$f":"VLOOKUP(A572,'Correcties op staffel'!$A$5:$C$10,3)","v":0},8400,null,56900,8400,10164,null,56900,8400,10164]
[57000,8400,10164,{"$f":"VLOOKUP(A573,'Correcties op staffel'!$A$5:$C$10,2)","v":0},{"$f":"VLOOKUP(A573,'Correcties op staffel'!$A$5:$C$10,3)","v":0},8400,null,57000,8400,10164,null,57000,8400,10164]
[57100,8400,10164,{"$f":"VLOOKUP(A574,'Correcties op staffel'!$A$5:$C$10,2)","v":0},{"$f":"VLOOKUP(A574,'Correcties op staffel'!$A$5:$C$10,3)","v":0},8400,null,57100,8400,10164,null,57100,8400,10164]
[57200,8500,10285,{"$f":"VLOOKUP(A575,'Correcties op staffel'!$A$5:$C$10,2)","v":0},{"$f":"VLOOKUP(A575,'Correcties op staffel'!$A$5:$C$10,3)","v":0},8500,null,57200,8500,10285,null,57200,8500,10285]
[57300,8500,10285,{"$f":"VLOOKUP(A576,'Correcties op staffel'!$A$5:$C$10,2)","v":0},{"$f":"VLOOKUP(A576,'Correcties op staffel'!$A$5:$C$10,3)","v":0},8500,null,57300,8500,10285,null,57300,8500,10285]
[57400,8500,10285,{"$f":"VLOOKUP(A577,'Correcties op staffel'!$A$5:$C$10,2)","v":0},{"$f":"VLOOKUP(A577,'Correcties op staffel'!$A$5:$C$10,3)","v":0},8500,null,57400,8500,10285,null,57400,8500,10285]
[57500,8500,10285,{"$f":"VLOOKUP(A578,'Correcties op staffel'!$A$5:$C$10,2)","v":0},{"$f":"VLOOKUP(A578,'Correcties op staffel'!$A$5:$C$10,3)","v":0},8500,null,57500,8500,10285,null,57500,8500,10285]
[57600,8500,10285,{"$f":"VLOOKUP(A579,'Correcties op staffel'!$A$5:$C$10,2)","v":0},{"$f":"VLOOKUP(A579,'Correcties op staffel'!$A$5:$C$10,3)","v":0},8500,null,57600,8500,10285,null,57600,8500,10285]
[57700,8500,10285,{"$f":"VLOOKUP(A580,'Correcties op staffel'!$A$5:$C$10,2)","v":0},{"$f":"VLOOKUP(A580,'Correcties op staffel'!$A$5:$C$10,3)","v":0},{"$f":"B580*(1+D580)+E580","v":8500},null,57700,{"$f":"ROUND(F580,0)","v":8500},10285,null,57700,8500,10285]
[57800,8600,10406,{"$f":"VLOOKUP(A581,'Correcties op staffel'!$A$5:$C$10,2)","v":0},{"$f":"VLOOKUP(A581,'Correcties op staffel'!$A$5:$C$10,3)","v":0},8600,null,57800,8600,{"$f":"I581*1.21","v":10406},null,57800,{"$f":"IF(ROUND(I581/5,0)*5<I581,ROUND(I581/5,0)*5+5,ROUND(I581/5,0)*5)","v":8600},{"$f":"M581*1.21","v":10406}]
[57900,8600,10406,{"$f":"VLOOKUP(A582,'Correcties op staffel'!$A$5:$C$10,2)","v":0},{"$f":"VLOOKUP(A582,'Correcties op staffel'!$A$5:$C$10,3)","v":0},8600,null,57900,8600,10406,null,57900,8600,10406]
[58000,8600,10406,{"$f":"VLOOKUP(A583,'Correcties op staffel'!$A$5:$C$10,2)","v":0},{"$f":"VLOOKUP(A583,'Correcties op staffel'!$A$5:$C$10,3)","v":0},8600,null,58000,8600,10406,null,58000,8600,10406]
[58100,8600,10406,{"$f":"VLOOKUP(A584,'Correcties op staffel'!$A$5:$C$10,2)","v":0},{"$f":"VLOOKUP(A584,'Correcties op staffel'!$A$5:$C$10,3)","v":0},8600,null,58100,8600,10406,null,58100,8600,10406]
[58200,8600,10406,{"$f":"VLOOKUP(A585,'Correcties op staffel'!$A$5:$C$10,2)","v":0},{"$f":"VLOOKUP(A585,'Correcties op staffel'!$A$5:$C$10,3)","v":0},8600,null,58200,8600,10406,null,58200,8600,10406]
[58300,8600,10406,{"$f":"VLOOKUP(A586,'Correcties op staffel'!$A$5:$C$10,2)","v":0},{"$f":"VLOOKUP(A586,'Correcties op staffel'!$A$5:$C$10,3)","v":0},8600,null,{"$f":"H585+100","v":58300},8600,10406,null,58300,8600,10406]
[58400,8700,10527,{"$f":"VLOOKUP(A587,'Correcties op staffel'!$A$5:$C$10,2)","v":0},{"$f":"VLOOKUP(A587,'Correcties op staffel'!$A$5:$C$10,3)","v":0},8700,null,58400,8700,10527,null,58400,8700,10527]
[58500,8700,10527,{"$f":"VLOOKUP(A588,'Correcties op staffel'!$A$5:$C$10,2)","v":0},{"$f":"VLOOKUP(A588,'Correcties op staffel'!$A$5:$C$10,3)","v":0},8700,null,58500,8700,10527,null,58500,8700,10527]
[58600,8700,10527,{"$f":"VLOOKUP(A589,'Correcties op staffel'!$A$5:$C$10,2)","v":0},{"$f":"VLOOKUP(A589,'Correcties op staffel'!$A$5:$C$10,3)","v":0},8700,null,58600,8700,10527,null,58600,8700,10527]
[58700,8700,10527,{"$f":"VLOOKUP(A590,'Correcties op staffel'!$A$5:$C$10,2)","v":0},{"$f":"VLOOKUP(A590,'Correcties op staffel'!$A$5:$C$10,3)","v":0},8700,null,58700,8700,10527,null,58700,8700,10527]
[58800,8700,10527,{"$f":"VLOOKUP(A591,'Correcties op staffel'!$A$5:$C$10,2)","v":0},{"$f":"VLOOKUP(A591,'Correcties op staffel'!$A$5:$C$10,3)","v":0},8700,null,58800,8700,10527,null,58800,8700,10527]
[{"$f":"A591+100","v":58900},8700,10527,{"$f":"VLOOKUP(A592,'Correcties op staffel'!$A$5:$C$10,2)","v":0},{"$f":"VLOOKUP(A592,'Correcties op staffel'!$A$5:$C$10,3)","v":0},8700,null,58900,8700,10527,null,58900,8700,10527]
[59000,8800,10648,{"$f":"VLOOKUP(A593,'Correcties op staffel'!$A$5:$C$10,2)","v":0},{"$f":"VLOOKUP(A593,'Correcties op staffel'!$A$5:$C$10,3)","v":0},8800,null,59000,8800,10648,null,59000,8800,10648]
[59100,8800,10648,{"$f":"VLOOKUP(A594,'Correcties op staffel'!$A$5:$C$10,2)","v":0},{"$f":"VLOOKUP(A594,'Correcties op staffel'!$A$5:$C$10,3)","v":0},8800,null,59100,8800,10648,null,59100,8800,10648]
[59200,8800,10648,{"$f":"VLOOKUP(A595,'Correcties op staffel'!$A$5:$C$10,2)","v":0},{"$f":"VLOOKUP(A595,'Correcties op staffel'!$A$5:$C$10,3)","v":0},8800,null,59200,8800,10648,null,59200,8800,10648]
[59300,8800,10648,{"$f":"VLOOKUP(A596,'Correcties op staffel'!$A$5:$C$10,2)","v":0},{"$f":"VLOOKUP(A596,'Correcties op staffel'!$A$5:$C$10,3)","v":0},8800,null,59300,8800,10648,null,59300,8800,10648]
[59400,8800,10648,{"$f":"VLOOKUP(A597,'Correcties op staffel'!$A$5:$C$10,2)","v":0},{"$f":"VLOOKUP(A597,'Correcties op staffel'!$A$5:$C$10,3)","v":0},8800,null,59400,8800,10648,null,59400,8800,10648]
[59500,8900,10769,{"$f":"VLOOKUP(A598,'Correcties op staffel'!$A$5:$C$10,2)","v":0},{"$f":"VLOOKUP(A598,'Correcties op staffel'!$A$5:$C$10,3)","v":0},8900,null,59500,8900,10769,null,59500,8900,10769]
[59600,8900,10769,{"$f":"VLOOKUP(A599,'Correcties op staffel'!$A$5:$C$10,2)","v":0},{"$f":"VLOOKUP(A599,'Correcties op staffel'!$A$5:$C$10,3)","v":0},8900,null,59600,8900,10769,null,59600,8900,10769]
[59700,8900,10769,{"$f":"VLOOKUP(A600,'Correcties op staffel'!$A$5:$C$10,2)","v":0},{"$f":"VLOOKUP(A600,'Correcties op staffel'!$A$5:$C$10,3)","v":0},8900,null,59700,8900,10769,null,59700,8900,10769]
[59800,8900,10769,{"$f":"VLOOKUP(A601,'Correcties op staffel'!$A$5:$C$10,2)","v":0},{"$f":"VLOOKUP(A601,'Correcties op staffel'!$A$5:$C$10,3)","v":0},8900,null,59800,8900,10769,null,59800,8900,10769]
[59900,8900,10769,{"$f":"VLOOKUP(A602,'Correcties op staffel'!$A$5:$C$10,2)","v":0},{"$f":"VLOOKUP(A602,'Correcties op staffel'!$A$5:$C$10,3)","v":0},8900,null,59900,8900,10769,null,59900,8900,10769]
[60000,8900,10769,{"$f":"VLOOKUP(A603,'Correcties op staffel'!$A$5:$C$10,2)","v":0},{"$f":"VLOOKUP(A603,'Correcties op staffel'!$A$5:$C$10,3)","v":0},8900,null,60000,8900,10769,null,60000,8900,10769]
[60100,9000,10890,{"$f":"VLOOKUP(A604,'Correcties op staffel'!$A$5:$C$10,2)","v":0},{"$f":"VLOOKUP(A604,'Correcties op staffel'!$A$5:$C$10,3)","v":0},9000,null,60100,9000,10890,null,60100,9000,10890]
[60200,9000,10890,{"$f":"VLOOKUP(A605,'Correcties op staffel'!$A$5:$C$10,2)","v":0},{"$f":"VLOOKUP(A605,'Correcties op staffel'!$A$5:$C$10,3)","v":0},9000,null,60200,9000,10890,null,60200,9000,10890]
[60300,9000,10890,{"$f":"VLOOKUP(A606,'Correcties op staffel'!$A$5:$C$10,2)","v":0},{"$f":"VLOOKUP(A606,'Correcties op staffel'!$A$5:$C$10,3)","v":0},9000,null,60300,9000,10890,null,60300,9000,10890]
[60400,9000,10890,{"$f":"VLOOKUP(A607,'Correcties op staffel'!$A$5:$C$10,2)","v":0},{"$f":"VLOOKUP(A607,'Correcties op staffel'!$A$5:$C$10,3)","v":0},9000,null,60400,9000,10890,null,60400,9000,10890]
[60500,9000,10890,{"$f":"VLOOKUP(A608,'Correcties op staffel'!$A$5:$C$10,2)","v":0},{"$f":"VLOOKUP(A608,'Correcties op staffel'!$A$5:$C$10,3)","v":0},9000,null,60500,9000,10890,null,60500,9000,10890]
[60600,9000,10890,{"$f":"VLOOKUP(A609,'Correcties op staffel'!$A$5:$C$10,2)","v":0},{"$f":"VLOOKUP(A609,'Correcties op staffel'!$A$5:$C$10,3)","v":0},9000,null,60600,9000,10890,null,60600,9000,10890]
[60700,9100,11011,{"$f":"VLOOKUP(A610,'Correcties op staffel'!$A$5:$C$10,2)","v":0},{"$f":"VLOOKUP(A610,'Correcties op staffel'!$A$5:$C$10,3)","v":0},9100,null,60700,9100,11011,null,60700,9100,11011]
[60800,9100,11011,{"$f":"VLOOKUP(A611,'Correcties op staffel'!$A$5:$C$10,2)","v":0},{"$f":"VLOOKUP(A611,'Correcties op staffel'!$A$5:$C$10,3)","v":0},9100,null,60800,9100,11011,null,60800,9100,11011]
[60900,9100,11011,{"$f":"VLOOKUP(A612,'Correcties op staffel'!$A$5:$C$10,2)","v":0},{"$f":"VLOOKUP(A612,'Correcties op staffel'!$A$5:$C$10,3)","v":0},9100,null,60900,9100,11011,null,60900,9100,11011]
[61000,9100,11011,{"$f":"VLOOKUP(A613,'Correcties op staffel'!$A$5:$C$10,2)","v":0},{"$f":"VLOOKUP(A613,'Correcties op staffel'!$A$5:$C$10,3)","v":0},9100,null,61000,9100,11011,null,61000,9100,11011]
[61100,9100,11011,{"$f":"VLOOKUP(A614,'Correcties op staffel'!$A$5:$C$10,2)","v":0},{"$f":"VLOOKUP(A614,'Correcties op staffel'!$A$5:$C$10,3)","v":0},9100,null,61100,9100,11011,null,61100,9100,11011]
[61200,9100,11011,{"$f":"VLOOKUP(A615,'Correcties op staffel'!$A$5:$C$10,2)","v":0},{"$f":"VLOOKUP(A615,'Correcties op staffel'!$A$5:$C$10,3)","v":0},9100,null,61200,9100,11011,null,61200,9100,11011]
[61300,9200,11132,{"$f":"VLOOKUP(A616,'Correcties op staffel'!$A$5:$C$10,2)","v":0},{"$f":"VLOOKUP(A616,'Correcties op staffel'!$A$5:$C$10,3)","v":0},9200,null,61300,9200,11132,null,61300,9200,11132]
[61400,9200,11132,{"$f":"VLOOKUP(A617,'Correcties op staffel'!$A$5:$C$10,2)","v":0},{"$f":"VLOOKUP(A617,'Correcties op staffel'!$A$5:$C$10,3)","v":0},9200,null,61400,9200,11132,null,61400,9200,11132]
[61500,9200,11132,{"$f":"VLOOKUP(A618,'Correcties op staffel'!$A$5:$C$10,2)","v":0},{"$f":"VLOOKUP(A618,'Correcties op staffel'!$A$5:$C$10,3)","v":0},9200,null,61500,9200,11132,null,61500,9200,11132]
[61600,9200,11132,{"$f":"VLOOKUP(A619,'Correcties op staffel'!$A$5:$C$10,2)","v":0},{"$f":"VLOOKUP(A619,'Correcties op staffel'!$A$5:$C$10,3)","v":0},9200,null,61600,9200,11132,null,61600,9200,11132]
[61700,9200,11132,{"$f":"VLOOKUP(A620,'Correcties op staffel'!$A$5:$C$10,2)","v":0},{"$f":"VLOOKUP(A620,'Correcties op staffel'!$A$5:$C$10,3)","v":0},9200,null,61700,9200,11132,null,61700,9200,11132]
[61800,9200,11132,{"$f":"VLOOKUP(A621,'Correcties op staffel'!$A$5:$C$10,2)","v":0},{"$f":"VLOOKUP(A621,'Correcties op staffel'!$A$5:$C$10,3)","v":0},9200,null,61800,9200,11132,null,61800,9200,11132]
[61900,9300,11253,{"$f":"VLOOKUP(A622,'Correcties op staffel'!$A$5:$C$10,2)","v":0},{"$f":"VLOOKUP(A622,'Correcties op staffel'!$A$5:$C$10,3)","v":0},9300,null,61900,9300,11253,null,61900,9300,11253]
[62000,9300,11253,{"$f":"VLOOKUP(A623,'Correcties op staffel'!$A$5:$C$10,2)","v":0},{"$f":"VLOOKUP(A623,'Correcties op staffel'!$A$5:$C$10,3)","v":0},9300,null,62000,9300,11253,null,62000,9300,11253]
[62100,9300,11253,{"$f":"VLOOKUP(A624,'Correcties op staffel'!$A$5:$C$10,2)","v":0},{"$f":"VLOOKUP(A624,'Correcties op staffel'!$A$5:$C$10,3)","v":0},9300,null,62100,9300,11253,null,62100,9300,11253]
[62200,9300,11253,{"$f":"VLOOKUP(A625,'Correcties op staffel'!$A$5:$C$10,2)","v":0},{"$f":"VLOOKUP(A625,'Correcties op staffel'!$A$5:$C$10,3)","v":0},9300,null,62200,9300,11253,null,62200,9300,11253]
[62300,9300,11253,{"$f":"VLOOKUP(A626,'Correcties op staffel'!$A$5:$C$10,2)","v":0},{"$f":"VLOOKUP(A626,'Correcties op staffel'!$A$5:$C$10,3)","v":0},9300,null,62300,9300,11253,null,62300,9300,11253]
[62400,9400,11374,{"$f":"VLOOKUP(A627,'Correcties op staffel'!$A$5:$C$10,2)","v":0},{"$f":"VLOOKUP(A627,'Correcties op staffel'!$A$5:$C$10,3)","v":0},9400,null,62400,9400,11374,null,62400,9400,11374]
[62500,9400,11374,{"$f":"VLOOKUP(A628,'Correcties op staffel'!$A$5:$C$10,2)","v":0},{"$f":"VLOOKUP(A628,'Correcties op staffel'!$A$5:$C$10,3)","v":0},9400,null,62500,9400,11374,null,62500,9400,11374]
[62600,9400,11374,{"$f":"VLOOKUP(A629,'Correcties op staffel'!$A$5:$C$10,2)","v":0},{"$f":"VLOOKUP(A629,'Correcties op staffel'!$A$5:$C$10,3)","v":0},9400,null,62600,9400,11374,null,62600,9400,11374]
[62700,9400,11374,{"$f":"VLOOKUP(A630,'Correcties op staffel'!$A$5:$C$10,2)","v":0},{"$f":"VLOOKUP(A630,'Correcties op staffel'!$A$5:$C$10,3)","v":0},9400,null,62700,9400,11374,null,62700,9400,11374]
[62800,9400,11374,{"$f":"VLOOKUP(A631,'Correcties op staffel'!$A$5:$C$10,2)","v":0},{"$f":"VLOOKUP(A631,'Correcties op staffel'!$A$5:$C$10,3)","v":0},9400,null,62800,9400,11374,null,62800,9400,11374]
[62900,9400,11374,{"$f":"VLOOKUP(A632,'Correcties op staffel'!$A$5:$C$10,2)","v":0},{"$f":"VLOOKUP(A632,'Correcties op staffel'!$A$5:$C$10,3)","v":0},9400,null,62900,9400,11374,null,62900,9400,11374]
[63000,9500,11495,{"$f":"VLOOKUP(A633,'Correcties op staffel'!$A$5:$C$10,2)","v":0},{"$f":"VLOOKUP(A633,'Correcties op staffel'!$A$5:$C$10,3)","v":0},9500,null,63000,9500,11495,null,63000,9500,11495]
[63100,9500,11495,{"$f":"VLOOKUP(A634,'Correcties op staffel'!$A$5:$C$10,2)","v":0},{"$f":"VLOOKUP(A634,'Correcties op staffel'!$A$5:$C$10,3)","v":0},9500,null,63100,9500,11495,null,63100,9500,11495]
[63200,9500,11495,{"$f":"VLOOKUP(A635,'Correcties op staffel'!$A$5:$C$10,2)","v":0},{"$f":"VLOOKUP(A635,'Correcties op staffel'!$A$5:$C$10,3)","v":0},9500,null,63200,9500,11495,null,63200,9500,11495]
[63300,9500,11495,{"$f":"VLOOKUP(A636,'Correcties op staffel'!$A$5:$C$10,2)","v":0},{"$f":"VLOOKUP(A636,'Correcties op staffel'!$A$5:$C$10,3)","v":0},9500,null,63300,9500,11495,null,63300,9500,11495]
[63400,9500,11495,{"$f":"VLOOKUP(A637,'Correcties op staffel'!$A$5:$C$10,2)","v":0},{"$f":"VLOOKUP(A637,'Correcties op staffel'!$A$5:$C$10,3)","v":0},9500,null,63400,9500,11495,null,63400,9500,11495]
[63500,9500,11495,{"$f":"VLOOKUP(A638,'Correcties op staffel'!$A$5:$C$10,2)","v":0},{"$f":"VLOOKUP(A638,'Correcties op staffel'!$A$5:$C$10,3)","v":0},9500,null,63500,9500,11495,null,63500,9500,11495]
[63600,9600,11616,{"$f":"VLOOKUP(A639,'Correcties op staffel'!$A$5:$C$10,2)","v":0},{"$f":"VLOOKUP(A639,'Correcties op staffel'!$A$5:$C$10,3)","v":0},9600,null,63600,9600,11616,null,63600,9600,11616]
[63700,9600,11616,{"$f":"VLOOKUP(A640,'Correcties op staffel'!$A$5:$C$10,2)","v":0},{"$f":"VLOOKUP(A640,'Correcties op staffel'!$A$5:$C$10,3)","v":0},9600,null,63700,9600,11616,null,63700,9600,11616]
[63800,9600,11616,{"$f":"VLOOKUP(A641,'Correcties op staffel'!$A$5:$C$10,2)","v":0},{"$f":"VLOOKUP(A641,'Correcties op staffel'!$A$5:$C$10,3)","v":0},9600,null,63800,9600,11616,null,63800,9600,11616]
[63900,9600,11616,{"$f":"VLOOKUP(A642,'Correcties op staffel'!$A$5:$C$10,2)","v":0},{"$f":"VLOOKUP(A642,'Correcties op staffel'!$A$5:$C$10,3)","v":0},9600,null,63900,9600,11616,null,63900,9600,11616]
[64000,9600,11616,{"$f":"VLOOKUP(A643,'Correcties op staffel'!$A$5:$C$10,2)","v":0},{"$f":"VLOOKUP(A643,'Correcties op staffel'!$A$5:$C$10,3)","v":0},9600,null,64000,9600,11616,null,64000,9600,11616]
[64100,9600,11616,{"$f":"VLOOKUP(A644,'Correcties op staffel'!$A$5:$C$10,2)","v":0},{"$f":"VLOOKUP(A644,'Correcties op staffel'!$A$5:$C$10,3)","v":0},{"$f":"B644*(1+D644)+E644","v":9600},null,64100,{"$f":"ROUND(F644,0)","v":9600},11616,null,64100,9600,11616]
[64200,9700,11737,{"$f":"VLOOKUP(A645,'Correcties op staffel'!$A$5:$C$10,2)","v":0},{"$f":"VLOOKUP(A645,'Correcties op staffel'!$A$5:$C$10,3)","v":0},9700,null,64200,9700,{"$f":"I645*1.21","v":11737},null,64200,{"$f":"IF(ROUND(I645/5,0)*5<I645,ROUND(I645/5,0)*5+5,ROUND(I645/5,0)*5)","v":9700},{"$f":"M645*1.21","v":11737}]
[64300,9700,11737,{"$f":"VLOOKUP(A646,'Correcties op staffel'!$A$5:$C$10,2)","v":0},{"$f":"VLOOKUP(A646,'Correcties op staffel'!$A$5:$C$10,3)","v":0},9700,null,64300,9700,11737,null,64300,9700,11737]
[64400,9700,11737,{"$f":"VLOOKUP(A647,'Correcties op staffel'!$A$5:$C$10,2)","v":0},{"$f":"VLOOKUP(A647,'Correcties op staffel'!$A$5:$C$10,3)","v":0},9700,null,64400,9700,11737,null,64400,9700,11737]
[64500,9700,11737,{"$f":"VLOOKUP(A648,'Correcties op staffel'!$A$5:$C$10,2)","v":0},{"$f":"VLOOKUP(A648,'Correcties op staffel'!$A$5:$C$10,3)","v":0},9700,null,64500,9700,11737,null,64500,9700,11737]
[64600,9700,11737,{"$f":"VLOOKUP(A649,'Correcties op staffel'!$A$5:$C$10,2)","v":0},{"$f":"VLOOKUP(A649,'Correcties op staffel'!$A$5:$C$10,3)","v":0},9700,null,64600,9700,11737,null,64600,9700,11737]
[64700,9700,11737,{"$f":"VLOOKUP(A650,'Correcties op staffel'!$A$5:$C$10,2)","v":0},{"$f":"VLOOKUP(A650,'Correcties op staffel'!$A$5:$C$10,3)","v":0},9700,null,{"$f":"H649+100","v":64700},9700,11737,null,64700,9700,11737]
[64800,9800,11858,{"$f":"VLOOKUP(A651,'Correcties op staffel'!$A$5:$C$10,2)","v":0},{"$f":"VLOOKUP(A651,'Correcties op staffel'!$A$5:$C$10,3)","v":0},9800,null,64800,9800,11858,null,64800,9800,11858]
[64900,9800,11858,{"$f":"VLOOKUP(A652,'Correcties op staffel'!$A$5:$C$10,2)","v":0},{"$f":"VLOOKUP(A652,'Correcties op staffel'!$A$5:$C$10,3)","v":0},9800,null,64900,9800,11858,null,64900,9800,11858]
[65000,9800,11858,{"$f":"VLOOKUP(A653,'Correcties op staffel'!$A$5:$C$10,2)","v":0},{"$f":"VLOOKUP(A653,'Correcties op staffel'!$A$5:$C$10,3)","v":0},9800,null,65000,9800,11858,null,65000,9800,11858]
[65100,9800,11858,{"$f":"VLOOKUP(A654,'Correcties op staffel'!$A$5:$C$10,2)","v":0},{"$f":"VLOOKUP(A654,'Correcties op staffel'!$A$5:$C$10,3)","v":0},9800,null,65100,9800,11858,null,65100,9800,11858]
[65200,9800,11858,{"$f":"VLOOKUP(A655,'Correcties op staffel'!$A$5:$C$10,2)","v":0},{"$f":"VLOOKUP(A655,'Correcties op staffel'!$A$5:$C$10,3)","v":0},9800,null,65200,9800,11858,null,65200,9800,11858]
[{"$f":"A655+100","v":65300},9900,11979,{"$f":"VLOOKUP(A656,'Correcties op staffel'!$A$5:$C$10,2)","v":0},{"$f":"VLOOKUP(A656,'Correcties op staffel'!$A$5:$C$10,3)","v":0},9900,null,65300,9900,11979,null,65300,9900,11979]
[65400,9900,11979,{"$f":"VLOOKUP(A657,'Correcties op staffel'!$A$5:$C$10,2)","v":0},{"$f":"VLOOKUP(A657,'Correcties op staffel'!$A$5:$C$10,3)","v":0},9900,null,65400,9900,11979,null,65400,9900,11979]
[65500,9900,11979,{"$f":"VLOOKUP(A658,'Correcties op staffel'!$A$5:$C$10,2)","v":0},{"$f":"VLOOKUP(A658,'Correcties op staffel'!$A$5:$C$10,3)","v":0},9900,null,65500,9900,11979,null,65500,9900,11979]
[65600,9900,11979,{"$f":"VLOOKUP(A659,'Correcties op staffel'!$A$5:$C$10,2)","v":0},{"$f":"VLOOKUP(A659,'Correcties op staffel'!$A$5:$C$10,3)","v":0},9900,null,65600,9900,11979,null,65600,9900,11979]
[65700,9900,11979,{"$f":"VLOOKUP(A660,'Correcties op staffel'!$A$5:$C$10,2)","v":0},{"$f":"VLOOKUP(A660,'Correcties op staffel'!$A$5:$C$10,3)","v":0},9900,null,65700,9900,11979,null,65700,9900,11979]
[65800,9900,11979,{"$f":"VLOOKUP(A661,'Correcties op staffel'!$A$5:$C$10,2)","v":0},{"$f":"VLOOKUP(A661,'Correcties op staffel'!$A$5:$C$10,3)","v":0},9900,null,65800,9900,11979,null,65800,9900,11979]
[65900,10000,12100,{"$f":"VLOOKUP(A662,'Correcties op staffel'!$A$5:$C$10,2)","v":0},{"$f":"VLOOKUP(A662,'Correcties op staffel'!$A$5:$C$10,3)","v":0},10000,null,65900,10000,12100,null,65900,10000,12100]
[66000,10000,12100,{"$f":"VLOOKUP(A663,'Correcties op staffel'!$A$5:$C$10,2)","v":0},{"$f":"VLOOKUP(A663,'Correcties op staffel'!$A$5:$C$10,3)","v":0},10000,null,66000,10000,12100,null,66000,10000,12100]
[66100,10000,12100,{"$f":"VLOOKUP(A664,'Correcties op staffel'!$A$5:$C$10,2)","v":0},{"$f":"VLOOKUP(A664,'Correcties op staffel'!$A$5:$C$10,3)","v":0},10000,null,66100,10000,12100,null,66100,10000,12100]
[66200,10000,12100,{"$f":"VLOOKUP(A665,'Correcties op staffel'!$A$5:$C$10,2)","v":0},{"$f":"VLOOKUP(A665,'Correcties op staffel'!$A$5:$C$10,3)","v":0},10000,null,66200,10000,12100,null,66200,10000,12100]
[66300,10000,12100,{"$f":"VLOOKUP(A666,'Correcties op staffel'!$A$5:$C$10,2)","v":0},{"$f":"VLOOKUP(A666,'Correcties op staffel'!$A$5:$C$10,3)","v":0},10000,null,66300,10000,12100,null,66300,10000,12100]
[66400,10000,12100,{"$f":"VLOOKUP(A667,'Correcties op staffel'!$A$5:$C$10,2)","v":0},{"$f":"VLOOKUP(A667,'Correcties op staffel'!$A$5:$C$10,3)","v":0},10000,null,66400,10000,12100,null,66400,10000,12100]
[66500,10100,12221,{"$f":"VLOOKUP(A668,'Correcties op staffel'!$A$5:$C$10,2)","v":0},{"$f":"VLOOKUP(A668,'Correcties op staffel'!$A$5:$C$10,3)","v":0},10100,null,66500,10100,12221,null,66500,10100,12221]
[66600,10100,12221,{"$f":"VLOOKUP(A669,'Correcties op staffel'!$A$5:$C$10,2)","v":0},{"$f":"VLOOKUP(A669,'Correcties op staffel'!$A$5:$C$10,3)","v":0},10100,null,66600,10100,12221,null,66600,10100,12221]
[66700,10100,12221,{"$f":"VLOOKUP(A670,'Correcties op staffel'!$A$5:$C$10,2)","v":0},{"$f":"VLOOKUP(A670,'Correcties op staffel'!$A$5:$C$10,3)","v":0},10100,null,66700,10100,12221,null,66700,10100,12221]
[66800,10100,12221,{"$f":"VLOOKUP(A671,'Correcties op staffel'!$A$5:$C$10,2)","v":0},{"$f":"VLOOKUP(A671,'Correcties op staffel'!$A$5:$C$10,3)","v":0},10100,null,66800,10100,12221,null,66800,10100,12221]
[66900,10100,12221,{"$f":"VLOOKUP(A672,'Correcties op staffel'!$A$5:$C$10,2)","v":0},{"$f":"VLOOKUP(A672,'Correcties op staffel'!$A$5:$C$10,3)","v":0},10100,null,66900,10100,12221,null,66900,10100,12221]
[67000,10100,12221,{"$f":"VLOOKUP(A673,'Correcties op staffel'!$A$5:$C$10,2)","v":0},{"$f":"VLOOKUP(A673,'Correcties op staffel'!$A$5:$C$10,3)","v":0},10100,null,67000,10100,12221,null,67000,10100,12221]
[67100,10200,12342,{"$f":"VLOOKUP(A674,'Correcties op staffel'!$A$5:$C$10,2)","v":0},{"$f":"VLOOKUP(A674,'Correcties op staffel'!$A$5:$C$10,3)","v":0},10200,null,67100,10200,12342,null,67100,10200,12342]
[67200,10200,12342,{"$f":"VLOOKUP(A675,'Correcties op staffel'!$A$5:$C$10,2)","v":0},{"$f":"VLOOKUP(A675,'Correcties op staffel'!$A$5:$C$10,3)","v":0},10200,null,67200,10200,12342,null,67200,10200,12342]
[67300,10200,12342,{"$f":"VLOOKUP(A676,'Correcties op staffel'!$A$5:$C$10,2)","v":0},{"$f":"VLOOKUP(A676,'Correcties op staffel'!$A$5:$C$10,3)","v":0},10200,null,67300,10200,12342,null,67300,10200,12342]
[67400,10200,12342,{"$f":"VLOOKUP(A677,'Correcties op staffel'!$A$5:$C$10,2)","v":0},{"$f":"VLOOKUP(A677,'Correcties op staffel'!$A$5:$C$10,3)","v":0},10200,null,67400,10200,12342,null,67400,10200,12342]
[67500,10200,12342,{"$f":"VLOOKUP(A678,'Correcties op staffel'!$A$5:$C$10,2)","v":0},{"$f":"VLOOKUP(A678,'Correcties op staffel'!$A$5:$C$10,3)","v":0},10200,null,67500,10200,12342,null,67500,10200,12342]
[67600,10200,12342,{"$f":"VLOOKUP(A679,'Correcties op staffel'!$A$5:$C$10,2)","v":0},{"$f":"VLOOKUP(A679,'Correcties op staffel'!$A$5:$C$10,3)","v":0},10200,null,67600,10200,12342,null,67600,10200,12342]
[67700,10300,12463,{"$f":"VLOOKUP(A680,'Correcties op staffel'!$A$5:$C$10,2)","v":0},{"$f":"VLOOKUP(A680,'Correcties op staffel'!$A$5:$C$10,3)","v":0},10300,null,67700,10300,12463,null,67700,10300,12463]
[67800,10300,12463,{"$f":"VLOOKUP(A681,'Correcties op staffel'!$A$5:$C$10,2)","v":0},{"$f":"VLOOKUP(A681,'Correcties op staffel'!$A$5:$C$10,3)","v":0},10300,null,67800,10300,12463,null,67800,10300,12463]
[67900,10300,12463,{"$f":"VLOOKUP(A682,'Correcties op staffel'!$A$5:$C$10,2)","v":0},{"$f":"VLOOKUP(A682,'Correcties op staffel'!$A$5:$C$10,3)","v":0},10300,null,67900,10300,12463,null,67900,10300,12463]
[68000,10300,12463,{"$f":"VLOOKUP(A683,'Correcties op staffel'!$A$5:$C$10,2)","v":0},{"$f":"VLOOKUP(A683,'Correcties op staffel'!$A$5:$C$10,3)","v":0},10300,null,68000,10300,12463,null,68000,10300,12463]
[68100,10300,12463,{"$f":"VLOOKUP(A684,'Correcties op staffel'!$A$5:$C$10,2)","v":0},{"$f":"VLOOKUP(A684,'Correcties op staffel'!$A$5:$C$10,3)","v":0},10300,null,68100,10300,12463,null,68100,10300,12463]
[68200,10400,12584,{"$f":"VLOOKUP(A685,'Correcties op staffel'!$A$5:$C$10,2)","v":0},{"$f":"VLOOKUP(A685,'Correcties op staffel'!$A$5:$C$10,3)","v":0},10400,null,68200,10400,12584,null,68200,10400,12584]
[68300,10400,12584,{"$f":"VLOOKUP(A686,'Correcties op staffel'!$A$5:$C$10,2)","v":0},{"$f":"VLOOKUP(A686,'Correcties op staffel'!$A$5:$C$10,3)","v":0},10400,null,68300,10400,12584,null,68300,10400,12584]
[68400,10400,12584,{"$f":"VLOOKUP(A687,'Correcties op staffel'!$A$5:$C$10,2)","v":0},{"$f":"VLOOKUP(A687,'Correcties op staffel'!$A$5:$C$10,3)","v":0},10400,null,68400,10400,12584,null,68400,10400,12584]
[68500,10400,12584,{"$f":"VLOOKUP(A688,'Correcties op staffel'!$A$5:$C$10,2)","v":0},{"$f":"VLOOKUP(A688,'Correcties op staffel'!$A$5:$C$10,3)","v":0},10400,null,68500,10400,12584,null,68500,10400,12584]
[68600,10400,12584,{"$f":"VLOOKUP(A689,'Correcties op staffel'!$A$5:$C$10,2)","v":0},{"$f":"VLOOKUP(A689,'Correcties op staffel'!$A$5:$C$10,3)","v":0},10400,null,68600,10400,12584,null,68600,10400,12584]
[68700,10400,12584,{"$f":"VLOOKUP(A690,'Correcties op staffel'!$A$5:$C$10,2)","v":0},{"$f":"VLOOKUP(A690,'Correcties op staffel'!$A$5:$C$10,3)","v":0},10400,null,68700,10400,12584,null,68700,10400,12584]
[68800,10500,12705,{"$f":"VLOOKUP(A691,'Correcties op staffel'!$A$5:$C$10,2)","v":0},{"$f":"VLOOKUP(A691,'Correcties op staffel'!$A$5:$C$10,3)","v":0},10500,null,68800,10500,12705,null,68800,10500,12705]
[68900,10500,12705,{"$f":"VLOOKUP(A692,'Correcties op staffel'!$A$5:$C$10,2)","v":0},{"$f":"VLOOKUP(A692,'Correcties op staffel'!$A$5:$C$10,3)","v":0},10500,null,68900,10500,12705,null,68900,10500,12705]
[69000,10500,12705,{"$f":"VLOOKUP(A693,'Correcties op staffel'!$A$5:$C$10,2)","v":0},{"$f":"VLOOKUP(A693,'Correcties op staffel'!$A$5:$C$10,3)","v":0},10500,null,69000,10500,12705,null,69000,10500,12705]
[69100,10500,12705,{"$f":"VLOOKUP(A694,'Correcties op staffel'!$A$5:$C$10,2)","v":0},{"$f":"VLOOKUP(A694,'Correcties op staffel'!$A$5:$C$10,3)","v":0},10500,null,69100,10500,12705,null,69100,10500,12705]
[69200,10500,12705,{"$f":"VLOOKUP(A695,'Correcties op staffel'!$A$5:$C$10,2)","v":0},{"$f":"VLOOKUP(A695,'Correcties op staffel'!$A$5:$C$10,3)","v":0},10500,null,69200,10500,12705,null,69200,10500,12705]
[69300,10500,12705,{"$f":"VLOOKUP(A696,'Correcties op staffel'!$A$5:$C$10,2)","v":0},{"$f":"VLOOKUP(A696,'Correcties op staffel'!$A$5:$C$10,3)","v":0},10500,null,69300,10500,12705,null,69300,10500,12705]
[69400,10600,12826,{"$f":"VLOOKUP(A697,'Correcties op staffel'!$A$5:$C$10,2)","v":0},{"$f":"VLOOKUP(A697,'Correcties op staffel'!$A$5:$C$10,3)","v":0},10600,null,69400,10600,12826,null,69400,10600,12826]
[69500,10600,12826,{"$f":"VLOOKUP(A698,'Correcties op staffel'!$A$5:$C$10,2)","v":0},{"$f":"VLOOKUP(A698,'Correcties op staffel'!$A$5:$C$10,3)","v":0},10600,null,69500,10600,12826,null,69500,10600,12826]
[69600,10600,12826,{"$f":"VLOOKUP(A699,'Correcties op staffel'!$A$5:$C$10,2)","v":0},{"$f":"VLOOKUP(A699,'Correcties op staffel'!$A$5:$C$10,3)","v":0},10600,null,69600,10600,12826,null,69600,10600,12826]
[69700,10600,12826,{"$f":"VLOOKUP(A700,'Correcties op staffel'!$A$5:$C$10,2)","v":0},{"$f":"VLOOKUP(A700,'Correcties op staffel'!$A$5:$C$10,3)","v":0},10600,null,69700,10600,12826,null,69700,10600,12826]
[69800,10600,12826,{"$f":"VLOOKUP(A701,'Correcties op staffel'!$A$5:$C$10,2)","v":0},{"$f":"VLOOKUP(A701,'Correcties op staffel'!$A$5:$C$10,3)","v":0},10600,null,69800,10600,12826,null,69800,10600,12826]
[69900,10600,12826,{"$f":"VLOOKUP(A702,'Correcties op staffel'!$A$5:$C$10,2)","v":0},{"$f":"VLOOKUP(A702,'Correcties op staffel'!$A$5:$C$10,3)","v":0},10600,null,69900,10600,12826,null,69900,10600,12826]
[70000,10700,12947,{"$f":"VLOOKUP(A703,'Correcties op staffel'!$A$5:$C$10,2)","v":0},{"$f":"VLOOKUP(A703,'Correcties op staffel'!$A$5:$C$10,3)","v":0},10700,null,70000,10700,12947,null,70000,10700,12947]
[70100,10700,12947,{"$f":"VLOOKUP(A704,'Correcties op staffel'!$A$5:$C$10,2)","v":0},{"$f":"VLOOKUP(A704,'Correcties op staffel'!$A$5:$C$10,3)","v":0},10700,null,70100,10700,12947,null,70100,10700,12947]
[70200,10700,12947,{"$f":"VLOOKUP(A705,'Correcties op staffel'!$A$5:$C$10,2)","v":0},{"$f":"VLOOKUP(A705,'Correcties op staffel'!$A$5:$C$10,3)","v":0},10700,null,70200,10700,12947,null,70200,10700,12947]
[70300,10700,12947,{"$f":"VLOOKUP(A706,'Correcties op staffel'!$A$5:$C$10,2)","v":0},{"$f":"VLOOKUP(A706,'Correcties op staffel'!$A$5:$C$10,3)","v":0},10700,null,70300,10700,12947,null,70300,10700,12947]
[70400,10700,12947,{"$f":"VLOOKUP(A707,'Correcties op staffel'!$A$5:$C$10,2)","v":0},{"$f":"VLOOKUP(A707,'Correcties op staffel'!$A$5:$C$10,3)","v":0},10700,null,70400,10700,12947,null,70400,10700,12947]
[70500,10700,12947,{"$f":"VLOOKUP(A708,'Correcties op staffel'!$A$5:$C$10,2)","v":0},{"$f":"VLOOKUP(A708,'Correcties op staffel'!$A$5:$C$10,3)","v":0},{"$f":"B708*(1+D708)+E708","v":10700},null,70500,{"$f":"ROUND(F708,0)","v":10700},12947,null,70500,10700,12947]
[70600,10800,13068,{"$f":"VLOOKUP(A709,'Correcties op staffel'!$A$5:$C$10,2)","v":0},{"$f":"VLOOKUP(A709,'Correcties op staffel'!$A$5:$C$10,3)","v":0},10800,null,70600,10800,{"$f":"I709*1.21","v":13068},null,70600,{"$f":"IF(ROUND(I709/5,0)*5<I709,ROUND(I709/5,0)*5+5,ROUND(I709/5,0)*5)","v":10800},{"$f":"M709*1.21","v":13068}]
[70700,10800,13068,{"$f":"VLOOKUP(A710,'Correcties op staffel'!$A$5:$C$10,2)","v":0},{"$f":"VLOOKUP(A710,'Correcties op staffel'!$A$5:$C$10,3)","v":0},10800,null,70700,10800,13068,null,70700,10800,13068]
[70800,10800,13068,{"$f":"VLOOKUP(A711,'Correcties op staffel'!$A$5:$C$10,2)","v":0},{"$f":"VLOOKUP(A711,'Correcties op staffel'!$A$5:$C$10,3)","v":0},10800,null,70800,10800,13068,null,70800,10800,13068]
[70900,10800,13068,{"$f":"VLOOKUP(A712,'Correcties op staffel'!$A$5:$C$10,2)","v":0},{"$f":"VLOOKUP(A712,'Correcties op staffel'!$A$5:$C$10,3)","v":0},10800,null,70900,10800,13068,null,70900,10800,13068]
[71000,10800,13068,{"$f":"VLOOKUP(A713,'Correcties op staffel'!$A$5:$C$10,2)","v":0},{"$f":"VLOOKUP(A713,'Correcties op staffel'!$A$5:$C$10,3)","v":0},10800,null,71000,10800,13068,null,71000,10800,13068]
[71100,10900,13189,{"$f":"VLOOKUP(A714,'Correcties op staffel'!$A$5:$C$10,2)","v":0},{"$f":"VLOOKUP(A714,'Correcties op staffel'!$A$5:$C$10,3)","v":0},10900,null,{"$f":"H713+100","v":71100},10900,13189,null,71100,10900,13189]
[71200,10900,13189,{"$f":"VLOOKUP(A715,'Correcties op staffel'!$A$5:$C$10,2)","v":0},{"$f":"VLOOKUP(A715,'Correcties op staffel'!$A$5:$C$10,3)","v":0},10900,null,71200,10900,13189,null,71200,10900,13189]
[71300,10900,13189,{"$f":"VLOOKUP(A716,'Correcties op staffel'!$A$5:$C$10,2)","v":0},{"$f":"VLOOKUP(A716,'Correcties op staffel'!$A$5:$C$10,3)","v":0},10900,null,71300,10900,13189,null,71300,10900,13189]
[71400,10900,13189,{"$f":"VLOOKUP(A717,'Correcties op staffel'!$A$5:$C$10,2)","v":0},{"$f":"VLOOKUP(A717,'Correcties op staffel'!$A$5:$C$10,3)","v":0},10900,null,71400,10900,13189,null,71400,10900,13189]
[71500,10900,13189,{"$f":"VLOOKUP(A718,'Correcties op staffel'!$A$5:$C$10,2)","v":0},{"$f":"VLOOKUP(A718,'Correcties op staffel'!$A$5:$C$10,3)","v":0},10900,null,71500,10900,13189,null,71500,10900,13189]
[71600,10900,13189,{"$f":"VLOOKUP(A719,'Correcties op staffel'!$A$5:$C$10,2)","v":0},{"$f":"VLOOKUP(A719,'Correcties op staffel'!$A$5:$C$10,3)","v":0},10900,null,71600,10900,13189,null,71600,10900,13189]
[{"$f":"A719+100","v":71700},11000,13310,{"$f":"VLOOKUP(A720,'Correcties op staffel'!$A$5:$C$10,2)","v":0},{"$f":"VLOOKUP(A720,'Correcties op staffel'!$A$5:$C$10,3)","v":0},11000,null,71700,11000,13310,null,71700,11000,13310]
[71800,11000,13310,{"$f":"VLOOKUP(A721,'Correcties op staffel'!$A$5:$C$10,2)","v":0},{"$f":"VLOOKUP(A721,'Correcties op staffel'!$A$5:$C$10,3)","v":0},11000,null,71800,11000,13310,null,71800,11000,13310]
[71900,11000,13310,{"$f":"VLOOKUP(A722,'Correcties op staffel'!$A$5:$C$10,2)","v":0},{"$f":"VLOOKUP(A722,'Correcties op staffel'!$A$5:$C$10,3)","v":0},11000,null,71900,11000,13310,null,71900,11000,13310]
[72000,11000,13310,{"$f":"VLOOKUP(A723,'Correcties op staffel'!$A$5:$C$10,2)","v":0},{"$f":"VLOOKUP(A723,'Correcties op staffel'!$A$5:$C$10,3)","v":0},11000,null,72000,11000,13310,null,72000,11000,13310]
[72100,11000,13310,{"$f":"VLOOKUP(A724,'Correcties op staffel'!$A$5:$C$10,2)","v":0},{"$f":"VLOOKUP(A724,'Correcties op staffel'!$A$5:$C$10,3)","v":0},11000,null,72100,11000,13310,null,72100,11000,13310]
[72200,11000,13310,{"$f":"VLOOKUP(A725,'Correcties op staffel'!$A$5:$C$10,2)","v":0},{"$f":"VLOOKUP(A725,'Correcties op staffel'!$A$5:$C$10,3)","v":0},11000,null,72200,11000,13310,null,72200,11000,13310]
[72300,11100,13431,{"$f":"VLOOKUP(A726,'Correcties op staffel'!$A$5:$C$10,2)","v":0},{"$f":"VLOOKUP(A726,'Correcties op staffel'!$A$5:$C$10,3)","v":0},11100,null,72300,11100,13431,null,72300,11100,13431]
[72400,11100,13431,{"$f":"VLOOKUP(A727,'Correcties op staffel'!$A$5:$C$10,2)","v":0},{"$f":"VLOOKUP(A727,'Correcties op staffel'!$A$5:$C$10,3)","v":0},11100,null,72400,11100,13431,null,72400,11100,13431]
[72500,11100,13431,{"$f":"VLOOKUP(A728,'Correcties op staffel'!$A$5:$C$10,2)","v":0},{"$f":"VLOOKUP(A728,'Correcties op staffel'!$A$5:$C$10,3)","v":0},11100,null,72500,11100,13431,null,72500,11100,13431]
[72600,11100,13431,{"$f":"VLOOKUP(A729,'Correcties op staffel'!$A$5:$C$10,2)","v":0},{"$f":"VLOOKUP(A729,'Correcties op staffel'!$A$5:$C$10,3)","v":0},11100,null,72600,11100,13431,null,72600,11100,13431]
[72700,11100,13431,{"$f":"VLOOKUP(A730,'Correcties op staffel'!$A$5:$C$10,2)","v":0},{"$f":"VLOOKUP(A730,'Correcties op staffel'!$A$5:$C$10,3)","v":0},11100,null,72700,11100,13431,null,72700,11100,13431]
[72800,11100,13431,{"$f":"VLOOKUP(A731,'Correcties op staffel'!$A$5:$C$10,2)","v":0},{"$f":"VLOOKUP(A731,'Correcties op staffel'!$A$5:$C$10,3)","v":0},11100,null,72800,11100,13431,null,72800,11100,13431]
[72900,11200,13552,{"$f":"VLOOKUP(A732,'Correcties op staffel'!$A$5:$C$10,2)","v":0},{"$f":"VLOOKUP(A732,'Correcties op staffel'!$A$5:$C$10,3)","v":0},11200,null,72900,11200,13552,null,72900,11200,13552]
[73000,11200,13552,{"$f":"VLOOKUP(A733,'Correcties op staffel'!$A$5:$C$10,2)","v":0},{"$f":"VLOOKUP(A733,'Correcties op staffel'!$A$5:$C$10,3)","v":0},11200,null,73000,11200,13552,null,73000,11200,13552]
[73100,11200,13552,{"$f":"VLOOKUP(A734,'Correcties op staffel'!$A$5:$C$10,2)","v":0},{"$f":"VLOOKUP(A734,'Correcties op staffel'!$A$5:$C$10,3)","v":0},11200,null,73100,11200,13552,null,73100,11200,13552]
[73200,11200,13552,{"$f":"VLOOKUP(A735,'Correcties op staffel'!$A$5:$C$10,2)","v":0},{"$f":"VLOOKUP(A735,'Correcties op staffel'!$A$5:$C$10,3)","v":0},11200,null,73200,11200,13552,null,73200,11200,13552]
[73300,11200,13552,{"$f":"VLOOKUP(A736,'Correcties op staffel'!$A$5:$C$10,2)","v":0},{"$f":"VLOOKUP(A736,'Correcties op staffel'!$A$5:$C$10,3)","v":0},11200,null,73300,11200,13552,null,73300,11200,13552]
[73400,11200,13552,{"$f":"VLOOKUP(A737,'Correcties op staffel'!$A$5:$C$10,2)","v":0},{"$f":"VLOOKUP(A737,'Correcties op staffel'!$A$5:$C$10,3)","v":0},11200,null,73400,11200,13552,null,73400,11200,13552]
[73500,11300,13673,{"$f":"VLOOKUP(A738,'Correcties op staffel'!$A$5:$C$10,2)","v":0},{"$f":"VLOOKUP(A738,'Correcties op staffel'!$A$5:$C$10,3)","v":0},11300,null,73500,11300,13673,null,73500,11300,13673]
[73600,11300,13673,{"$f":"VLOOKUP(A739,'Correcties op staffel'!$A$5:$C$10,2)","v":0},{"$f":"VLOOKUP(A739,'Correcties op staffel'!$A$5:$C$10,3)","v":0},11300,null,73600,11300,13673,null,73600,11300,13673]
[73700,11300,13673,{"$f":"VLOOKUP(A740,'Correcties op staffel'!$A$5:$C$10,2)","v":0},{"$f":"VLOOKUP(A740,'Correcties op staffel'!$A$5:$C$10,3)","v":0},11300,null,73700,11300,13673,null,73700,11300,13673]
[73800,11300,13673,{"$f":"VLOOKUP(A741,'Correcties op staffel'!$A$5:$C$10,2)","v":0},{"$f":"VLOOKUP(A741,'Correcties op staffel'!$A$5:$C$10,3)","v":0},11300,null,73800,11300,13673,null,73800,11300,13673]
[73900,11300,13673,{"$f":"VLOOKUP(A742,'Correcties op staffel'!$A$5:$C$10,2)","v":0},{"$f":"VLOOKUP(A742,'Correcties op staffel'!$A$5:$C$10,3)","v":0},11300,null,73900,11300,13673,null,73900,11300,13673]
[74000,11400,13794,{"$f":"VLOOKUP(A743,'Correcties op staffel'!$A$5:$C$10,2)","v":0},{"$f":"VLOOKUP(A743,'Correcties op staffel'!$A$5:$C$10,3)","v":0},11400,null,74000,11400,13794,null,74000,11400,13794]
[74100,11400,13794,{"$f":"VLOOKUP(A744,'Correcties op staffel'!$A$5:$C$10,2)","v":0},{"$f":"VLOOKUP(A744,'Correcties op staffel'!$A$5:$C$10,3)","v":0},11400,null,74100,11400,13794,null,74100,11400,13794]
[74200,11400,13794,{"$f":"VLOOKUP(A745,'Correcties op staffel'!$A$5:$C$10,2)","v":0},{"$f":"VLOOKUP(A745,'Correcties op staffel'!$A$5:$C$10,3)","v":0},11400,null,74200,11400,13794,null,74200,11400,13794]
[74300,11400,13794,{"$f":"VLOOKUP(A746,'Correcties op staffel'!$A$5:$C$10,2)","v":0},{"$f":"VLOOKUP(A746,'Correcties op staffel'!$A$5:$C$10,3)","v":0},11400,null,74300,11400,13794,null,74300,11400,13794]
[74400,11400,13794,{"$f":"VLOOKUP(A747,'Correcties op staffel'!$A$5:$C$10,2)","v":0},{"$f":"VLOOKUP(A747,'Correcties op staffel'!$A$5:$C$10,3)","v":0},11400,null,74400,11400,13794,null,74400,11400,13794]
[74500,11400,13794,{"$f":"VLOOKUP(A748,'Correcties op staffel'!$A$5:$C$10,2)","v":0},{"$f":"VLOOKUP(A748,'Correcties op staffel'!$A$5:$C$10,3)","v":0},11400,null,74500,11400,13794,null,74500,11400,13794]
[74600,11500,13915,{"$f":"VLOOKUP(A749,'Correcties op staffel'!$A$5:$C$10,2)","v":0},{"$f":"VLOOKUP(A749,'Correcties op staffel'!$A$5:$C$10,3)","v":0},11500,null,74600,11500,13915,null,74600,11500,13915]
[74700,11500,13915,{"$f":"VLOOKUP(A750,'Correcties op staffel'!$A$5:$C$10,2)","v":0},{"$f":"VLOOKUP(A750,'Correcties op staffel'!$A$5:$C$10,3)","v":0},11500,null,74700,11500,13915,null,74700,11500,13915]
[74800,11500,13915,{"$f":"VLOOKUP(A751,'Correcties op staffel'!$A$5:$C$10,2)","v":0},{"$f":"VLOOKUP(A751,'Correcties op staffel'!$A$5:$C$10,3)","v":0},11500,null,74800,11500,13915,null,74800,11500,13915]
[74900,11500,13915,{"$f":"VLOOKUP(A752,'Correcties op staffel'!$A$5:$C$10,2)","v":0},{"$f":"VLOOKUP(A752,'Correcties op staffel'!$A$5:$C$10,3)","v":0},11500,null,74900,11500,13915,null,74900,11500,13915]
[75000,11500,13915,{"$f":"VLOOKUP(A753,'Correcties op staffel'!$A$5:$C$10,2)","v":0},{"$f":"VLOOKUP(A753,'Correcties op staffel'!$A$5:$C$10,3)","v":0},11500,null,75000,11500,13915,null,75000,11500,13915]
[75100,11600,14036,{"$f":"VLOOKUP(A754,'Correcties op staffel'!$A$5:$C$10,2)","v":0},{"$f":"VLOOKUP(A754,'Correcties op staffel'!$A$5:$C$10,3)","v":0},11600,null,75100,11600,14036,null,75100,11600,14036]
[75200,11600,14036,{"$f":"VLOOKUP(A755,'Correcties op staffel'!$A$5:$C$10,2)","v":0},{"$f":"VLOOKUP(A755,'Correcties op staffel'!$A$5:$C$10,3)","v":0},11600,null,75200,11600,14036,null,75200,11600,14036]
[75300,11600,14036,{"$f":"VLOOKUP(A756,'Correcties op staffel'!$A$5:$C$10,2)","v":0},{"$f":"VLOOKUP(A756,'Correcties op staffel'!$A$5:$C$10,3)","v":0},11600,null,75300,11600,14036,null,75300,11600,14036]
[75400,11600,14036,{"$f":"VLOOKUP(A757,'Correcties op staffel'!$A$5:$C$10,2)","v":0},{"$f":"VLOOKUP(A757,'Correcties op staffel'!$A$5:$C$10,3)","v":0},11600,null,75400,11600,14036,null,75400,11600,14036]
[75500,11600,14036,{"$f":"VLOOKUP(A758,'Correcties op staffel'!$A$5:$C$10,2)","v":0},{"$f":"VLOOKUP(A758,'Correcties op staffel'!$A$5:$C$10,3)","v":0},11600,null,75500,11600,14036,null,75500,11600,14036]
[75600,11600,14036,{"$f":"VLOOKUP(A759,'Correcties op staffel'!$A$5:$C$10,2)","v":0},{"$f":"VLOOKUP(A759,'Correcties op staffel'!$A$5:$C$10,3)","v":0},11600,null,75600,11600,14036,null,75600,11600,14036]
[75700,11700,14157,{"$f":"VLOOKUP(A760,'Correcties op staffel'!$A$5:$C$10,2)","v":0},{"$f":"VLOOKUP(A760,'Correcties op staffel'!$A$5:$C$10,3)","v":0},11700,null,75700,11700,14157,null,75700,11700,14157]
[75800,11700,14157,{"$f":"VLOOKUP(A761,'Correcties op staffel'!$A$5:$C$10,2)","v":0},{"$f":"VLOOKUP(A761,'Correcties op staffel'!$A$5:$C$10,3)","v":0},11700,null,75800,11700,14157,null,75800,11700,14157]
[75900,11700,14157,{"$f":"VLOOKUP(A762,'Correcties op staffel'!$A$5:$C$10,2)","v":0},{"$f":"VLOOKUP(A762,'Correcties op staffel'!$A$5:$C$10,3)","v":0},11700,null,75900,11700,14157,null,75900,11700,14157]
[76000,11700,14157,{"$f":"VLOOKUP(A763,'Correcties op staffel'!$A$5:$C$10,2)","v":0},{"$f":"VLOOKUP(A763,'Correcties op staffel'!$A$5:$C$10,3)","v":0},11700,null,76000,11700,14157,null,76000,11700,14157]
[76100,11700,14157,{"$f":"VLOOKUP(A764,'Correcties op staffel'!$A$5:$C$10,2)","v":0},{"$f":"VLOOKUP(A764,'Correcties op staffel'!$A$5:$C$10,3)","v":0},11700,null,76100,11700,14157,null,76100,11700,14157]
[76200,11700,14157,{"$f":"VLOOKUP(A765,'Correcties op staffel'!$A$5:$C$10,2)","v":0},{"$f":"VLOOKUP(A765,'Correcties op staffel'!$A$5:$C$10,3)","v":0},11700,null,76200,11700,14157,null,76200,11700,14157]
[76300,11700,14157,{"$f":"VLOOKUP(A766,'Correcties op staffel'!$A$5:$C$10,2)","v":0},{"$f":"VLOOKUP(A766,'Correcties op staffel'!$A$5:$C$10,3)","v":0},11700,null,76300,11700,14157,null,76300,11700,14157]
[76400,11800,14278,{"$f":"VLOOKUP(A767,'Correcties op staffel'!$A$5:$C$10,2)","v":0},{"$f":"VLOOKUP(A767,'Correcties op staffel'!$A$5:$C$10,3)","v":0},11800,null,76400,11800,14278,null,76400,11800,14278]
[76500,11800,14278,{"$f":"VLOOKUP(A768,'Correcties op staffel'!$A$5:$C$10,2)","v":0},{"$f":"VLOOKUP(A768,'Correcties op staffel'!$A$5:$C$10,3)","v":0},11800,null,76500,11800,14278,null,76500,11800,14278]
[76600,11800,14278,{"$f":"VLOOKUP(A769,'Correcties op staffel'!$A$5:$C$10,2)","v":0},{"$f":"VLOOKUP(A769,'Correcties op staffel'!$A$5:$C$10,3)","v":0},11800,null,76600,11800,14278,null,76600,11800,14278]
[76700,11800,14278,{"$f":"VLOOKUP(A770,'Correcties op staffel'!$A$5:$C$10,2)","v":0},{"$f":"VLOOKUP(A770,'Correcties op staffel'!$A$5:$C$10,3)","v":0},11800,null,76700,11800,14278,null,76700,11800,14278]
[76800,11800,14278,{"$f":"VLOOKUP(A771,'Correcties op staffel'!$A$5:$C$10,2)","v":0},{"$f":"VLOOKUP(A771,'Correcties op staffel'!$A$5:$C$10,3)","v":0},11800,null,76800,11800,14278,null,76800,11800,14278]
[76900,11800,14278,{"$f":"VLOOKUP(A772,'Correcties op staffel'!$A$5:$C$10,2)","v":0},{"$f":"VLOOKUP(A772,'Correcties op staffel'!$A$5:$C$10,3)","v":0},{"$f":"B772*(1+D772)+E772","v":11800},null,76900,{"$f":"ROUND(F772,0)","v":11800},14278,null,76900,11800,14278]
[77000,11800,14278,{"$f":"VLOOKUP(A773,'Correcties op staffel'!$A$5:$C$10,2)","v":0},{"$f":"VLOOKUP(A773,'Correcties op staffel'!$A$5:$C$10,3)","v":0},11800,null,77000,11800,{"$f":"I773*1.21","v":14278},null,77000,{"$f":"IF(ROUND(I773/5,0)*5<I773,ROUND(I773/5,0)*5+5,ROUND(I773/5,0)*5)","v":11800},{"$f":"M773*1.21","v":14278}]
[77100,11900,14399,{"$f":"VLOOKUP(A774,'Correcties op staffel'!$A$5:$C$10,2)","v":0},{"$f":"VLOOKUP(A774,'Correcties op staffel'!$A$5:$C$10,3)","v":0},11900,null,77100,11900,14399,null,77100,11900,14399]
[77200,11900,14399,{"$f":"VLOOKUP(A775,'Correcties op staffel'!$A$5:$C$10,2)","v":0},{"$f":"VLOOKUP(A775,'Correcties op staffel'!$A$5:$C$10,3)","v":0},11900,null,77200,11900,14399,null,77200,11900,14399]
[77300,11900,14399,{"$f":"VLOOKUP(A776,'Correcties op staffel'!$A$5:$C$10,2)","v":0},{"$f":"VLOOKUP(A776,'Correcties op staffel'!$A$5:$C$10,3)","v":0},11900,null,77300,11900,14399,null,77300,11900,14399]
[77400,11900,14399,{"$f":"VLOOKUP(A777,'Correcties op staffel'!$A$5:$C$10,2)","v":0},{"$f":"VLOOKUP(A777,'Correcties op staffel'!$A$5:$C$10,3)","v":0},11900,null,77400,11900,14399,null,77400,11900,14399]
[77500,11900,14399,{"$f":"VLOOKUP(A778,'Correcties op staffel'!$A$5:$C$10,2)","v":0},{"$f":"VLOOKUP(A778,'Correcties op staffel'!$A$5:$C$10,3)","v":0},11900,null,{"$f":"H777+100","v":77500},11900,14399,null,77500,11900,14399]
[77600,11900,14399,{"$f":"VLOOKUP(A779,'Correcties op staffel'!$A$5:$C$10,2)","v":0},{"$f":"VLOOKUP(A779,'Correcties op staffel'!$A$5:$C$10,3)","v":0},11900,null,77600,11900,14399,null,77600,11900,14399]
[77700,11900,14399,{"$f":"VLOOKUP(A780,'Correcties op staffel'!$A$5:$C$10,2)","v":0},{"$f":"VLOOKUP(A780,'Correcties op staffel'!$A$5:$C$10,3)","v":0},11900,null,77700,11900,14399,null,77700,11900,14399]
[77800,12000,14520,{"$f":"VLOOKUP(A781,'Correcties op staffel'!$A$5:$C$10,2)","v":0},{"$f":"VLOOKUP(A781,'Correcties op staffel'!$A$5:$C$10,3)","v":0},12000,null,77800,12000,14520,null,77800,12000,14520]
[77900,12000,14520,{"$f":"VLOOKUP(A782,'Correcties op staffel'!$A$5:$C$10,2)","v":0},{"$f":"VLOOKUP(A782,'Correcties op staffel'!$A$5:$C$10,3)","v":0},12000,null,77900,12000,14520,null,77900,12000,14520]
[78000,12000,14520,{"$f":"VLOOKUP(A783,'Correcties op staffel'!$A$5:$C$10,2)","v":0},{"$f":"VLOOKUP(A783,'Correcties op staffel'!$A$5:$C$10,3)","v":0},12000,null,78000,12000,14520,null,78000,12000,14520]
[{"$f":"A783+100","v":78100},12000,14520,{"$f":"VLOOKUP(A784,'Correcties op staffel'!$A$5:$C$10,2)","v":0},{"$f":"VLOOKUP(A784,'Correcties op staffel'!$A$5:$C$10,3)","v":0},12000,null,78100,12000,14520,null,78100,12000,14520]
[78200,12000,14520,{"$f":"VLOOKUP(A785,'Correcties op staffel'!$A$5:$C$10,2)","v":0},{"$f":"VLOOKUP(A785,'Correcties op staffel'!$A$5:$C$10,3)","v":0},12000,null,78200,12000,14520,null,78200,12000,14520]
[78300,12000,14520,{"$f":"VLOOKUP(A786,'Correcties op staffel'!$A$5:$C$10,2)","v":0},{"$f":"VLOOKUP(A786,'Correcties op staffel'!$A$5:$C$10,3)","v":0},12000,null,78300,12000,14520,null,78300,12000,14520]
[78400,12100,14641,{"$f":"VLOOKUP(A787,'Correcties op staffel'!$A$5:$C$10,2)","v":0},{"$f":"VLOOKUP(A787,'Correcties op staffel'!$A$5:$C$10,3)","v":0},12100,null,78400,12100,14641,null,78400,12100,14641]
[78500,12100,14641,{"$f":"VLOOKUP(A788,'Correcties op staffel'!$A$5:$C$10,2)","v":0},{"$f":"VLOOKUP(A788,'Correcties op staffel'!$A$5:$C$10,3)","v":0},12100,null,78500,12100,14641,null,78500,12100,14641]
[78600,12100,14641,{"$f":"VLOOKUP(A789,'Correcties op staffel'!$A$5:$C$10,2)","v":0},{"$f":"VLOOKUP(A789,'Correcties op staffel'!$A$5:$C$10,3)","v":0},12100,null,78600,12100,14641,null,78600,12100,14641]
[78700,12100,14641,{"$f":"VLOOKUP(A790,'Correcties op staffel'!$A$5:$C$10,2)","v":0},{"$f":"VLOOKUP(A790,'Correcties op staffel'!$A$5:$C$10,3)","v":0},12100,null,78700,12100,14641,null,78700,12100,14641]
[78800,12100,14641,{"$f":"VLOOKUP(A791,'Correcties op staffel'!$A$5:$C$10,2)","v":0},{"$f":"VLOOKUP(A791,'Correcties op staffel'!$A$5:$C$10,3)","v":0},12100,null,78800,12100,14641,null,78800,12100,14641]
[78900,12100,14641,{"$f":"VLOOKUP(A792,'Correcties op staffel'!$A$5:$C$10,2)","v":0},{"$f":"VLOOKUP(A792,'Correcties op staffel'!$A$5:$C$10,3)","v":0},12100,null,78900,12100,14641,null,78900,12100,14641]
[79000,12100,14641,{"$f":"VLOOKUP(A793,'Correcties op staffel'!$A$5:$C$10,2)","v":0},{"$f":"VLOOKUP(A793,'Correcties op staffel'!$A$5:$C$10,3)","v":0},12100,null,79000,12100,14641,null,79000,12100,14641]
[79100,12200,14762,{"$f":"VLOOKUP(A794,'Correcties op staffel'!$A$5:$C$10,2)","v":0},{"$f":"VLOOKUP(A794,'Correcties op staffel'!$A$5:$C$10,3)","v":0},12200,null,79100,12200,14762,null,79100,12200,14762]
[79200,12200,14762,{"$f":"VLOOKUP(A795,'Correcties op staffel'!$A$5:$C$10,2)","v":0},{"$f":"VLOOKUP(A795,'Correcties op staffel'!$A$5:$C$10,3)","v":0},12200,null,79200,12200,14762,null,79200,12200,14762]
[79300,12200,14762,{"$f":"VLOOKUP(A796,'Correcties op staffel'!$A$5:$C$10,2)","v":0},{"$f":"VLOOKUP(A796,'Correcties op staffel'!$A$5:$C$10,3)","v":0},12200,null,79300,12200,14762,null,79300,12200,14762]
[79400,12200,14762,{"$f":"VLOOKUP(A797,'Correcties op staffel'!$A$5:$C$10,2)","v":0},{"$f":"VLOOKUP(A797,'Correcties op staffel'!$A$5:$C$10,3)","v":0},12200,null,79400,12200,14762,null,79400,12200,14762]
[79500,12200,14762,{"$f":"VLOOKUP(A798,'Correcties op staffel'!$A$5:$C$10,2)","v":0},{"$f":"VLOOKUP(A798,'Correcties op staffel'!$A$5:$C$10,3)","v":0},12200,null,79500,12200,14762,null,79500,12200,14762]
[79600,12200,14762,{"$f":"VLOOKUP(A799,'Correcties op staffel'!$A$5:$C$10,2)","v":0},{"$f":"VLOOKUP(A799,'Correcties op staffel'!$A$5:$C$10,3)","v":0},12200,null,79600,12200,14762,null,79600,12200,14762]
[79700,12200,14762,{"$f":"VLOOKUP(A800,'Correcties op staffel'!$A$5:$C$10,2)","v":0},{"$f":"VLOOKUP(A800,'Correcties op staffel'!$A$5:$C$10,3)","v":0},12200,null,79700,12200,14762,null,79700,12200,14762]
[79800,12300,14883,{"$f":"VLOOKUP(A801,'Correcties op staffel'!$A$5:$C$10,2)","v":0},{"$f":"VLOOKUP(A801,'Correcties op staffel'!$A$5:$C$10,3)","v":0},12300,null,79800,12300,14883,null,79800,12300,14883]
[79900,12300,14883,{"$f":"VLOOKUP(A802,'Correcties op staffel'!$A$5:$C$10,2)","v":0},{"$f":"VLOOKUP(A802,'Correcties op staffel'!$A$5:$C$10,3)","v":0},12300,null,79900,12300,14883,null,79900,12300,14883]
[80000,12300,14883,{"$f":"VLOOKUP(A803,'Correcties op staffel'!$A$5:$C$10,2)","v":0},{"$f":"VLOOKUP(A803,'Correcties op staffel'!$A$5:$C$10,3)","v":0},12300,null,80000,12300,14883,null,80000,12300,14883]
[80100,12300,14883,{"$f":"VLOOKUP(A804,'Correcties op staffel'!$A$5:$C$10,2)","v":0},{"$f":"VLOOKUP(A804,'Correcties op staffel'!$A$5:$C$10,3)","v":0},12300,null,80100,12300,14883,null,80100,12300,14883]
[80200,12300,14883,{"$f":"VLOOKUP(A805,'Correcties op staffel'!$A$5:$C$10,2)","v":0},{"$f":"VLOOKUP(A805,'Correcties op staffel'!$A$5:$C$10,3)","v":0},12300,null,80200,12300,14883,null,80200,12300,14883]
[80300,12300,14883,{"$f":"VLOOKUP(A806,'Correcties op staffel'!$A$5:$C$10,2)","v":0},{"$f":"VLOOKUP(A806,'Correcties op staffel'!$A$5:$C$10,3)","v":0},12300,null,80300,12300,14883,null,80300,12300,14883]
[80400,12300,14883,{"$f":"VLOOKUP(A807,'Correcties op staffel'!$A$5:$C$10,2)","v":0},{"$f":"VLOOKUP(A807,'Correcties op staffel'!$A$5:$C$10,3)","v":0},12300,null,80400,12300,14883,null,80400,12300,14883]
[80500,12400,15004,{"$f":"VLOOKUP(A808,'Correcties op staffel'!$A$5:$C$10,2)","v":0},{"$f":"VLOOKUP(A808,'Correcties op staffel'!$A$5:$C$10,3)","v":0},12400,null,80500,12400,15004,null,80500,12400,15004]
[80600,12400,15004,{"$f":"VLOOKUP(A809,'Correcties op staffel'!$A$5:$C$10,2)","v":0},{"$f":"VLOOKUP(A809,'Correcties op staffel'!$A$5:$C$10,3)","v":0},12400,null,80600,12400,15004,null,80600,12400,15004]
[80700,12400,15004,{"$f":"VLOOKUP(A810,'Correcties op staffel'!$A$5:$C$10,2)","v":0},{"$f":"VLOOKUP(A810,'Correcties op staffel'!$A$5:$C$10,3)","v":0},12400,null,80700,12400,15004,null,80700,12400,15004]
[80800,12400,15004,{"$f":"VLOOKUP(A811,'Correcties op staffel'!$A$5:$C$10,2)","v":0},{"$f":"VLOOKUP(A811,'Correcties op staffel'!$A$5:$C$10,3)","v":0},12400,null,80800,12400,15004,null,80800,12400,15004]
[80900,12400,15004,{"$f":"VLOOKUP(A812,'Correcties op staffel'!$A$5:$C$10,2)","v":0},{"$f":"VLOOKUP(A812,'Correcties op staffel'!$A$5:$C$10,3)","v":0},12400,null,80900,12400,15004,null,80900,12400,15004]
[81000,12400,15004,{"$f":"VLOOKUP(A813,'Correcties op staffel'!$A$5:$C$10,2)","v":0},{"$f":"VLOOKUP(A813,'Correcties op staffel'!$A$5:$C$10,3)","v":0},12400,null,81000,12400,15004,null,81000,12400,15004]
[81100,12500,15125,{"$f":"VLOOKUP(A814,'Correcties op staffel'!$A$5:$C$10,2)","v":0},{"$f":"VLOOKUP(A814,'Correcties op staffel'!$A$5:$C$10,3)","v":0},12500,null,81100,12500,15125,null,81100,12500,15125]
[81200,12500,15125,{"$f":"VLOOKUP(A815,'Correcties op staffel'!$A$5:$C$10,2)","v":0},{"$f":"VLOOKUP(A815,'Correcties op staffel'!$A$5:$C$10,3)","v":0},12500,null,81200,12500,15125,null,81200,12500,15125]
[81300,12500,15125,{"$f":"VLOOKUP(A816,'Correcties op staffel'!$A$5:$C$10,2)","v":0},{"$f":"VLOOKUP(A816,'Correcties op staffel'!$A$5:$C$10,3)","v":0},12500,null,81300,12500,15125,null,81300,12500,15125]
[81400,12500,15125,{"$f":"VLOOKUP(A817,'Correcties op staffel'!$A$5:$C$10,2)","v":0},{"$f":"VLOOKUP(A817,'Correcties op staffel'!$A$5:$C$10,3)","v":0},12500,null,81400,12500,15125,null,81400,12500,15125]
[81500,12500,15125,{"$f":"VLOOKUP(A818,'Correcties op staffel'!$A$5:$C$10,2)","v":0},{"$f":"VLOOKUP(A818,'Correcties op staffel'!$A$5:$C$10,3)","v":0},12500,null,81500,12500,15125,null,81500,12500,15125]
[81600,12500,15125,{"$f":"VLOOKUP(A819,'Correcties op staffel'!$A$5:$C$10,2)","v":0},{"$f":"VLOOKUP(A819,'Correcties op staffel'!$A$5:$C$10,3)","v":0},12500,null,81600,12500,15125,null,81600,12500,15125]
[81700,12500,15125,{"$f":"VLOOKUP(A820,'Correcties op staffel'!$A$5:$C$10,2)","v":0},{"$f":"VLOOKUP(A820,'Correcties op staffel'!$A$5:$C$10,3)","v":0},12500,null,81700,12500,15125,null,81700,12500,15125]
[81800,12600,15246,{"$f":"VLOOKUP(A821,'Correcties op staffel'!$A$5:$C$10,2)","v":0},{"$f":"VLOOKUP(A821,'Correcties op staffel'!$A$5:$C$10,3)","v":0},12600,null,81800,12600,15246,null,81800,12600,15246]
[81900,12600,15246,{"$f":"VLOOKUP(A822,'Correcties op staffel'!$A$5:$C$10,2)","v":0},{"$f":"VLOOKUP(A822,'Correcties op staffel'!$A$5:$C$10,3)","v":0},12600,null,81900,12600,15246,null,81900,12600,15246]
[82000,12600,15246,{"$f":"VLOOKUP(A823,'Correcties op staffel'!$A$5:$C$10,2)","v":0},{"$f":"VLOOKUP(A823,'Correcties op staffel'!$A$5:$C$10,3)","v":0},12600,null,82000,12600,15246,null,82000,12600,15246]
[82100,12600,15246,{"$f":"VLOOKUP(A824,'Correcties op staffel'!$A$5:$C$10,2)","v":0},{"$f":"VLOOKUP(A824,'Correcties op staffel'!$A$5:$C$10,3)","v":0},12600,null,82100,12600,15246,null,82100,12600,15246]
[82200,12600,15246,{"$f":"VLOOKUP(A825,'Correcties op staffel'!$A$5:$C$10,2)","v":0},{"$f":"VLOOKUP(A825,'Correcties op staffel'!$A$5:$C$10,3)","v":0},12600,null,82200,12600,15246,null,82200,12600,15246]
[82300,12600,15246,{"$f":"VLOOKUP(A826,'Correcties op staffel'!$A$5:$C$10,2)","v":0},{"$f":"VLOOKUP(A826,'Correcties op staffel'!$A$5:$C$10,3)","v":0},12600,null,82300,12600,15246,null,82300,12600,15246]
[82400,12600,15246,{"$f":"VLOOKUP(A827,'Correcties op staffel'!$A$5:$C$10,2)","v":0},{"$f":"VLOOKUP(A827,'Correcties op staffel'!$A$5:$C$10,3)","v":0},12600,null,82400,12600,15246,null,82400,12600,15246]
[82500,12700,15367,{"$f":"VLOOKUP(A828,'Correcties op staffel'!$A$5:$C$10,2)","v":0},{"$f":"VLOOKUP(A828,'Correcties op staffel'!$A$5:$C$10,3)","v":0},12700,null,82500,12700,15367,null,82500,12700,15367]
[82600,12700,15367,{"$f":"VLOOKUP(A829,'Correcties op staffel'!$A$5:$C$10,2)","v":0},{"$f":"VLOOKUP(A829,'Correcties op staffel'!$A$5:$C$10,3)","v":0},12700,null,82600,12700,15367,null,82600,12700,15367]
[82700,12700,15367,{"$f":"VLOOKUP(A830,'Correcties op staffel'!$A$5:$C$10,2)","v":0},{"$f":"VLOOKUP(A830,'Correcties op staffel'!$A$5:$C$10,3)","v":0},12700,null,82700,12700,15367,null,82700,12700,15367]
[82800,12700,15367,{"$f":"VLOOKUP(A831,'Correcties op staffel'!$A$5:$C$10,2)","v":0},{"$f":"VLOOKUP(A831,'Correcties op staffel'!$A$5:$C$10,3)","v":0},12700,null,82800,12700,15367,null,82800,12700,15367]
[82900,12700,15367,{"$f":"VLOOKUP(A832,'Correcties op staffel'!$A$5:$C$10,2)","v":0},{"$f":"VLOOKUP(A832,'Correcties op staffel'!$A$5:$C$10,3)","v":0},12700,null,82900,12700,15367,null,82900,12700,15367]
[83000,12700,15367,{"$f":"VLOOKUP(A833,'Correcties op staffel'!$A$5:$C$10,2)","v":0},{"$f":"VLOOKUP(A833,'Correcties op staffel'!$A$5:$C$10,3)","v":0},12700,null,83000,12700,15367,null,83000,12700,15367]
[83100,12700,15367,{"$f":"VLOOKUP(A834,'Correcties op staffel'!$A$5:$C$10,2)","v":0},{"$f":"VLOOKUP(A834,'Correcties op staffel'!$A$5:$C$10,3)","v":0},12700,null,83100,12700,15367,null,83100,12700,15367]
[83200,12800,15488,{"$f":"VLOOKUP(A835,'Correcties op staffel'!$A$5:$C$10,2)","v":0},{"$f":"VLOOKUP(A835,'Correcties op staffel'!$A$5:$C$10,3)","v":0},12800,null,83200,12800,15488,null,83200,12800,15488]
[83300,12800,15488,{"$f":"VLOOKUP(A836,'Correcties op staffel'!$A$5:$C$10,2)","v":0},{"$f":"VLOOKUP(A836,'Correcties op staffel'!$A$5:$C$10,3)","v":0},{"$f":"B836*(1+D836)+E836","v":12800},null,83300,{"$f":"ROUND(F836,0)","v":12800},15488,null,83300,12800,15488]
[83400,12800,15488,{"$f":"VLOOKUP(A837,'Correcties op staffel'!$A$5:$C$10,2)","v":0},{"$f":"VLOOKUP(A837,'Correcties op staffel'!$A$5:$C$10,3)","v":0},12800,null,83400,12800,{"$f":"I837*1.21","v":15488},null,83400,{"$f":"IF(ROUND(I837/5,0)*5<I837,ROUND(I837/5,0)*5+5,ROUND(I837/5,0)*5)","v":12800},{"$f":"M837*1.21","v":15488}]
[83500,12800,15488,{"$f":"VLOOKUP(A838,'Correcties op staffel'!$A$5:$C$10,2)","v":0},{"$f":"VLOOKUP(A838,'Correcties op staffel'!$A$5:$C$10,3)","v":0},12800,null,83500,12800,15488,null,83500,12800,15488]
[83600,12800,15488,{"$f":"VLOOKUP(A839,'Correcties op staffel'!$A$5:$C$10,2)","v":0},{"$f":"VLOOKUP(A839,'Correcties op staffel'!$A$5:$C$10,3)","v":0},12800,null,83600,12800,15488,null,83600,12800,15488]
[83700,12800,15488,{"$f":"VLOOKUP(A840,'Correcties op staffel'!$A$5:$C$10,2)","v":0},{"$f":"VLOOKUP(A840,'Correcties op staffel'!$A$5:$C$10,3)","v":0},12800,null,83700,12800,15488,null,83700,12800,15488]
[83800,12900,15609,{"$f":"VLOOKUP(A841,'Correcties op staffel'!$A$5:$C$10,2)","v":0},{"$f":"VLOOKUP(A841,'Correcties op staffel'!$A$5:$C$10,3)","v":0},12900,null,83800,12900,15609,null,83800,12900,15609]
[83900,12900,15609,{"$f":"VLOOKUP(A842,'Correcties op staffel'!$A$5:$C$10,2)","v":0},{"$f":"VLOOKUP(A842,'Correcties op staffel'!$A$5:$C$10,3)","v":0},12900,null,{"$f":"H841+100","v":83900},12900,15609,null,83900,12900,15609]
[84000,12900,15609,{"$f":"VLOOKUP(A843,'Correcties op staffel'!$A$5:$C$10,2)","v":0},{"$f":"VLOOKUP(A843,'Correcties op staffel'!$A$5:$C$10,3)","v":0},12900,null,84000,12900,15609,null,84000,12900,15609]
[84100,12900,15609,{"$f":"VLOOKUP(A844,'Correcties op staffel'!$A$5:$C$10,2)","v":0},{"$f":"VLOOKUP(A844,'Correcties op staffel'!$A$5:$C$10,3)","v":0},12900,null,84100,12900,15609,null,84100,12900,15609]
[84200,12900,15609,{"$f":"VLOOKUP(A845,'Correcties op staffel'!$A$5:$C$10,2)","v":0},{"$f":"VLOOKUP(A845,'Correcties op staffel'!$A$5:$C$10,3)","v":0},12900,null,84200,12900,15609,null,84200,12900,15609]
[84300,12900,15609,{"$f":"VLOOKUP(A846,'Correcties op staffel'!$A$5:$C$10,2)","v":0},{"$f":"VLOOKUP(A846,'Correcties op staffel'!$A$5:$C$10,3)","v":0},12900,null,84300,12900,15609,null,84300,12900,15609]
[84400,12900,15609,{"$f":"VLOOKUP(A847,'Correcties op staffel'!$A$5:$C$10,2)","v":0},{"$f":"VLOOKUP(A847,'Correcties op staffel'!$A$5:$C$10,3)","v":0},12900,null,84400,12900,15609,null,84400,12900,15609]
[{"$f":"A847+100","v":84500},13000,15730,{"$f":"VLOOKUP(A848,'Correcties op staffel'!$A$5:$C$10,2)","v":0},{"$f":"VLOOKUP(A848,'Correcties op staffel'!$A$5:$C$10,3)","v":0},13000,null,84500,13000,15730,null,84500,13000,15730]
[84600,13000,15730,{"$f":"VLOOKUP(A849,'Correcties op staffel'!$A$5:$C$10,2)","v":0},{"$f":"VLOOKUP(A849,'Correcties op staffel'!$A$5:$C$10,3)","v":0},13000,null,84600,13000,15730,null,84600,13000,15730]
[84700,13000,15730,{"$f":"VLOOKUP(A850,'Correcties op staffel'!$A$5:$C$10,2)","v":0},{"$f":"VLOOKUP(A850,'Correcties op staffel'!$A$5:$C$10,3)","v":0},13000,null,84700,13000,15730,null,84700,13000,15730]
[84800,13000,15730,{"$f":"VLOOKUP(A851,'Correcties op staffel'!$A$5:$C$10,2)","v":0},{"$f":"VLOOKUP(A851,'Correcties op staffel'!$A$5:$C$10,3)","v":0},13000,null,84800,13000,15730,null,84800,13000,15730]
[84900,13000,15730,{"$f":"VLOOKUP(A852,'Correcties op staffel'!$A$5:$C$10,2)","v":0},{"$f":"VLOOKUP(A852,'Correcties op staffel'!$A$5:$C$10,3)","v":0},13000,null,84900,13000,15730,null,84900,13000,15730]
[85000,13000,15730,{"$f":"VLOOKUP(A853,'Correcties op staffel'!$A$5:$C$10,2)","v":0},{"$f":"VLOOKUP(A853,'Correcties op staffel'!$A$5:$C$10,3)","v":0},13000,null,85000,13000,15730,null,85000,13000,15730]
[85100,13000,15730,{"$f":"VLOOKUP(A854,'Correcties op staffel'!$A$5:$C$10,2)","v":0},{"$f":"VLOOKUP(A854,'Correcties op staffel'!$A$5:$C$10,3)","v":0},13000,null,85100,13000,15730,null,85100,13000,15730]
[85200,13100,15851,{"$f":"VLOOKUP(A855,'Correcties op staffel'!$A$5:$C$10,2)","v":0},{"$f":"VLOOKUP(A855,'Correcties op staffel'!$A$5:$C$10,3)","v":0},13100,null,85200,13100,15851,null,85200,13100,15851]
[85300,13100,15851,{"$f":"VLOOKUP(A856,'Correcties op staffel'!$A$5:$C$10,2)","v":0},{"$f":"VLOOKUP(A856,'Correcties op staffel'!$A$5:$C$10,3)","v":0},13100,null,85300,13100,15851,null,85300,13100,15851]
[85400,13100,15851,{"$f":"VLOOKUP(A857,'Correcties op staffel'!$A$5:$C$10,2)","v":0},{"$f":"VLOOKUP(A857,'Correcties op staffel'!$A$5:$C$10,3)","v":0},13100,null,85400,13100,15851,null,85400,13100,15851]
[85500,13100,15851,{"$f":"VLOOKUP(A858,'Correcties op staffel'!$A$5:$C$10,2)","v":0},{"$f":"VLOOKUP(A858,'Correcties op staffel'!$A$5:$C$10,3)","v":0},13100,null,85500,13100,15851,null,85500,13100,15851]
[85600,13100,15851,{"$f":"VLOOKUP(A859,'Correcties op staffel'!$A$5:$C$10,2)","v":0},{"$f":"VLOOKUP(A859,'Correcties op staffel'!$A$5:$C$10,3)","v":0},13100,null,85600,13100,15851,null,85600,13100,15851]
[85700,13100,15851,{"$f":"VLOOKUP(A860,'Correcties op staffel'!$A$5:$C$10,2)","v":0},{"$f":"VLOOKUP(A860,'Correcties op staffel'!$A$5:$C$10,3)","v":0},13100,null,85700,13100,15851,null,85700,13100,15851]
[85800,13100,15851,{"$f":"VLOOKUP(A861,'Correcties op staffel'!$A$5:$C$10,2)","v":0},{"$f":"VLOOKUP(A861,'Correcties op staffel'!$A$5:$C$10,3)","v":0},13100,null,85800,13100,15851,null,85800,13100,15851]
[85900,13200,15972,{"$f":"VLOOKUP(A862,'Correcties op staffel'!$A$5:$C$10,2)","v":0},{"$f":"VLOOKUP(A862,'Correcties op staffel'!$A$5:$C$10,3)","v":0},13200,null,85900,13200,15972,null,85900,13200,15972]
[86000,13200,15972,{"$f":"VLOOKUP(A863,'Correcties op staffel'!$A$5:$C$10,2)","v":0},{"$f":"VLOOKUP(A863,'Correcties op staffel'!$A$5:$C$10,3)","v":0},13200,null,86000,13200,15972,null,86000,13200,15972]
[86100,13200,15972,{"$f":"VLOOKUP(A864,'Correcties op staffel'!$A$5:$C$10,2)","v":0},{"$f":"VLOOKUP(A864,'Correcties op staffel'!$A$5:$C$10,3)","v":0},13200,null,86100,13200,15972,null,86100,13200,15972]
[86200,13200,15972,{"$f":"VLOOKUP(A865,'Correcties op staffel'!$A$5:$C$10,2)","v":0},{"$f":"VLOOKUP(A865,'Correcties op staffel'!$A$5:$C$10,3)","v":0},13200,null,86200,13200,15972,null,86200,13200,15972]
[86300,13200,15972,{"$f":"VLOOKUP(A866,'Correcties op staffel'!$A$5:$C$10,2)","v":0},{"$f":"VLOOKUP(A866,'Correcties op staffel'!$A$5:$C$10,3)","v":0},13200,null,86300,13200,15972,null,86300,13200,15972]
[86400,13200,15972,{"$f":"VLOOKUP(A867,'Correcties op staffel'!$A$5:$C$10,2)","v":0},{"$f":"VLOOKUP(A867,'Correcties op staffel'!$A$5:$C$10,3)","v":0},13200,null,86400,13200,15972,null,86400,13200,15972]
[86500,13200,15972,{"$f":"VLOOKUP(A868,'Correcties op staffel'!$A$5:$C$10,2)","v":0},{"$f":"VLOOKUP(A868,'Correcties op staffel'!$A$5:$C$10,3)","v":0},13200,null,86500,13200,15972,null,86500,13200,15972]
[86600,13300,16093,{"$f":"VLOOKUP(A869,'Correcties op staffel'!$A$5:$C$10,2)","v":0},{"$f":"VLOOKUP(A869,'Correcties op staffel'!$A$5:$C$10,3)","v":0},13300,null,86600,13300,16093,null,86600,13300,16093]
[86700,13300,16093,{"$f":"VLOOKUP(A870,'Correcties op staffel'!$A$5:$C$10,2)","v":0},{"$f":"VLOOKUP(A870,'Correcties op staffel'!$A$5:$C$10,3)","v":0},13300,null,86700,13300,16093,null,86700,13300,16093]
[86800,13300,16093,{"$f":"VLOOKUP(A871,'Correcties op staffel'!$A$5:$C$10,2)","v":0},{"$f":"VLOOKUP(A871,'Correcties op staffel'!$A$5:$C$10,3)","v":0},13300,null,86800,13300,16093,null,86800,13300,16093]
[86900,13300,16093,{"$f":"VLOOKUP(A872,'Correcties op staffel'!$A$5:$C$10,2)","v":0},{"$f":"VLOOKUP(A872,'Correcties op staffel'!$A$5:$C$10,3)","v":0},13300,null,86900,13300,16093,null,86900,13300,16093]
[87000,13300,16093,{"$f":"VLOOKUP(A873,'Correcties op staffel'!$A$5:$C$10,2)","v":0},{"$f":"VLOOKUP(A873,'Correcties op staffel'!$A$5:$C$10,3)","v":0},13300,null,87000,13300,16093,null,87000,13300,16093]
[87100,13300,16093,{"$f":"VLOOKUP(A874,'Correcties op staffel'!$A$5:$C$10,2)","v":0},{"$f":"VLOOKUP(A874,'Correcties op staffel'!$A$5:$C$10,3)","v":0},13300,null,87100,13300,16093,null,87100,13300,16093]
[87200,13400,16214,{"$f":"VLOOKUP(A875,'Correcties op staffel'!$A$5:$C$10,2)","v":0},{"$f":"VLOOKUP(A875,'Correcties op staffel'!$A$5:$C$10,3)","v":0},13400,null,87200,13400,16214,null,87200,13400,16214]
[87300,13400,16214,{"$f":"VLOOKUP(A876,'Correcties op staffel'!$A$5:$C$10,2)","v":0},{"$f":"VLOOKUP(A876,'Correcties op staffel'!$A$5:$C$10,3)","v":0},13400,null,87300,13400,16214,null,87300,13400,16214]
[87400,13400,16214,{"$f":"VLOOKUP(A877,'Correcties op staffel'!$A$5:$C$10,2)","v":0},{"$f":"VLOOKUP(A877,'Correcties op staffel'!$A$5:$C$10,3)","v":0},13400,null,87400,13400,16214,null,87400,13400,16214]
[87500,13400,16214,{"$f":"VLOOKUP(A878,'Correcties op staffel'!$A$5:$C$10,2)","v":0},{"$f":"VLOOKUP(A878,'Correcties op staffel'!$A$5:$C$10,3)","v":0},13400,null,87500,13400,16214,null,87500,13400,16214]
[87600,13400,16214,{"$f":"VLOOKUP(A879,'Correcties op staffel'!$A$5:$C$10,2)","v":0},{"$f":"VLOOKUP(A879,'Correcties op staffel'!$A$5:$C$10,3)","v":0},13400,null,87600,13400,16214,null,87600,13400,16214]
[87700,13400,16214,{"$f":"VLOOKUP(A880,'Correcties op staffel'!$A$5:$C$10,2)","v":0},{"$f":"VLOOKUP(A880,'Correcties op staffel'!$A$5:$C$10,3)","v":0},13400,null,87700,13400,16214,null,87700,13400,16214]
[87800,13400,16214,{"$f":"VLOOKUP(A881,'Correcties op staffel'!$A$5:$C$10,2)","v":0},{"$f":"VLOOKUP(A881,'Correcties op staffel'!$A$5:$C$10,3)","v":0},13400,null,87800,13400,16214,null,87800,13400,16214]
[87900,13500,16335,{"$f":"VLOOKUP(A882,'Correcties op staffel'!$A$5:$C$10,2)","v":0},{"$f":"VLOOKUP(A882,'Correcties op staffel'!$A$5:$C$10,3)","v":0},13500,null,87900,13500,16335,null,87900,13500,16335]
[88000,13500,16335,{"$f":"VLOOKUP(A883,'Correcties op staffel'!$A$5:$C$10,2)","v":0},{"$f":"VLOOKUP(A883,'Correcties op staffel'!$A$5:$C$10,3)","v":0},13500,null,88000,13500,16335,null,88000,13500,16335]
[88100,13500,16335,{"$f":"VLOOKUP(A884,'Correcties op staffel'!$A$5:$C$10,2)","v":0},{"$f":"VLOOKUP(A884,'Correcties op staffel'!$A$5:$C$10,3)","v":0},13500,null,88100,13500,16335,null,88100,13500,16335]
[88200,13500,16335,{"$f":"VLOOKUP(A885,'Correcties op staffel'!$A$5:$C$10,2)","v":0},{"$f":"VLOOKUP(A885,'Correcties op staffel'!$A$5:$C$10,3)","v":0},13500,null,88200,13500,16335,null,88200,13500,16335]
[88300,13500,16335,{"$f":"VLOOKUP(A886,'Correcties op staffel'!$A$5:$C$10,2)","v":0},{"$f":"VLOOKUP(A886,'Correcties op staffel'!$A$5:$C$10,3)","v":0},13500,null,88300,13500,16335,null,88300,13500,16335]
[88400,13500,16335,{"$f":"VLOOKUP(A887,'Correcties op staffel'!$A$5:$C$10,2)","v":0},{"$f":"VLOOKUP(A887,'Correcties op staffel'!$A$5:$C$10,3)","v":0},13500,null,88400,13500,16335,null,88400,13500,16335]
[88500,13500,16335,{"$f":"VLOOKUP(A888,'Correcties op staffel'!$A$5:$C$10,2)","v":0},{"$f":"VLOOKUP(A888,'Correcties op staffel'!$A$5:$C$10,3)","v":0},13500,null,88500,13500,16335,null,88500,13500,16335]
[88600,13600,16456,{"$f":"VLOOKUP(A889,'Correcties op staffel'!$A$5:$C$10,2)","v":0},{"$f":"VLOOKUP(A889,'Correcties op staffel'!$A$5:$C$10,3)","v":0},13600,null,88600,13600,16456,null,88600,13600,16456]
[88700,13600,16456,{"$f":"VLOOKUP(A890,'Correcties op staffel'!$A$5:$C$10,2)","v":0},{"$f":"VLOOKUP(A890,'Correcties op staffel'!$A$5:$C$10,3)","v":0},13600,null,88700,13600,16456,null,88700,13600,16456]
[88800,13600,16456,{"$f":"VLOOKUP(A891,'Correcties op staffel'!$A$5:$C$10,2)","v":0},{"$f":"VLOOKUP(A891,'Correcties op staffel'!$A$5:$C$10,3)","v":0},13600,null,88800,13600,16456,null,88800,13600,16456]
[88900,13600,16456,{"$f":"VLOOKUP(A892,'Correcties op staffel'!$A$5:$C$10,2)","v":0},{"$f":"VLOOKUP(A892,'Correcties op staffel'!$A$5:$C$10,3)","v":0},13600,null,88900,13600,16456,null,88900,13600,16456]
[89000,13600,16456,{"$f":"VLOOKUP(A893,'Correcties op staffel'!$A$5:$C$10,2)","v":0},{"$f":"VLOOKUP(A893,'Correcties op staffel'!$A$5:$C$10,3)","v":0},13600,null,89000,13600,16456,null,89000,13600,16456]
[89100,13600,16456,{"$f":"VLOOKUP(A894,'Correcties op staffel'!$A$5:$C$10,2)","v":0},{"$f":"VLOOKUP(A894,'Correcties op staffel'!$A$5:$C$10,3)","v":0},13600,null,89100,13600,16456,null,89100,13600,16456]
[89200,13600,16456,{"$f":"VLOOKUP(A895,'Correcties op staffel'!$A$5:$C$10,2)","v":0},{"$f":"VLOOKUP(A895,'Correcties op staffel'!$A$5:$C$10,3)","v":0},13600,null,89200,13600,16456,null,89200,13600,16456]
[89300,13700,16577,{"$f":"VLOOKUP(A896,'Correcties op staffel'!$A$5:$C$10,2)","v":0},{"$f":"VLOOKUP(A896,'Correcties op staffel'!$A$5:$C$10,3)","v":0},13700,null,89300,13700,16577,null,89300,13700,16577]
[89400,13700,16577,{"$f":"VLOOKUP(A897,'Correcties op staffel'!$A$5:$C$10,2)","v":0},{"$f":"VLOOKUP(A897,'Correcties op staffel'!$A$5:$C$10,3)","v":0},13700,null,89400,13700,16577,null,89400,13700,16577]
[89500,13700,16577,{"$f":"VLOOKUP(A898,'Correcties op staffel'!$A$5:$C$10,2)","v":0},{"$f":"VLOOKUP(A898,'Correcties op staffel'!$A$5:$C$10,3)","v":0},13700,null,89500,13700,16577,null,89500,13700,16577]
[89600,13700,16577,{"$f":"VLOOKUP(A899,'Correcties op staffel'!$A$5:$C$10,2)","v":0},{"$f":"VLOOKUP(A899,'Correcties op staffel'!$A$5:$C$10,3)","v":0},13700,null,89600,13700,16577,null,89600,13700,16577]
[89700,13700,16577,{"$f":"VLOOKUP(A900,'Correcties op staffel'!$A$5:$C$10,2)","v":0},{"$f":"VLOOKUP(A900,'Correcties op staffel'!$A$5:$C$10,3)","v":0},{"$f":"B900*(1+D900)+E900","v":13700},null,89700,{"$f":"ROUND(F900,0)","v":13700},16577,null,89700,13700,16577]
[89800,13700,16577,{"$f":"VLOOKUP(A901,'Correcties op staffel'!$A$5:$C$10,2)","v":0},{"$f":"VLOOKUP(A901,'Correcties op staffel'!$A$5:$C$10,3)","v":0},13700,null,89800,13700,{"$f":"I901*1.21","v":16577},null,89800,{"$f":"IF(ROUND(I901/5,0)*5<I901,ROUND(I901/5,0)*5+5,ROUND(I901/5,0)*5)","v":13700},{"$f":"M901*1.21","v":16577}]
[89900,13800,16698,{"$f":"VLOOKUP(A902,'Correcties op staffel'!$A$5:$C$10,2)","v":0},{"$f":"VLOOKUP(A902,'Correcties op staffel'!$A$5:$C$10,3)","v":0},13800,null,89900,13800,16698,null,89900,13800,16698]
[90000,13800,16698,{"$f":"VLOOKUP(A903,'Correcties op staffel'!$A$5:$C$10,2)","v":0},{"$f":"VLOOKUP(A903,'Correcties op staffel'!$A$5:$C$10,3)","v":0},13800,null,90000,13800,16698,null,90000,13800,16698]
[90100,13800,16698,{"$f":"VLOOKUP(A904,'Correcties op staffel'!$A$5:$C$10,2)","v":0},{"$f":"VLOOKUP(A904,'Correcties op staffel'!$A$5:$C$10,3)","v":0},13800,null,90100,13800,16698,null,90100,13800,16698]
[90200,13800,16698,{"$f":"VLOOKUP(A905,'Correcties op staffel'!$A$5:$C$10,2)","v":0},{"$f":"VLOOKUP(A905,'Correcties op staffel'!$A$5:$C$10,3)","v":0},13800,null,90200,13800,16698,null,90200,13800,16698]
[90300,13800,16698,{"$f":"VLOOKUP(A906,'Correcties op staffel'!$A$5:$C$10,2)","v":0},{"$f":"VLOOKUP(A906,'Correcties op staffel'!$A$5:$C$10,3)","v":0},13800,null,{"$f":"H905+100","v":90300},13800,16698,null,90300,13800,16698]
[90400,13800,16698,{"$f":"VLOOKUP(A907,'Correcties op staffel'!$A$5:$C$10,2)","v":0},{"$f":"VLOOKUP(A907,'Correcties op staffel'!$A$5:$C$10,3)","v":0},13800,null,90400,13800,16698,null,90400,13800,16698]
[90500,13800,16698,{"$f":"VLOOKUP(A908,'Correcties op staffel'!$A$5:$C$10,2)","v":0},{"$f":"VLOOKUP(A908,'Correcties op staffel'!$A$5:$C$10,3)","v":0},13800,null,90500,13800,16698,null,90500,13800,16698]
[90600,13900,16819,{"$f":"VLOOKUP(A909,'Correcties op staffel'!$A$5:$C$10,2)","v":0},{"$f":"VLOOKUP(A909,'Correcties op staffel'!$A$5:$C$10,3)","v":0},13900,null,90600,13900,16819,null,90600,13900,16819]
[90700,13900,16819,{"$f":"VLOOKUP(A910,'Correcties op staffel'!$A$5:$C$10,2)","v":0},{"$f":"VLOOKUP(A910,'Correcties op staffel'!$A$5:$C$10,3)","v":0},13900,null,90700,13900,16819,null,90700,13900,16819]
[90800,13900,16819,{"$f":"VLOOKUP(A911,'Correcties op staffel'!$A$5:$C$10,2)","v":0},{"$f":"VLOOKUP(A911,'Correcties op staffel'!$A$5:$C$10,3)","v":0},13900,null,90800,13900,16819,null,90800,13900,16819]
[{"$f":"A911+100","v":90900},13900,16819,{"$f":"VLOOKUP(A912,'Correcties op staffel'!$A$5:$C$10,2)","v":0},{"$f":"VLOOKUP(A912,'Correcties op staffel'!$A$5:$C$10,3)","v":0},13900,null,90900,13900,16819,null,90900,13900,16819]
[91000,13900,16819,{"$f":"VLOOKUP(A913,'Correcties op staffel'!$A$5:$C$10,2)","v":0},{"$f":"VLOOKUP(A913,'Correcties op staffel'!$A$5:$C$10,3)","v":0},13900,null,91000,13900,16819,null,91000,13900,16819]
[91100,13900,16819,{"$f":"VLOOKUP(A914,'Correcties op staffel'!$A$5:$C$10,2)","v":0},{"$f":"VLOOKUP(A914,'Correcties op staffel'!$A$5:$C$10,3)","v":0},13900,null,91100,13900,16819,null,91100,13900,16819]
[91200,13900,16819,{"$f":"VLOOKUP(A915,'Correcties op staffel'!$A$5:$C$10,2)","v":0},{"$f":"VLOOKUP(A915,'Correcties op staffel'!$A$5:$C$10,3)","v":0},13900,null,91200,13900,16819,null,91200,13900,16819]
[91300,14000,16940,{"$f":"VLOOKUP(A916,'Correcties op staffel'!$A$5:$C$10,2)","v":0},{"$f":"VLOOKUP(A916,'Correcties op staffel'!$A$5:$C$10,3)","v":0},14000,null,91300,14000,16940,null,91300,14000,16940]
[91400,14000,16940,{"$f":"VLOOKUP(A917,'Correcties op staffel'!$A$5:$C$10,2)","v":0},{"$f":"VLOOKUP(A917,'Correcties op staffel'!$A$5:$C$10,3)","v":0},14000,null,91400,14000,16940,null,91400,14000,16940]
[91500,14000,16940,{"$f":"VLOOKUP(A918,'Correcties op staffel'!$A$5:$C$10,2)","v":0},{"$f":"VLOOKUP(A918,'Correcties op staffel'!$A$5:$C$10,3)","v":0},14000,null,91500,14000,16940,null,91500,14000,16940]
[91600,14000,16940,{"$f":"VLOOKUP(A919,'Correcties op staffel'!$A$5:$C$10,2)","v":0},{"$f":"VLOOKUP(A919,'Correcties op staffel'!$A$5:$C$10,3)","v":0},14000,null,91600,14000,16940,null,91600,14000,16940]
[91700,14000,16940,{"$f":"VLOOKUP(A920,'Correcties op staffel'!$A$5:$C$10,2)","v":0},{"$f":"VLOOKUP(A920,'Correcties op staffel'!$A$5:$C$10,3)","v":0},14000,null,91700,14000,16940,null,91700,14000,16940]
[91800,14000,16940,{"$f":"VLOOKUP(A921,'Correcties op staffel'!$A$5:$C$10,2)","v":0},{"$f":"VLOOKUP(A921,'Correcties op staffel'!$A$5:$C$10,3)","v":0},14000,null,91800,14000,16940,null,91800,14000,16940]
[91900,14000,16940,{"$f":"VLOOKUP(A922,'Correcties op staffel'!$A$5:$C$10,2)","v":0},{"$f":"VLOOKUP(A922,'Correcties op staffel'!$A$5:$C$10,3)","v":0},14000,null,91900,14000,16940,null,91900,14000,16940]
[92000,14100,17061,{"$f":"VLOOKUP(A923,'Correcties op staffel'!$A$5:$C$10,2)","v":0},{"$f":"VLOOKUP(A923,'Correcties op staffel'!$A$5:$C$10,3)","v":0},14100,null,92000,14100,17061,null,92000,14100,17061]
[92100,14100,17061,{"$f":"VLOOKUP(A924,'Correcties op staffel'!$A$5:$C$10,2)","v":0},{"$f":"VLOOKUP(A924,'Correcties op staffel'!$A$5:$C$10,3)","v":0},14100,null,92100,14100,17061,null,92100,14100,17061]
[92200,14100,17061,{"$f":"VLOOKUP(A925,'Correcties op staffel'!$A$5:$C$10,2)","v":0},{"$f":"VLOOKUP(A925,'Correcties op staffel'!$A$5:$C$10,3)","v":0},14100,null,92200,14100,17061,null,92200,14100,17061]
[92300,14100,17061,{"$f":"VLOOKUP(A926,'Correcties op staffel'!$A$5:$C$10,2)","v":0},{"$f":"VLOOKUP(A926,'Correcties op staffel'!$A$5:$C$10,3)","v":0},14100,null,92300,14100,17061,null,92300,14100,17061]
[92400,14100,17061,{"$f":"VLOOKUP(A927,'Correcties op staffel'!$A$5:$C$10,2)","v":0},{"$f":"VLOOKUP(A927,'Correcties op staffel'!$A$5:$C$10,3)","v":0},14100,null,92400,14100,17061,null,92400,14100,17061]
[92500,14100,17061,{"$f":"VLOOKUP(A928,'Correcties op staffel'!$A$5:$C$10,2)","v":0},{"$f":"VLOOKUP(A928,'Correcties op staffel'!$A$5:$C$10,3)","v":0},14100,null,92500,14100,17061,null,92500,14100,17061]
[92600,14200,17182,{"$f":"VLOOKUP(A929,'Correcties op staffel'!$A$5:$C$10,2)","v":0},{"$f":"VLOOKUP(A929,'Correcties op staffel'!$A$5:$C$10,3)","v":0},14200,null,92600,14200,17182,null,92600,14200,17182]
[92700,14200,17182,{"$f":"VLOOKUP(A930,'Correcties op staffel'!$A$5:$C$10,2)","v":0},{"$f":"VLOOKUP(A930,'Correcties op staffel'!$A$5:$C$10,3)","v":0},14200,null,92700,14200,17182,null,92700,14200,17182]
[92800,14200,17182,{"$f":"VLOOKUP(A931,'Correcties op staffel'!$A$5:$C$10,2)","v":0},{"$f":"VLOOKUP(A931,'Correcties op staffel'!$A$5:$C$10,3)","v":0},14200,null,92800,14200,17182,null,92800,14200,17182]
[92900,14200,17182,{"$f":"VLOOKUP(A932,'Correcties op staffel'!$A$5:$C$10,2)","v":0},{"$f":"VLOOKUP(A932,'Correcties op staffel'!$A$5:$C$10,3)","v":0},14200,null,92900,14200,17182,null,92900,14200,17182]
[93000,14200,17182,{"$f":"VLOOKUP(A933,'Correcties op staffel'!$A$5:$C$10,2)","v":0},{"$f":"VLOOKUP(A933,'Correcties op staffel'!$A$5:$C$10,3)","v":0},14200,null,93000,14200,17182,null,93000,14200,17182]
[93100,14200,17182,{"$f":"VLOOKUP(A934,'Correcties op staffel'!$A$5:$C$10,2)","v":0},{"$f":"VLOOKUP(A934,'Correcties op staffel'!$A$5:$C$10,3)","v":0},14200,null,93100,14200,17182,null,93100,14200,17182]
[93200,14200,17182,{"$f":"VLOOKUP(A935,'Correcties op staffel'!$A$5:$C$10,2)","v":0},{"$f":"VLOOKUP(A935,'Correcties op staffel'!$A$5:$C$10,3)","v":0},14200,null,93200,14200,17182,null,93200,14200,17182]
[93300,14300,17303,{"$f":"VLOOKUP(A936,'Correcties op staffel'!$A$5:$C$10,2)","v":0},{"$f":"VLOOKUP(A936,'Correcties op staffel'!$A$5:$C$10,3)","v":0},14300,null,93300,14300,17303,null,93300,14300,17303]
[93400,14300,17303,{"$f":"VLOOKUP(A937,'Correcties op staffel'!$A$5:$C$10,2)","v":0},{"$f":"VLOOKUP(A937,'Correcties op staffel'!$A$5:$C$10,3)","v":0},14300,null,93400,14300,17303,null,93400,14300,17303]
[93500,14300,17303,{"$f":"VLOOKUP(A938,'Correcties op staffel'!$A$5:$C$10,2)","v":0},{"$f":"VLOOKUP(A938,'Correcties op staffel'!$A$5:$C$10,3)","v":0},14300,null,93500,14300,17303,null,93500,14300,17303]
[93600,14300,17303,{"$f":"VLOOKUP(A939,'Correcties op staffel'!$A$5:$C$10,2)","v":0},{"$f":"VLOOKUP(A939,'Correcties op staffel'!$A$5:$C$10,3)","v":0},14300,null,93600,14300,17303,null,93600,14300,17303]
[93700,14300,17303,{"$f":"VLOOKUP(A940,'Correcties op staffel'!$A$5:$C$10,2)","v":0},{"$f":"VLOOKUP(A940,'Correcties op staffel'!$A$5:$C$10,3)","v":0},14300,null,93700,14300,17303,null,93700,14300,17303]
[93800,14300,17303,{"$f":"VLOOKUP(A941,'Correcties op staffel'!$A$5:$C$10,2)","v":0},{"$f":"VLOOKUP(A941,'Correcties op staffel'!$A$5:$C$10,3)","v":0},14300,null,93800,14300,17303,null,93800,14300,17303]
[93900,14300,17303,{"$f":"VLOOKUP(A942,'Correcties op staffel'!$A$5:$C$10,2)","v":0},{"$f":"VLOOKUP(A942,'Correcties op staffel'!$A$5:$C$10,3)","v":0},14300,null,93900,14300,17303,null,93900,14300,17303]
[94000,14400,17424,{"$f":"VLOOKUP(A943,'Correcties op staffel'!$A$5:$C$10,2)","v":0},{"$f":"VLOOKUP(A943,'Correcties op staffel'!$A$5:$C$10,3)","v":0},14400,null,94000,14400,17424,null,94000,14400,17424]
[94100,14400,17424,{"$f":"VLOOKUP(A944,'Correcties op staffel'!$A$5:$C$10,2)","v":0},{"$f":"VLOOKUP(A944,'Correcties op staffel'!$A$5:$C$10,3)","v":0},14400,null,94100,14400,17424,null,94100,14400,17424]
[94200,14400,17424,{"$f":"VLOOKUP(A945,'Correcties op staffel'!$A$5:$C$10,2)","v":0},{"$f":"VLOOKUP(A945,'Correcties op staffel'!$A$5:$C$10,3)","v":0},14400,null,94200,14400,17424,null,94200,14400,17424]
[94300,14400,17424,{"$f":"VLOOKUP(A946,'Correcties op staffel'!$A$5:$C$10,2)","v":0},{"$f":"VLOOKUP(A946,'Correcties op staffel'!$A$5:$C$10,3)","v":0},14400,null,94300,14400,17424,null,94300,14400,17424]
[94400,14400,17424,{"$f":"VLOOKUP(A947,'Correcties op staffel'!$A$5:$C$10,2)","v":0},{"$f":"VLOOKUP(A947,'Correcties op staffel'!$A$5:$C$10,3)","v":0},14400,null,94400,14400,17424,null,94400,14400,17424]
[94500,14400,17424,{"$f":"VLOOKUP(A948,'Correcties op staffel'!$A$5:$C$10,2)","v":0},{"$f":"VLOOKUP(A948,'Correcties op staffel'!$A$5:$C$10,3)","v":0},14400,null,94500,14400,17424,null,94500,14400,17424]
[94600,14400,17424,{"$f":"VLOOKUP(A949,'Correcties op staffel'!$A$5:$C$10,2)","v":0},{"$f":"VLOOKUP(A949,'Correcties op staffel'!$A$5:$C$10,3)","v":0},14400,null,94600,14400,17424,null,94600,14400,17424]
[94700,14500,17545,{"$f":"VLOOKUP(A950,'Correcties op staffel'!$A$5:$C$10,2)","v":0},{"$f":"VLOOKUP(A950,'Correcties op staffel'!$A$5:$C$10,3)","v":0},14500,null,94700,14500,17545,null,94700,14500,17545]
[94800,14500,17545,{"$f":"VLOOKUP(A951,'Correcties op staffel'!$A$5:$C$10,2)","v":0},{"$f":"VLOOKUP(A951,'Correcties op staffel'!$A$5:$C$10,3)","v":0},14500,null,94800,14500,17545,null,94800,14500,17545]
[94900,14500,17545,{"$f":"VLOOKUP(A952,'Correcties op staffel'!$A$5:$C$10,2)","v":0},{"$f":"VLOOKUP(A952,'Correcties op staffel'!$A$5:$C$10,3)","v":0},14500,null,94900,14500,17545,null,94900,14500,17545]
[95000,14500,17545,{"$f":"VLOOKUP(A953,'Correcties op staffel'!$A$5:$C$10,2)","v":0},{"$f":"VLOOKUP(A953,'Correcties op staffel'!$A$5:$C$10,3)","v":0},14500,null,95000,14500,17545,null,95000,14500,17545]
[95100,14500,17545,{"$f":"VLOOKUP(A954,'Correcties op staffel'!$A$5:$C$10,2)","v":0},{"$f":"VLOOKUP(A954,'Correcties op staffel'!$A$5:$C$10,3)","v":0},14500,null,95100,14500,17545,null,95100,14500,17545]
[95200,14500,17545,{"$f":"VLOOKUP(A955,'Correcties op staffel'!$A$5:$C$10,2)","v":0},{"$f":"VLOOKUP(A955,'Correcties op staffel'!$A$5:$C$10,3)","v":0},14500,null,95200,14500,17545,null,95200,14500,17545]
[95300,14600,17666,{"$f":"VLOOKUP(A956,'Correcties op staffel'!$A$5:$C$10,2)","v":0},{"$f":"VLOOKUP(A956,'Correcties op staffel'!$A$5:$C$10,3)","v":0},14600,null,95300,14600,17666,null,95300,14600,17666]
[95400,14600,17666,{"$f":"VLOOKUP(A957,'Correcties op staffel'!$A$5:$C$10,2)","v":0},{"$f":"VLOOKUP(A957,'Correcties op staffel'!$A$5:$C$10,3)","v":0},14600,null,95400,14600,17666,null,95400,14600,17666]
[95500,14600,17666,{"$f":"VLOOKUP(A958,'Correcties op staffel'!$A$5:$C$10,2)","v":0},{"$f":"VLOOKUP(A958,'Correcties op staffel'!$A$5:$C$10,3)","v":0},14600,null,95500,14600,17666,null,95500,14600,17666]
[95600,14600,17666,{"$f":"VLOOKUP(A959,'Correcties op staffel'!$A$5:$C$10,2)","v":0},{"$f":"VLOOKUP(A959,'Correcties op staffel'!$A$5:$C$10,3)","v":0},14600,null,95600,14600,17666,null,95600,14600,17666]
[95700,14600,17666,{"$f":"VLOOKUP(A960,'Correcties op staffel'!$A$5:$C$10,2)","v":0},{"$f":"VLOOKUP(A960,'Correcties op staffel'!$A$5:$C$10,3)","v":0},14600,null,95700,14600,17666,null,95700,14600,17666]
[95800,14600,17666,{"$f":"VLOOKUP(A961,'Correcties op staffel'!$A$5:$C$10,2)","v":0},{"$f":"VLOOKUP(A961,'Correcties op staffel'!$A$5:$C$10,3)","v":0},14600,null,95800,14600,17666,null,95800,14600,17666]
[95900,14600,17666,{"$f":"VLOOKUP(A962,'Correcties op staffel'!$A$5:$C$10,2)","v":0},{"$f":"VLOOKUP(A962,'Correcties op staffel'!$A$5:$C$10,3)","v":0},14600,null,95900,14600,17666,null,95900,14600,17666]
[96000,14700,17787,{"$f":"VLOOKUP(A963,'Correcties op staffel'!$A$5:$C$10,2)","v":0},{"$f":"VLOOKUP(A963,'Correcties op staffel'!$A$5:$C$10,3)","v":0},14700,null,96000,14700,17787,null,96000,14700,17787]
[96100,14700,17787,{"$f":"VLOOKUP(A964,'Correcties op staffel'!$A$5:$C$10,2)","v":0},{"$f":"VLOOKUP(A964,'Correcties op staffel'!$A$5:$C$10,3)","v":0},{"$f":"B964*(1+D964)+E964","v":14700},null,96100,{"$f":"ROUND(F964,0)","v":14700},17787,null,96100,14700,17787]
[96200,14700,17787,{"$f":"VLOOKUP(A965,'Correcties op staffel'!$A$5:$C$10,2)","v":0},{"$f":"VLOOKUP(A965,'Correcties op staffel'!$A$5:$C$10,3)","v":0},14700,null,96200,14700,{"$f":"I965*1.21","v":17787},null,96200,{"$f":"IF(ROUND(I965/5,0)*5<I965,ROUND(I965/5,0)*5+5,ROUND(I965/5,0)*5)","v":14700},{"$f":"M965*1.21","v":17787}]
[96300,14700,17787,{"$f":"VLOOKUP(A966,'Correcties op staffel'!$A$5:$C$10,2)","v":0},{"$f":"VLOOKUP(A966,'Correcties op staffel'!$A$5:$C$10,3)","v":0},14700,null,96300,14700,17787,null,96300,14700,17787]
[96400,14700,17787,{"$f":"VLOOKUP(A967,'Correcties op staffel'!$A$5:$C$10,2)","v":0},{"$f":"VLOOKUP(A967,'Correcties op staffel'!$A$5:$C$10,3)","v":0},14700,null,96400,14700,17787,null,96400,14700,17787]
[96500,14700,17787,{"$f":"VLOOKUP(A968,'Correcties op staffel'!$A$5:$C$10,2)","v":0},{"$f":"VLOOKUP(A968,'Correcties op staffel'!$A$5:$C$10,3)","v":0},14700,null,96500,14700,17787,null,96500,14700,17787]
[96600,14700,17787,{"$f":"VLOOKUP(A969,'Correcties op staffel'!$A$5:$C$10,2)","v":0},{"$f":"VLOOKUP(A969,'Correcties op staffel'!$A$5:$C$10,3)","v":0},14700,null,96600,14700,17787,null,96600,14700,17787]
[96700,14800,17908,{"$f":"VLOOKUP(A970,'Correcties op staffel'!$A$5:$C$10,2)","v":0},{"$f":"VLOOKUP(A970,'Correcties op staffel'!$A$5:$C$10,3)","v":0},14800,null,{"$f":"H969+100","v":96700},14800,17908,null,96700,14800,17908]
[96800,14800,17908,{"$f":"VLOOKUP(A971,'Correcties op staffel'!$A$5:$C$10,2)","v":0},{"$f":"VLOOKUP(A971,'Correcties op staffel'!$A$5:$C$10,3)","v":0},14800,null,96800,14800,17908,null,96800,14800,17908]
[96900,14800,17908,{"$f":"VLOOKUP(A972,'Correcties op staffel'!$A$5:$C$10,2)","v":0},{"$f":"VLOOKUP(A972,'Correcties op staffel'!$A$5:$C$10,3)","v":0},14800,null,96900,14800,17908,null,96900,14800,17908]
[97000,14800,17908,{"$f":"VLOOKUP(A973,'Correcties op staffel'!$A$5:$C$10,2)","v":0},{"$f":"VLOOKUP(A973,'Correcties op staffel'!$A$5:$C$10,3)","v":0},14800,null,97000,14800,17908,null,97000,14800,17908]
[97100,14800,17908,{"$f":"VLOOKUP(A974,'Correcties op staffel'!$A$5:$C$10,2)","v":0},{"$f":"VLOOKUP(A974,'Correcties op staffel'!$A$5:$C$10,3)","v":0},14800,null,97100,14800,17908,null,97100,14800,17908]
[97200,14800,17908,{"$f":"VLOOKUP(A975,'Correcties op staffel'!$A$5:$C$10,2)","v":0},{"$f":"VLOOKUP(A975,'Correcties op staffel'!$A$5:$C$10,3)","v":0},14800,null,97200,14800,17908,null,97200,14800,17908]
[{"$f":"A975+100","v":97300},14800,17908,{"$f":"VLOOKUP(A976,'Correcties op staffel'!$A$5:$C$10,2)","v":0},{"$f":"VLOOKUP(A976,'Correcties op staffel'!$A$5:$C$10,3)","v":0},14800,null,97300,14800,17908,null,97300,14800,17908]
[97400,14900,18029,{"$f":"VLOOKUP(A977,'Correcties op staffel'!$A$5:$C$10,2)","v":0},{"$f":"VLOOKUP(A977,'Correcties op staffel'!$A$5:$C$10,3)","v":0},14900,null,97400,14900,18029,null,97400,14900,18029]
[97500,14900,18029,{"$f":"VLOOKUP(A978,'Correcties op staffel'!$A$5:$C$10,2)","v":0},{"$f":"VLOOKUP(A978,'Correcties op staffel'!$A$5:$C$10,3)","v":0},14900,null,97500,14900,18029,null,97500,14900,18029]
[97600,14900,18029,{"$f":"VLOOKUP(A979,'Correcties op staffel'!$A$5:$C$10,2)","v":0},{"$f":"VLOOKUP(A979,'Correcties op staffel'!$A$5:$C$10,3)","v":0},14900,null,97600,14900,18029,null,97600,14900,18029]
[97700,14900,18029,{"$f":"VLOOKUP(A980,'Correcties op staffel'!$A$5:$C$10,2)","v":0},{"$f":"VLOOKUP(A980,'Correcties op staffel'!$A$5:$C$10,3)","v":0},14900,null,97700,14900,18029,null,97700,14900,18029]
[97800,14900,18029,{"$f":"VLOOKUP(A981,'Correcties op staffel'!$A$5:$C$10,2)","v":0},{"$f":"VLOOKUP(A981,'Correcties op staffel'!$A$5:$C$10,3)","v":0},14900,null,97800,14900,18029,null,97800,14900,18029]
[97900,14900,18029,{"$f":"VLOOKUP(A982,'Correcties op staffel'!$A$5:$C$10,2)","v":0},{"$f":"VLOOKUP(A982,'Correcties op staffel'!$A$5:$C$10,3)","v":0},14900,null,97900,14900,18029,null,97900,14900,18029]
[98000,14900,18029,{"$f":"VLOOKUP(A983,'Correcties op staffel'!$A$5:$C$10,2)","v":0},{"$f":"VLOOKUP(A983,'Correcties op staffel'!$A$5:$C$10,3)","v":0},14900,null,98000,14900,18029,null,98000,14900,18029]
[98100,15000,18150,{"$f":"VLOOKUP(A984,'Correcties op staffel'!$A$5:$C$10,2)","v":0},{"$f":"VLOOKUP(A984,'Correcties op staffel'!$A$5:$C$10,3)","v":0},15000,null,98100,15000,18150,null,98100,15000,18150]
[98200,15000,18150,{"$f":"VLOOKUP(A985,'Correcties op staffel'!$A$5:$C$10,2)","v":0},{"$f":"VLOOKUP(A985,'Correcties op staffel'!$A$5:$C$10,3)","v":0},15000,null,98200,15000,18150,null,98200,15000,18150]
[98300,15000,18150,{"$f":"VLOOKUP(A986,'Correcties op staffel'!$A$5:$C$10,2)","v":0},{"$f":"VLOOKUP(A986,'Correcties op staffel'!$A$5:$C$10,3)","v":0},15000,null,98300,15000,18150,null,98300,15000,18150]
[98400,15000,18150,{"$f":"VLOOKUP(A987,'Correcties op staffel'!$A$5:$C$10,2)","v":0},{"$f":"VLOOKUP(A987,'Correcties op staffel'!$A$5:$C$10,3)","v":0},15000,null,98400,15000,18150,null,98400,15000,18150]
[98500,15000,18150,{"$f":"VLOOKUP(A988,'Correcties op staffel'!$A$5:$C$10,2)","v":0},{"$f":"VLOOKUP(A988,'Correcties op staffel'!$A$5:$C$10,3)","v":0},15000,null,98500,15000,18150,null,98500,15000,18150]
[98600,15000,18150,{"$f":"VLOOKUP(A989,'Correcties op staffel'!$A$5:$C$10,2)","v":0},{"$f":"VLOOKUP(A989,'Correcties op staffel'!$A$5:$C$10,3)","v":0},15000,null,98600,15000,18150,null,98600,15000,18150]
[98700,15100,18271,{"$f":"VLOOKUP(A990,'Correcties op staffel'!$A$5:$C$10,2)","v":0},{"$f":"VLOOKUP(A990,'Correcties op staffel'!$A$5:$C$10,3)","v":0},15100,null,98700,15100,18271,null,98700,15100,18271]
[98800,15100,18271,{"$f":"VLOOKUP(A991,'Correcties op staffel'!$A$5:$C$10,2)","v":0},{"$f":"VLOOKUP(A991,'Correcties op staffel'!$A$5:$C$10,3)","v":0},15100,null,98800,15100,18271,null,98800,15100,18271]
[98900,15100,18271,{"$f":"VLOOKUP(A992,'Correcties op staffel'!$A$5:$C$10,2)","v":0},{"$f":"VLOOKUP(A992,'Correcties op staffel'!$A$5:$C$10,3)","v":0},15100,null,98900,15100,18271,null,98900,15100,18271]
[99000,15100,18271,{"$f":"VLOOKUP(A993,'Correcties op staffel'!$A$5:$C$10,2)","v":0},{"$f":"VLOOKUP(A993,'Correcties op staffel'!$A$5:$C$10,3)","v":0},15100,null,99000,15100,18271,null,99000,15100,18271]
[99100,15100,18271,{"$f":"VLOOKUP(A994,'Correcties op staffel'!$A$5:$C$10,2)","v":0},{"$f":"VLOOKUP(A994,'Correcties op staffel'!$A$5:$C$10,3)","v":0},15100,null,99100,15100,18271,null,99100,15100,18271]
[99200,15100,18271,{"$f":"VLOOKUP(A995,'Correcties op staffel'!$A$5:$C$10,2)","v":0},{"$f":"VLOOKUP(A995,'Correcties op staffel'!$A$5:$C$10,3)","v":0},15100,null,99200,15100,18271,null,99200,15100,18271]
[99300,15100,18271,{"$f":"VLOOKUP(A996,'Correcties op staffel'!$A$5:$C$10,2)","v":0},{"$f":"VLOOKUP(A996,'Correcties op staffel'!$A$5:$C$10,3)","v":0},15100,null,99300,15100,18271,null,99300,15100,18271]
[99400,15200,18392,{"$f":"VLOOKUP(A997,'Correcties op staffel'!$A$5:$C$10,2)","v":0},{"$f":"VLOOKUP(A997,'Correcties op staffel'!$A$5:$C$10,3)","v":0},15200,null,99400,15200,18392,null,99400,15200,18392]
[99500,15200,18392,{"$f":"VLOOKUP(A998,'Correcties op staffel'!$A$5:$C$10,2)","v":0},{"$f":"VLOOKUP(A998,'Correcties op staffel'!$A$5:$C$10,3)","v":0},15200,null,99500,15200,18392,null,99500,15200,18392]
[99600,15200,18392,{"$f":"VLOOKUP(A999,'Correcties op staffel'!$A$5:$C$10,2)","v":0},{"$f":"VLOOKUP(A999,'Correcties op staffel'!$A$5:$C$10,3)","v":0},15200,null,99600,15200,18392,null,99600,15200,18392]
[99700,15200,18392,{"$f":"VLOOKUP(A1000,'Correcties op staffel'!$A$5:$C$10,2)","v":0},{"$f":"VLOOKUP(A1000,'Correcties op staffel'!$A$5:$C$10,3)","v":0},15200,null,99700,15200,18392,null,99700,15200,18392]
[99800,15200,18392,{"$f":"VLOOKUP(A1001,'Correcties op staffel'!$A$5:$C$10,2)","v":0},{"$f":"VLOOKUP(A1001,'Correcties op staffel'!$A$5:$C$10,3)","v":0},15200,null,99800,15200,18392,null,99800,15200,18392]
[99900,15200,18392,{"$f":"VLOOKUP(A1002,'Correcties op staffel'!$A$5:$C$10,2)","v":0},{"$f":"VLOOKUP(A1002,'Correcties op staffel'!$A$5:$C$10,3)","v":0},15200,null,99900,15200,18392,null,99900,15200,18392]
[100000,15200,18392,{"$f":"VLOOKUP(A1003,'Correcties op staffel'!$A$5:$C$10,2)","v":0},{"$f":"VLOOKUP(A1003,'Correcties op staffel'!$A$5:$C$10,3)","v":0},15200,null,100000,15200,18392,null,100000,15200,18392]
[{"$f":"A1003+100","v":100100},15300,18513,{"$f":"VLOOKUP(A1004,'Correcties op staffel'!$A$5:$C$10,2)","v":0},{"$f":"VLOOKUP(A1004,'Correcties op staffel'!$A$5:$C$10,3)","v":0},15300,null,{"$f":"H1003+100","v":100100},15300,18513,null,100100,15300,18513]
[{"$f":"A1004+100","v":100200},15300,18513,{"$f":"VLOOKUP(A1005,'Correcties op staffel'!$A$5:$C$10,2)","v":0},{"$f":"VLOOKUP(A1005,'Correcties op staffel'!$A$5:$C$10,3)","v":0},15300,null,{"$f":"H1004+100","v":100200},15300,18513,null,100200,15300,18513]
[100300,15300,18513,{"$f":"VLOOKUP(A1006,'Correcties op staffel'!$A$5:$C$10,2)","v":0},{"$f":"VLOOKUP(A1006,'Correcties op staffel'!$A$5:$C$10,3)","v":0},15300,null,100300,15300,18513,null,100300,15300,18513]
[100400,15300,18513,{"$f":"VLOOKUP(A1007,'Correcties op staffel'!$A$5:$C$10,2)","v":0},{"$f":"VLOOKUP(A1007,'Correcties op staffel'!$A$5:$C$10,3)","v":0},15300,null,100400,15300,18513,null,100400,15300,18513]
[100500,15300,18513,{"$f":"VLOOKUP(A1008,'Correcties op staffel'!$A$5:$C$10,2)","v":0},{"$f":"VLOOKUP(A1008,'Correcties op staffel'!$A$5:$C$10,3)","v":0},15300,null,100500,15300,18513,null,100500,15300,18513]
[100600,15300,18513,{"$f":"VLOOKUP(A1009,'Correcties op staffel'!$A$5:$C$10,2)","v":0},{"$f":"VLOOKUP(A1009,'Correcties op staffel'!$A$5:$C$10,3)","v":0},15300,null,100600,15300,18513,null,100600,15300,18513]
[100700,15300,18513,{"$f":"VLOOKUP(A1010,'Correcties op staffel'!$A$5:$C$10,2)","v":0},{"$f":"VLOOKUP(A1010,'Correcties op staffel'!$A$5:$C$10,3)","v":0},15300,null,100700,15300,18513,null,100700,15300,18513]
[100800,15300,18513,{"$f":"VLOOKUP(A1011,'Correcties op staffel'!$A$5:$C$10,2)","v":0},{"$f":"VLOOKUP(A1011,'Correcties op staffel'!$A$5:$C$10,3)","v":0},15300,null,100800,15300,18513,null,100800,15300,18513]
[100900,15300,18513,{"$f":"VLOOKUP(A1012,'Correcties op staffel'!$A$5:$C$10,2)","v":0},{"$f":"VLOOKUP(A1012,'Correcties op staffel'!$A$5:$C$10,3)","v":0},15300,null,100900,15300,18513,null,100900,15300,18513]
[101000,15300,18513,{"$f":"VLOOKUP(A1013,'Correcties op staffel'!$A$5:$C$10,2)","v":0},{"$f":"VLOOKUP(A1013,'Correcties op staffel'!$A$5:$C$10,3)","v":0},15300,null,101000,15300,18513,null,101000,15300,18513]
[101100,15400,18634,{"$f":"VLOOKUP(A1014,'Correcties op staffel'!$A$5:$C$10,2)","v":0},{"$f":"VLOOKUP(A1014,'Correcties op staffel'!$A$5:$C$10,3)","v":0},15400,null,101100,15400,18634,null,101100,15400,18634]
[101200,15400,18634,{"$f":"VLOOKUP(A1015,'Correcties op staffel'!$A$5:$C$10,2)","v":0},{"$f":"VLOOKUP(A1015,'Correcties op staffel'!$A$5:$C$10,3)","v":0},15400,null,101200,15400,18634,null,101200,15400,18634]
[101300,15400,18634,{"$f":"VLOOKUP(A1016,'Correcties op staffel'!$A$5:$C$10,2)","v":0},{"$f":"VLOOKUP(A1016,'Correcties op staffel'!$A$5:$C$10,3)","v":0},15400,null,101300,15400,18634,null,101300,15400,18634]
[101400,15400,18634,{"$f":"VLOOKUP(A1017,'Correcties op staffel'!$A$5:$C$10,2)","v":0},{"$f":"VLOOKUP(A1017,'Correcties op staffel'!$A$5:$C$10,3)","v":0},15400,null,101400,15400,18634,null,101400,15400,18634]
[101500,15400,18634,{"$f":"VLOOKUP(A1018,'Correcties op staffel'!$A$5:$C$10,2)","v":0},{"$f":"VLOOKUP(A1018,'Correcties op staffel'!$A$5:$C$10,3)","v":0},15400,null,101500,15400,18634,null,101500,15400,18634]
[101600,15400,18634,{"$f":"VLOOKUP(A1019,'Correcties op staffel'!$A$5:$C$10,2)","v":0},{"$f":"VLOOKUP(A1019,'Correcties op staffel'!$A$5:$C$10,3)","v":0},15400,null,101600,15400,18634,null,101600,15400,18634]
[101700,15400,18634,{"$f":"VLOOKUP(A1020,'Correcties op staffel'!$A$5:$C$10,2)","v":0},{"$f":"VLOOKUP(A1020,'Correcties op staffel'!$A$5:$C$10,3)","v":0},15400,null,101700,15400,18634,null,101700,15400,18634]
[101800,15400,18634,{"$f":"VLOOKUP(A1021,'Correcties op staffel'!$A$5:$C$10,2)","v":0},{"$f":"VLOOKUP(A1021,'Correcties op staffel'!$A$5:$C$10,3)","v":0},15400,null,101800,15400,18634,null,101800,15400,18634]
[101900,15400,18634,{"$f":"VLOOKUP(A1022,'Correcties op staffel'!$A$5:$C$10,2)","v":0},{"$f":"VLOOKUP(A1022,'Correcties op staffel'!$A$5:$C$10,3)","v":0},15400,null,101900,15400,18634,null,101900,15400,18634]
[102000,15400,18634,{"$f":"VLOOKUP(A1023,'Correcties op staffel'!$A$5:$C$10,2)","v":0},{"$f":"VLOOKUP(A1023,'Correcties op staffel'!$A$5:$C$10,3)","v":0},15400,null,102000,15400,18634,null,102000,15400,18634]
[102100,15500,18755,{"$f":"VLOOKUP(A1024,'Correcties op staffel'!$A$5:$C$10,2)","v":0},{"$f":"VLOOKUP(A1024,'Correcties op staffel'!$A$5:$C$10,3)","v":0},15500,null,102100,15500,18755,null,102100,15500,18755]
[102200,15500,18755,{"$f":"VLOOKUP(A1025,'Correcties op staffel'!$A$5:$C$10,2)","v":0},{"$f":"VLOOKUP(A1025,'Correcties op staffel'!$A$5:$C$10,3)","v":0},15500,null,102200,15500,18755,null,102200,15500,18755]
[102300,15500,18755,{"$f":"VLOOKUP(A1026,'Correcties op staffel'!$A$5:$C$10,2)","v":0},{"$f":"VLOOKUP(A1026,'Correcties op staffel'!$A$5:$C$10,3)","v":0},15500,null,102300,15500,18755,null,102300,15500,18755]
[102400,15500,18755,{"$f":"VLOOKUP(A1027,'Correcties op staffel'!$A$5:$C$10,2)","v":0},{"$f":"VLOOKUP(A1027,'Correcties op staffel'!$A$5:$C$10,3)","v":0},15500,null,102400,15500,18755,null,102400,15500,18755]
[102500,15500,18755,{"$f":"VLOOKUP(A1028,'Correcties op staffel'!$A$5:$C$10,2)","v":0},{"$f":"VLOOKUP(A1028,'Correcties op staffel'!$A$5:$C$10,3)","v":0},{"$f":"B1028*(1+D1028)+E1028","v":15500},null,102500,{"$f":"ROUND(F1028,0)","v":15500},18755,null,102500,15500,18755]
[102600,15500,18755,{"$f":"VLOOKUP(A1029,'Correcties op staffel'!$A$5:$C$10,2)","v":0},{"$f":"VLOOKUP(A1029,'Correcties op staffel'!$A$5:$C$10,3)","v":0},15500,null,102600,15500,{"$f":"I1029*1.21","v":18755},null,102600,{"$f":"IF(ROUND(I1029/5,0)*5<I1029,ROUND(I1029/5,0)*5+5,ROUND(I1029/5,0)*5)","v":15500},{"$f":"M1029*1.21","v":18755}]
[102700,15500,18755,{"$f":"VLOOKUP(A1030,'Correcties op staffel'!$A$5:$C$10,2)","v":0},{"$f":"VLOOKUP(A1030,'Correcties op staffel'!$A$5:$C$10,3)","v":0},15500,null,102700,15500,18755,null,102700,15500,18755]
[102800,15500,18755,{"$f":"VLOOKUP(A1031,'Correcties op staffel'!$A$5:$C$10,2)","v":0},{"$f":"VLOOKUP(A1031,'Correcties op staffel'!$A$5:$C$10,3)","v":0},15500,null,102800,15500,18755,null,102800,15500,18755]
[102900,15500,18755,{"$f":"VLOOKUP(A1032,'Correcties op staffel'!$A$5:$C$10,2)","v":0},{"$f":"VLOOKUP(A1032,'Correcties op staffel'!$A$5:$C$10,3)","v":0},15500,null,102900,15500,18755,null,102900,15500,18755]
[103000,15500,18755,{"$f":"VLOOKUP(A1033,'Correcties op staffel'!$A$5:$C$10,2)","v":0},{"$f":"VLOOKUP(A1033,'Correcties op staffel'!$A$5:$C$10,3)","v":0},15500,null,103000,15500,18755,null,103000,15500,18755]
[103100,15600,18876,{"$f":"VLOOKUP(A1034,'Correcties op staffel'!$A$5:$C$10,2)","v":0},{"$f":"VLOOKUP(A1034,'Correcties op staffel'!$A$5:$C$10,3)","v":0},15600,null,103100,15600,18876,null,103100,15600,18876]
[103200,15600,18876,{"$f":"VLOOKUP(A1035,'Correcties op staffel'!$A$5:$C$10,2)","v":0},{"$f":"VLOOKUP(A1035,'Correcties op staffel'!$A$5:$C$10,3)","v":0},15600,null,103200,15600,18876,null,103200,15600,18876]
[103300,15600,18876,{"$f":"VLOOKUP(A1036,'Correcties op staffel'!$A$5:$C$10,2)","v":0},{"$f":"VLOOKUP(A1036,'Correcties op staffel'!$A$5:$C$10,3)","v":0},15600,null,103300,15600,18876,null,103300,15600,18876]
[103400,15600,18876,{"$f":"VLOOKUP(A1037,'Correcties op staffel'!$A$5:$C$10,2)","v":0},{"$f":"VLOOKUP(A1037,'Correcties op staffel'!$A$5:$C$10,3)","v":0},15600,null,103400,15600,18876,null,103400,15600,18876]
[103500,15600,18876,{"$f":"VLOOKUP(A1038,'Correcties op staffel'!$A$5:$C$10,2)","v":0},{"$f":"VLOOKUP(A1038,'Correcties op staffel'!$A$5:$C$10,3)","v":0},15600,null,103500,15600,18876,null,103500,15600,18876]
[103600,15600,18876,{"$f":"VLOOKUP(A1039,'Correcties op staffel'!$A$5:$C$10,2)","v":0},{"$f":"VLOOKUP(A1039,'Correcties op staffel'!$A$5:$C$10,3)","v":0},15600,null,103600,15600,18876,null,103600,15600,18876]
[103700,15600,18876,{"$f":"VLOOKUP(A1040,'Correcties op staffel'!$A$5:$C$10,2)","v":0},{"$f":"VLOOKUP(A1040,'Correcties op staffel'!$A$5:$C$10,3)","v":0},15600,null,103700,15600,18876,null,103700,15600,18876]
[103800,15600,18876,{"$f":"VLOOKUP(A1041,'Correcties op staffel'!$A$5:$C$10,2)","v":0},{"$f":"VLOOKUP(A1041,'Correcties op staffel'!$A$5:$C$10,3)","v":0},15600,null,103800,15600,18876,null,103800,15600,18876]
[103900,15600,18876,{"$f":"VLOOKUP(A1042,'Correcties op staffel'!$A$5:$C$10,2)","v":0},{"$f":"VLOOKUP(A1042,'Correcties op staffel'!$A$5:$C$10,3)","v":0},15600,null,103900,15600,18876,null,103900,15600,18876]
[104000,15600,18876,{"$f":"VLOOKUP(A1043,'Correcties op staffel'!$A$5:$C$10,2)","v":0},{"$f":"VLOOKUP(A1043,'Correcties op staffel'!$A$5:$C$10,3)","v":0},15600,null,104000,15600,18876,null,104000,15600,18876]
[104100,15700,18997,{"$f":"VLOOKUP(A1044,'Correcties op staffel'!$A$5:$C$10,2)","v":0},{"$f":"VLOOKUP(A1044,'Correcties op staffel'!$A$5:$C$10,3)","v":0},15700,null,104100,15700,18997,null,104100,15700,18997]
[104200,15700,18997,{"$f":"VLOOKUP(A1045,'Correcties op staffel'!$A$5:$C$10,2)","v":0},{"$f":"VLOOKUP(A1045,'Correcties op staffel'!$A$5:$C$10,3)","v":0},15700,null,104200,15700,18997,null,104200,15700,18997]
[104300,15700,18997,{"$f":"VLOOKUP(A1046,'Correcties op staffel'!$A$5:$C$10,2)","v":0},{"$f":"VLOOKUP(A1046,'Correcties op staffel'!$A$5:$C$10,3)","v":0},15700,null,104300,15700,18997,null,104300,15700,18997]
[104400,15700,18997,{"$f":"VLOOKUP(A1047,'Correcties op staffel'!$A$5:$C$10,2)","v":0},{"$f":"VLOOKUP(A1047,'Correcties op staffel'!$A$5:$C$10,3)","v":0},15700,null,104400,15700,18997,null,104400,15700,18997]
[104500,15700,18997,{"$f":"VLOOKUP(A1048,'Correcties op staffel'!$A$5:$C$10,2)","v":0},{"$f":"VLOOKUP(A1048,'Correcties op staffel'!$A$5:$C$10,3)","v":0},15700,null,104500,15700,18997,null,104500,15700,18997]
[104600,15700,18997,{"$f":"VLOOKUP(A1049,'Correcties op staffel'!$A$5:$C$10,2)","v":0},{"$f":"VLOOKUP(A1049,'Correcties op staffel'!$A$5:$C$10,3)","v":0},15700,null,104600,15700,18997,null,104600,15700,18997]
[104700,15700,18997,{"$f":"VLOOKUP(A1050,'Correcties op staffel'!$A$5:$C$10,2)","v":0},{"$f":"VLOOKUP(A1050,'Correcties op staffel'!$A$5:$C$10,3)","v":0},15700,null,104700,15700,18997,null,104700,15700,18997]
[104800,15700,18997,{"$f":"VLOOKUP(A1051,'Correcties op staffel'!$A$5:$C$10,2)","v":0},{"$f":"VLOOKUP(A1051,'Correcties op staffel'!$A$5:$C$10,3)","v":0},15700,null,104800,15700,18997,null,104800,15700,18997]
[104900,15700,18997,{"$f":"VLOOKUP(A1052,'Correcties op staffel'!$A$5:$C$10,2)","v":0},{"$f":"VLOOKUP(A1052,'Correcties op staffel'!$A$5:$C$10,3)","v":0},15700,null,104900,15700,18997,null,104900,15700,18997]
[105000,15700,18997,{"$f":"VLOOKUP(A1053,'Correcties op staffel'!$A$5:$C$10,2)","v":0},{"$f":"VLOOKUP(A1053,'Correcties op staffel'!$A$5:$C$10,3)","v":0},15700,null,105000,15700,18997,null,105000,15700,18997]
[105100,15800,19118,{"$f":"VLOOKUP(A1054,'Correcties op staffel'!$A$5:$C$10,2)","v":0},{"$f":"VLOOKUP(A1054,'Correcties op staffel'!$A$5:$C$10,3)","v":0},15800,null,105100,15800,19118,null,105100,15800,19118]
[105200,15800,19118,{"$f":"VLOOKUP(A1055,'Correcties op staffel'!$A$5:$C$10,2)","v":0},{"$f":"VLOOKUP(A1055,'Correcties op staffel'!$A$5:$C$10,3)","v":0},15800,null,105200,15800,19118,null,105200,15800,19118]
[105300,15800,19118,{"$f":"VLOOKUP(A1056,'Correcties op staffel'!$A$5:$C$10,2)","v":0},{"$f":"VLOOKUP(A1056,'Correcties op staffel'!$A$5:$C$10,3)","v":0},15800,null,105300,15800,19118,null,105300,15800,19118]
[105400,15800,19118,{"$f":"VLOOKUP(A1057,'Correcties op staffel'!$A$5:$C$10,2)","v":0},{"$f":"VLOOKUP(A1057,'Correcties op staffel'!$A$5:$C$10,3)","v":0},15800,null,105400,15800,19118,null,105400,15800,19118]
[105500,15800,19118,{"$f":"VLOOKUP(A1058,'Correcties op staffel'!$A$5:$C$10,2)","v":0},{"$f":"VLOOKUP(A1058,'Correcties op staffel'!$A$5:$C$10,3)","v":0},15800,null,105500,15800,19118,null,105500,15800,19118]
[105600,15800,19118,{"$f":"VLOOKUP(A1059,'Correcties op staffel'!$A$5:$C$10,2)","v":0},{"$f":"VLOOKUP(A1059,'Correcties op staffel'!$A$5:$C$10,3)","v":0},15800,null,105600,15800,19118,null,105600,15800,19118]
[105700,15800,19118,{"$f":"VLOOKUP(A1060,'Correcties op staffel'!$A$5:$C$10,2)","v":0},{"$f":"VLOOKUP(A1060,'Correcties op staffel'!$A$5:$C$10,3)","v":0},15800,null,105700,15800,19118,null,105700,15800,19118]
[105800,15800,19118,{"$f":"VLOOKUP(A1061,'Correcties op staffel'!$A$5:$C$10,2)","v":0},{"$f":"VLOOKUP(A1061,'Correcties op staffel'!$A$5:$C$10,3)","v":0},15800,null,105800,15800,19118,null,105800,15800,19118]
[105900,15800,19118,{"$f":"VLOOKUP(A1062,'Correcties op staffel'!$A$5:$C$10,2)","v":0},{"$f":"VLOOKUP(A1062,'Correcties op staffel'!$A$5:$C$10,3)","v":0},15800,null,105900,15800,19118,null,105900,15800,19118]
[106000,15800,19118,{"$f":"VLOOKUP(A1063,'Correcties op staffel'!$A$5:$C$10,2)","v":0},{"$f":"VLOOKUP(A1063,'Correcties op staffel'!$A$5:$C$10,3)","v":0},15800,null,106000,15800,19118,null,106000,15800,19118]
[106100,15900,19239,{"$f":"VLOOKUP(A1064,'Correcties op staffel'!$A$5:$C$10,2)","v":0},{"$f":"VLOOKUP(A1064,'Correcties op staffel'!$A$5:$C$10,3)","v":0},15900,null,106100,15900,19239,null,106100,15900,19239]
[106200,15900,19239,{"$f":"VLOOKUP(A1065,'Correcties op staffel'!$A$5:$C$10,2)","v":0},{"$f":"VLOOKUP(A1065,'Correcties op staffel'!$A$5:$C$10,3)","v":0},15900,null,106200,15900,19239,null,106200,15900,19239]
[106300,15900,19239,{"$f":"VLOOKUP(A1066,'Correcties op staffel'!$A$5:$C$10,2)","v":0},{"$f":"VLOOKUP(A1066,'Correcties op staffel'!$A$5:$C$10,3)","v":0},15900,null,106300,15900,19239,null,106300,15900,19239]
[106400,15900,19239,{"$f":"VLOOKUP(A1067,'Correcties op staffel'!$A$5:$C$10,2)","v":0},{"$f":"VLOOKUP(A1067,'Correcties op staffel'!$A$5:$C$10,3)","v":0},15900,null,106400,15900,19239,null,106400,15900,19239]
[106500,15900,19239,{"$f":"VLOOKUP(A1068,'Correcties op staffel'!$A$5:$C$10,2)","v":0},{"$f":"VLOOKUP(A1068,'Correcties op staffel'!$A$5:$C$10,3)","v":0},15900,null,106500,15900,19239,null,106500,15900,19239]
[{"$f":"A1068+100","v":106600},15900,19239,{"$f":"VLOOKUP(A1069,'Correcties op staffel'!$A$5:$C$10,2)","v":0},{"$f":"VLOOKUP(A1069,'Correcties op staffel'!$A$5:$C$10,3)","v":0},15900,null,{"$f":"H1068+100","v":106600},15900,19239,null,106600,15900,19239]
[106700,15900,19239,{"$f":"VLOOKUP(A1070,'Correcties op staffel'!$A$5:$C$10,2)","v":0},{"$f":"VLOOKUP(A1070,'Correcties op staffel'!$A$5:$C$10,3)","v":0},15900,null,106700,15900,19239,null,106700,15900,19239]
[106800,15900,19239,{"$f":"VLOOKUP(A1071,'Correcties op staffel'!$A$5:$C$10,2)","v":0},{"$f":"VLOOKUP(A1071,'Correcties op staffel'!$A$5:$C$10,3)","v":0},15900,null,106800,15900,19239,null,106800,15900,19239]
[106900,15900,19239,{"$f":"VLOOKUP(A1072,'Correcties op staffel'!$A$5:$C$10,2)","v":0},{"$f":"VLOOKUP(A1072,'Correcties op staffel'!$A$5:$C$10,3)","v":0},15900,null,106900,15900,19239,null,106900,15900,19239]
[107000,15900,19239,{"$f":"VLOOKUP(A1073,'Correcties op staffel'!$A$5:$C$10,2)","v":0},{"$f":"VLOOKUP(A1073,'Correcties op staffel'!$A$5:$C$10,3)","v":0},15900,null,107000,15900,19239,null,107000,15900,19239]
[107100,15900,19239,{"$f":"VLOOKUP(A1074,'Correcties op staffel'!$A$5:$C$10,2)","v":0},{"$f":"VLOOKUP(A1074,'Correcties op staffel'!$A$5:$C$10,3)","v":0},15900,null,107100,15900,19239,null,107100,15900,19239]
[107200,16000,19360,{"$f":"VLOOKUP(A1075,'Correcties op staffel'!$A$5:$C$10,2)","v":0},{"$f":"VLOOKUP(A1075,'Correcties op staffel'!$A$5:$C$10,3)","v":0},16000,null,107200,16000,19360,null,107200,16000,19360]
[107300,16000,19360,{"$f":"VLOOKUP(A1076,'Correcties op staffel'!$A$5:$C$10,2)","v":0},{"$f":"VLOOKUP(A1076,'Correcties op staffel'!$A$5:$C$10,3)","v":0},16000,null,107300,16000,19360,null,107300,16000,19360]
[107400,16000,19360,{"$f":"VLOOKUP(A1077,'Correcties op staffel'!$A$5:$C$10,2)","v":0},{"$f":"VLOOKUP(A1077,'Correcties op staffel'!$A$5:$C$10,3)","v":0},16000,null,107400,16000,19360,null,107400,16000,19360]
[107500,16000,19360,{"$f":"VLOOKUP(A1078,'Correcties op staffel'!$A$5:$C$10,2)","v":0},{"$f":"VLOOKUP(A1078,'Correcties op staffel'!$A$5:$C$10,3)","v":0},16000,null,107500,16000,19360,null,107500,16000,19360]
[107600,16000,19360,{"$f":"VLOOKUP(A1079,'Correcties op staffel'!$A$5:$C$10,2)","v":0},{"$f":"VLOOKUP(A1079,'Correcties op staffel'!$A$5:$C$10,3)","v":0},16000,null,107600,16000,19360,null,107600,16000,19360]
[107700,16000,19360,{"$f":"VLOOKUP(A1080,'Correcties op staffel'!$A$5:$C$10,2)","v":0},{"$f":"VLOOKUP(A1080,'Correcties op staffel'!$A$5:$C$10,3)","v":0},16000,null,107700,16000,19360,null,107700,16000,19360]
[107800,16000,19360,{"$f":"VLOOKUP(A1081,'Correcties op staffel'!$A$5:$C$10,2)","v":0},{"$f":"VLOOKUP(A1081,'Correcties op staffel'!$A$5:$C$10,3)","v":0},16000,null,107800,16000,19360,null,107800,16000,19360]
[107900,16000,19360,{"$f":"VLOOKUP(A1082,'Correcties op staffel'!$A$5:$C$10,2)","v":0},{"$f":"VLOOKUP(A1082,'Correcties op staffel'!$A$5:$C$10,3)","v":0},16000,null,107900,16000,19360,null,107900,16000,19360]
[108000,16000,19360,{"$f":"VLOOKUP(A1083,'Correcties op staffel'!$A$5:$C$10,2)","v":0},{"$f":"VLOOKUP(A1083,'Correcties op staffel'!$A$5:$C$10,3)","v":0},16000,null,108000,16000,19360,null,108000,16000,19360]
[108100,16000,19360,{"$f":"VLOOKUP(A1084,'Correcties op staffel'!$A$5:$C$10,2)","v":0},{"$f":"VLOOKUP(A1084,'Correcties op staffel'!$A$5:$C$10,3)","v":0},16000,null,108100,16000,19360,null,108100,16000,19360]
[108200,16100,19481,{"$f":"VLOOKUP(A1085,'Correcties op staffel'!$A$5:$C$10,2)","v":0},{"$f":"VLOOKUP(A1085,'Correcties op staffel'!$A$5:$C$10,3)","v":0},16100,null,108200,16100,19481,null,108200,16100,19481]
[108300,16100,19481,{"$f":"VLOOKUP(A1086,'Correcties op staffel'!$A$5:$C$10,2)","v":0},{"$f":"VLOOKUP(A1086,'Correcties op staffel'!$A$5:$C$10,3)","v":0},16100,null,108300,16100,19481,null,108300,16100,19481]
[108400,16100,19481,{"$f":"VLOOKUP(A1087,'Correcties op staffel'!$A$5:$C$10,2)","v":0},{"$f":"VLOOKUP(A1087,'Correcties op staffel'!$A$5:$C$10,3)","v":0},16100,null,108400,16100,19481,null,108400,16100,19481]
[108500,16100,19481,{"$f":"VLOOKUP(A1088,'Correcties op staffel'!$A$5:$C$10,2)","v":0},{"$f":"VLOOKUP(A1088,'Correcties op staffel'!$A$5:$C$10,3)","v":0},16100,null,108500,16100,19481,null,108500,16100,19481]
[108600,16100,19481,{"$f":"VLOOKUP(A1089,'Correcties op staffel'!$A$5:$C$10,2)","v":0},{"$f":"VLOOKUP(A1089,'Correcties op staffel'!$A$5:$C$10,3)","v":0},16100,null,108600,16100,19481,null,108600,16100,19481]
[108700,16100,19481,{"$f":"VLOOKUP(A1090,'Correcties op staffel'!$A$5:$C$10,2)","v":0},{"$f":"VLOOKUP(A1090,'Correcties op staffel'!$A$5:$C$10,3)","v":0},16100,null,108700,16100,19481,null,108700,16100,19481]
[108800,16100,19481,{"$f":"VLOOKUP(A1091,'Correcties op staffel'!$A$5:$C$10,2)","v":0},{"$f":"VLOOKUP(A1091,'Correcties op staffel'!$A$5:$C$10,3)","v":0},16100,null,108800,16100,19481,null,108800,16100,19481]
[108900,16100,19481,{"$f":"VLOOKUP(A1092,'Correcties op staffel'!$A$5:$C$10,2)","v":0},{"$f":"VLOOKUP(A1092,'Correcties op staffel'!$A$5:$C$10,3)","v":0},{"$f":"B1092*(1+D1092)+E1092","v":16100},null,108900,{"$f":"ROUND(F1092,0)","v":16100},19481,null,108900,16100,19481]
[109000,16100,19481,{"$f":"VLOOKUP(A1093,'Correcties op staffel'!$A$5:$C$10,2)","v":0},{"$f":"VLOOKUP(A1093,'Correcties op staffel'!$A$5:$C$10,3)","v":0},16100,null,109000,16100,{"$f":"I1093*1.21","v":19481},null,109000,{"$f":"IF(ROUND(I1093/5,0)*5<I1093,ROUND(I1093/5,0)*5+5,ROUND(I1093/5,0)*5)","v":16100},{"$f":"M1093*1.21","v":19481}]
[109100,16100,19481,{"$f":"VLOOKUP(A1094,'Correcties op staffel'!$A$5:$C$10,2)","v":0},{"$f":"VLOOKUP(A1094,'Correcties op staffel'!$A$5:$C$10,3)","v":0},16100,null,109100,16100,19481,null,109100,16100,19481]
[109200,16200,19602,{"$f":"VLOOKUP(A1095,'Correcties op staffel'!$A$5:$C$10,2)","v":0},{"$f":"VLOOKUP(A1095,'Correcties op staffel'!$A$5:$C$10,3)","v":0},16200,null,109200,16200,19602,null,109200,16200,19602]
[109300,16200,19602,{"$f":"VLOOKUP(A1096,'Correcties op staffel'!$A$5:$C$10,2)","v":0},{"$f":"VLOOKUP(A1096,'Correcties op staffel'!$A$5:$C$10,3)","v":0},16200,null,109300,16200,19602,null,109300,16200,19602]
[109400,16200,19602,{"$f":"VLOOKUP(A1097,'Correcties op staffel'!$A$5:$C$10,2)","v":0},{"$f":"VLOOKUP(A1097,'Correcties op staffel'!$A$5:$C$10,3)","v":0},16200,null,109400,16200,19602,null,109400,16200,19602]
[109500,16200,19602,{"$f":"VLOOKUP(A1098,'Correcties op staffel'!$A$5:$C$10,2)","v":0},{"$f":"VLOOKUP(A1098,'Correcties op staffel'!$A$5:$C$10,3)","v":0},16200,null,109500,16200,19602,null,109500,16200,19602]
[109600,16200,19602,{"$f":"VLOOKUP(A1099,'Correcties op staffel'!$A$5:$C$10,2)","v":0},{"$f":"VLOOKUP(A1099,'Correcties op staffel'!$A$5:$C$10,3)","v":0},16200,null,109600,16200,19602,null,109600,16200,19602]
[109700,16200,19602,{"$f":"VLOOKUP(A1100,'Correcties op staffel'!$A$5:$C$10,2)","v":0},{"$f":"VLOOKUP(A1100,'Correcties op staffel'!$A$5:$C$10,3)","v":0},16200,null,109700,16200,19602,null,109700,16200,19602]
[109800,16200,19602,{"$f":"VLOOKUP(A1101,'Correcties op staffel'!$A$5:$C$10,2)","v":0},{"$f":"VLOOKUP(A1101,'Correcties op staffel'!$A$5:$C$10,3)","v":0},16200,null,109800,16200,19602,null,109800,16200,19602]
[109900,16200,19602,{"$f":"VLOOKUP(A1102,'Correcties op staffel'!$A$5:$C$10,2)","v":0},{"$f":"VLOOKUP(A1102,'Correcties op staffel'!$A$5:$C$10,3)","v":0},16200,null,109900,16200,19602,null,109900,16200,19602]
[110000,16200,19602,{"$f":"VLOOKUP(A1103,'Correcties op staffel'!$A$5:$C$10,2)","v":0},{"$f":"VLOOKUP(A1103,'Correcties op staffel'!$A$5:$C$10,3)","v":0},16200,null,110000,16200,19602,null,110000,16200,19602]
[110100,16200,19602,{"$f":"VLOOKUP(A1104,'Correcties op staffel'!$A$5:$C$10,2)","v":0},{"$f":"VLOOKUP(A1104,'Correcties op staffel'!$A$5:$C$10,3)","v":0},16200,null,110100,16200,19602,null,110100,16200,19602]
[110200,16300,19723,{"$f":"VLOOKUP(A1105,'Correcties op staffel'!$A$5:$C$10,2)","v":0},{"$f":"VLOOKUP(A1105,'Correcties op staffel'!$A$5:$C$10,3)","v":0},16300,null,110200,16300,19723,null,110200,16300,19723]
[110300,16300,19723,{"$f":"VLOOKUP(A1106,'Correcties op staffel'!$A$5:$C$10,2)","v":0},{"$f":"VLOOKUP(A1106,'Correcties op staffel'!$A$5:$C$10,3)","v":0},16300,null,110300,16300,19723,null,110300,16300,19723]
[110400,16300,19723,{"$f":"VLOOKUP(A1107,'Correcties op staffel'!$A$5:$C$10,2)","v":0},{"$f":"VLOOKUP(A1107,'Correcties op staffel'!$A$5:$C$10,3)","v":0},16300,null,110400,16300,19723,null,110400,16300,19723]
[110500,16300,19723,{"$f":"VLOOKUP(A1108,'Correcties op staffel'!$A$5:$C$10,2)","v":0},{"$f":"VLOOKUP(A1108,'Correcties op staffel'!$A$5:$C$10,3)","v":0},16300,null,110500,16300,19723,null,110500,16300,19723]
[110600,16300,19723,{"$f":"VLOOKUP(A1109,'Correcties op staffel'!$A$5:$C$10,2)","v":0},{"$f":"VLOOKUP(A1109,'Correcties op staffel'!$A$5:$C$10,3)","v":0},16300,null,110600,16300,19723,null,110600,16300,19723]
[110700,16300,19723,{"$f":"VLOOKUP(A1110,'Correcties op staffel'!$A$5:$C$10,2)","v":0},{"$f":"VLOOKUP(A1110,'Correcties op staffel'!$A$5:$C$10,3)","v":0},16300,null,110700,16300,19723,null,110700,16300,19723]
[110800,16300,19723,{"$f":"VLOOKUP(A1111,'Correcties op staffel'!$A$5:$C$10,2)","v":0},{"$f":"VLOOKUP(A1111,'Correcties op staffel'!$A$5:$C$10,3)","v":0},16300,null,110800,16300,19723,null,110800,16300,19723]
[110900,16300,19723,{"$f":"VLOOKUP(A1112,'Correcties op staffel'!$A$5:$C$10,2)","v":0},{"$f":"VLOOKUP(A1112,'Correcties op staffel'!$A$5:$C$10,3)","v":0},16300,null,110900,16300,19723,null,110900,16300,19723]
[111000,16300,19723,{"$f":"VLOOKUP(A1113,'Correcties op staffel'!$A$5:$C$10,2)","v":0},{"$f":"VLOOKUP(A1113,'Correcties op staffel'!$A$5:$C$10,3)","v":0},16300,null,111000,16300,19723,null,111000,16300,19723]
[111100,16300,19723,{"$f":"VLOOKUP(A1114,'Correcties op staffel'!$A$5:$C$10,2)","v":0},{"$f":"VLOOKUP(A1114,'Correcties op staffel'!$A$5:$C$10,3)","v":0},16300,null,111100,16300,19723,null,111100,16300,19723]
[111200,16400,19844,{"$f":"VLOOKUP(A1115,'Correcties op staffel'!$A$5:$C$10,2)","v":0},{"$f":"VLOOKUP(A1115,'Correcties op staffel'!$A$5:$C$10,3)","v":0},16400,null,111200,16400,19844,null,111200,16400,19844]
[111300,16400,19844,{"$f":"VLOOKUP(A1116,'Correcties op staffel'!$A$5:$C$10,2)","v":0},{"$f":"VLOOKUP(A1116,'Correcties op staffel'!$A$5:$C$10,3)","v":0},16400,null,111300,16400,19844,null,111300,16400,19844]
[111400,16400,19844,{"$f":"VLOOKUP(A1117,'Correcties op staffel'!$A$5:$C$10,2)","v":0},{"$f":"VLOOKUP(A1117,'Correcties op staffel'!$A$5:$C$10,3)","v":0},16400,null,111400,16400,19844,null,111400,16400,19844]
[111500,16400,19844,{"$f":"VLOOKUP(A1118,'Correcties op staffel'!$A$5:$C$10,2)","v":0},{"$f":"VLOOKUP(A1118,'Correcties op staffel'!$A$5:$C$10,3)","v":0},16400,null,111500,16400,19844,null,111500,16400,19844]
[111600,16400,19844,{"$f":"VLOOKUP(A1119,'Correcties op staffel'!$A$5:$C$10,2)","v":0},{"$f":"VLOOKUP(A1119,'Correcties op staffel'!$A$5:$C$10,3)","v":0},16400,null,111600,16400,19844,null,111600,16400,19844]
[111700,16400,19844,{"$f":"VLOOKUP(A1120,'Correcties op staffel'!$A$5:$C$10,2)","v":0},{"$f":"VLOOKUP(A1120,'Correcties op staffel'!$A$5:$C$10,3)","v":0},16400,null,111700,16400,19844,null,111700,16400,19844]
[111800,16400,19844,{"$f":"VLOOKUP(A1121,'Correcties op staffel'!$A$5:$C$10,2)","v":0},{"$f":"VLOOKUP(A1121,'Correcties op staffel'!$A$5:$C$10,3)","v":0},16400,null,111800,16400,19844,null,111800,16400,19844]
[111900,16400,19844,{"$f":"VLOOKUP(A1122,'Correcties op staffel'!$A$5:$C$10,2)","v":0},{"$f":"VLOOKUP(A1122,'Correcties op staffel'!$A$5:$C$10,3)","v":0},16400,null,111900,16400,19844,null,111900,16400,19844]
[112000,16400,19844,{"$f":"VLOOKUP(A1123,'Correcties op staffel'!$A$5:$C$10,2)","v":0},{"$f":"VLOOKUP(A1123,'Correcties op staffel'!$A$5:$C$10,3)","v":0},16400,null,112000,16400,19844,null,112000,16400,19844]
[112100,16400,19844,{"$f":"VLOOKUP(A1124,'Correcties op staffel'!$A$5:$C$10,2)","v":0},{"$f":"VLOOKUP(A1124,'Correcties op staffel'!$A$5:$C$10,3)","v":0},16400,null,112100,16400,19844,null,112100,16400,19844]
[112200,16500,19965,{"$f":"VLOOKUP(A1125,'Correcties op staffel'!$A$5:$C$10,2)","v":0},{"$f":"VLOOKUP(A1125,'Correcties op staffel'!$A$5:$C$10,3)","v":0},16500,null,112200,16500,19965,null,112200,16500,19965]
[112300,16500,19965,{"$f":"VLOOKUP(A1126,'Correcties op staffel'!$A$5:$C$10,2)","v":0},{"$f":"VLOOKUP(A1126,'Correcties op staffel'!$A$5:$C$10,3)","v":0},16500,null,112300,16500,19965,null,112300,16500,19965]
[112400,16500,19965,{"$f":"VLOOKUP(A1127,'Correcties op staffel'!$A$5:$C$10,2)","v":0},{"$f":"VLOOKUP(A1127,'Correcties op staffel'!$A$5:$C$10,3)","v":0},16500,null,112400,16500,19965,null,112400,16500,19965]
[112500,16500,19965,{"$f":"VLOOKUP(A1128,'Correcties op staffel'!$A$5:$C$10,2)","v":0},{"$f":"VLOOKUP(A1128,'Correcties op staffel'!$A$5:$C$10,3)","v":0},16500,null,112500,16500,19965,null,112500,16500,19965]
[112600,16500,19965,{"$f":"VLOOKUP(A1129,'Correcties op staffel'!$A$5:$C$10,2)","v":0},{"$f":"VLOOKUP(A1129,'Correcties op staffel'!$A$5:$C$10,3)","v":0},16500,null,112600,16500,19965,null,112600,16500,19965]
[112700,16500,19965,{"$f":"VLOOKUP(A1130,'Correcties op staffel'!$A$5:$C$10,2)","v":0},{"$f":"VLOOKUP(A1130,'Correcties op staffel'!$A$5:$C$10,3)","v":0},16500,null,112700,16500,19965,null,112700,16500,19965]
[112800,16500,19965,{"$f":"VLOOKUP(A1131,'Correcties op staffel'!$A$5:$C$10,2)","v":0},{"$f":"VLOOKUP(A1131,'Correcties op staffel'!$A$5:$C$10,3)","v":0},16500,null,112800,16500,19965,null,112800,16500,19965]
[112900,16500,19965,{"$f":"VLOOKUP(A1132,'Correcties op staffel'!$A$5:$C$10,2)","v":0},{"$f":"VLOOKUP(A1132,'Correcties op staffel'!$A$5:$C$10,3)","v":0},16500,null,112900,16500,19965,null,112900,16500,19965]
[{"$f":"A1132+100","v":113000},16500,19965,{"$f":"VLOOKUP(A1133,'Correcties op staffel'!$A$5:$C$10,2)","v":0},{"$f":"VLOOKUP(A1133,'Correcties op staffel'!$A$5:$C$10,3)","v":0},16500,null,{"$f":"H1132+100","v":113000},16500,19965,null,113000,16500,19965]
[113100,16500,19965,{"$f":"VLOOKUP(A1134,'Correcties op staffel'!$A$5:$C$10,2)","v":0},{"$f":"VLOOKUP(A1134,'Correcties op staffel'!$A$5:$C$10,3)","v":0},16500,null,113100,16500,19965,null,113100,16500,19965]
[113200,16600,20086,{"$f":"VLOOKUP(A1135,'Correcties op staffel'!$A$5:$C$10,2)","v":0},{"$f":"VLOOKUP(A1135,'Correcties op staffel'!$A$5:$C$10,3)","v":0},16600,null,113200,16600,20086,null,113200,16600,20086]
[113300,16600,20086,{"$f":"VLOOKUP(A1136,'Correcties op staffel'!$A$5:$C$10,2)","v":0},{"$f":"VLOOKUP(A1136,'Correcties op staffel'!$A$5:$C$10,3)","v":0},16600,null,113300,16600,20086,null,113300,16600,20086]
[113400,16600,20086,{"$f":"VLOOKUP(A1137,'Correcties op staffel'!$A$5:$C$10,2)","v":0},{"$f":"VLOOKUP(A1137,'Correcties op staffel'!$A$5:$C$10,3)","v":0},16600,null,113400,16600,20086,null,113400,16600,20086]
[113500,16600,20086,{"$f":"VLOOKUP(A1138,'Correcties op staffel'!$A$5:$C$10,2)","v":0},{"$f":"VLOOKUP(A1138,'Correcties op staffel'!$A$5:$C$10,3)","v":0},16600,null,113500,16600,20086,null,113500,16600,20086]
[113600,16600,20086,{"$f":"VLOOKUP(A1139,'Correcties op staffel'!$A$5:$C$10,2)","v":0},{"$f":"VLOOKUP(A1139,'Correcties op staffel'!$A$5:$C$10,3)","v":0},16600,null,113600,16600,20086,null,113600,16600,20086]
[113700,16600,20086,{"$f":"VLOOKUP(A1140,'Correcties op staffel'!$A$5:$C$10,2)","v":0},{"$f":"VLOOKUP(A1140,'Correcties op staffel'!$A$5:$C$10,3)","v":0},16600,null,113700,16600,20086,null,113700,16600,20086]
[113800,16600,20086,{"$f":"VLOOKUP(A1141,'Correcties op staffel'!$A$5:$C$10,2)","v":0},{"$f":"VLOOKUP(A1141,'Correcties op staffel'!$A$5:$C$10,3)","v":0},16600,null,113800,16600,20086,null,113800,16600,20086]
[113900,16600,20086,{"$f":"VLOOKUP(A1142,'Correcties op staffel'!$A$5:$C$10,2)","v":0},{"$f":"VLOOKUP(A1142,'Correcties op staffel'!$A$5:$C$10,3)","v":0},16600,null,113900,16600,20086,null,113900,16600,20086]
[114000,16600,20086,{"$f":"VLOOKUP(A1143,'Correcties op staffel'!$A$5:$C$10,2)","v":0},{"$f":"VLOOKUP(A1143,'Correcties op staffel'!$A$5:$C$10,3)","v":0},16600,null,114000,16600,20086,null,114000,16600,20086]
[114100,16600,20086,{"$f":"VLOOKUP(A1144,'Correcties op staffel'!$A$5:$C$10,2)","v":0},{"$f":"VLOOKUP(A1144,'Correcties op staffel'!$A$5:$C$10,3)","v":0},16600,null,114100,16600,20086,null,114100,16600,20086]
[114200,16600,20086,{"$f":"VLOOKUP(A1145,'Correcties op staffel'!$A$5:$C$10,2)","v":0},{"$f":"VLOOKUP(A1145,'Correcties op staffel'!$A$5:$C$10,3)","v":0},16600,null,114200,16600,20086,null,114200,16600,20086]
[114300,16700,20207,{"$f":"VLOOKUP(A1146,'Correcties op staffel'!$A$5:$C$10,2)","v":0},{"$f":"VLOOKUP(A1146,'Correcties op staffel'!$A$5:$C$10,3)","v":0},16700,null,114300,16700,20207,null,114300,16700,20207]
[114400,16700,20207,{"$f":"VLOOKUP(A1147,'Correcties op staffel'!$A$5:$C$10,2)","v":0},{"$f":"VLOOKUP(A1147,'Correcties op staffel'!$A$5:$C$10,3)","v":0},16700,null,114400,16700,20207,null,114400,16700,20207]
[114500,16700,20207,{"$f":"VLOOKUP(A1148,'Correcties op staffel'!$A$5:$C$10,2)","v":0},{"$f":"VLOOKUP(A1148,'Correcties op staffel'!$A$5:$C$10,3)","v":0},16700,null,114500,16700,20207,null,114500,16700,20207]
[114600,16700,20207,{"$f":"VLOOKUP(A1149,'Correcties op staffel'!$A$5:$C$10,2)","v":0},{"$f":"VLOOKUP(A1149,'Correcties op staffel'!$A$5:$C$10,3)","v":0},16700,null,114600,16700,20207,null,114600,16700,20207]
[114700,16700,20207,{"$f":"VLOOKUP(A1150,'Correcties op staffel'!$A$5:$C$10,2)","v":0},{"$f":"VLOOKUP(A1150,'Correcties op staffel'!$A$5:$C$10,3)","v":0},16700,null,114700,16700,20207,null,114700,16700,20207]
[114800,16700,20207,{"$f":"VLOOKUP(A1151,'Correcties op staffel'!$A$5:$C$10,2)","v":0},{"$f":"VLOOKUP(A1151,'Correcties op staffel'!$A$5:$C$10,3)","v":0},16700,null,114800,16700,20207,null,114800,16700,20207]
[114900,16700,20207,{"$f":"VLOOKUP(A1152,'Correcties op staffel'!$A$5:$C$10,2)","v":0},{"$f":"VLOOKUP(A1152,'Correcties op staffel'!$A$5:$C$10,3)","v":0},16700,null,114900,16700,20207,null,114900,16700,20207]
[115000,16700,20207,{"$f":"VLOOKUP(A1153,'Correcties op staffel'!$A$5:$C$10,2)","v":0},{"$f":"VLOOKUP(A1153,'Correcties op staffel'!$A$5:$C$10,3)","v":0},16700,null,115000,16700,20207,null,115000,16700,20207]
[115100,16700,20207,{"$f":"VLOOKUP(A1154,'Correcties op staffel'!$A$5:$C$10,2)","v":0},{"$f":"VLOOKUP(A1154,'Correcties op staffel'!$A$5:$C$10,3)","v":0},16700,null,115100,16700,20207,null,115100,16700,20207]
[115200,16700,20207,{"$f":"VLOOKUP(A1155,'Correcties op staffel'!$A$5:$C$10,2)","v":0},{"$f":"VLOOKUP(A1155,'Correcties op staffel'!$A$5:$C$10,3)","v":0},16700,null,115200,16700,20207,null,115200,16700,20207]
[115300,16800,20328,{"$f":"VLOOKUP(A1156,'Correcties op staffel'!$A$5:$C$10,2)","v":0},{"$f":"VLOOKUP(A1156,'Correcties op staffel'!$A$5:$C$10,3)","v":0},{"$f":"B1156*(1+D1156)+E1156","v":16800},null,115300,{"$f":"ROUND(F1156,0)","v":16800},20328,null,115300,16800,20328]
[115400,16800,20328,{"$f":"VLOOKUP(A1157,'Correcties op staffel'!$A$5:$C$10,2)","v":0},{"$f":"VLOOKUP(A1157,'Correcties op staffel'!$A$5:$C$10,3)","v":0},16800,null,115400,16800,{"$f":"I1157*1.21","v":20328},null,115400,{"$f":"IF(ROUND(I1157/5,0)*5<I1157,ROUND(I1157/5,0)*5+5,ROUND(I1157/5,0)*5)","v":16800},{"$f":"M1157*1.21","v":20328}]
[115500,16800,20328,{"$f":"VLOOKUP(A1158,'Correcties op staffel'!$A$5:$C$10,2)","v":0},{"$f":"VLOOKUP(A1158,'Correcties op staffel'!$A$5:$C$10,3)","v":0},16800,null,115500,16800,20328,null,115500,16800,20328]
[115600,16800,20328,{"$f":"VLOOKUP(A1159,'Correcties op staffel'!$A$5:$C$10,2)","v":0},{"$f":"VLOOKUP(A1159,'Correcties op staffel'!$A$5:$C$10,3)","v":0},16800,null,115600,16800,20328,null,115600,16800,20328]
[115700,16800,20328,{"$f":"VLOOKUP(A1160,'Correcties op staffel'!$A$5:$C$10,2)","v":0},{"$f":"VLOOKUP(A1160,'Correcties op staffel'!$A$5:$C$10,3)","v":0},16800,null,115700,16800,20328,null,115700,16800,20328]
[115800,16800,20328,{"$f":"VLOOKUP(A1161,'Correcties op staffel'!$A$5:$C$10,2)","v":0},{"$f":"VLOOKUP(A1161,'Correcties op staffel'!$A$5:$C$10,3)","v":0},16800,null,115800,16800,20328,null,115800,16800,20328]
[115900,16800,20328,{"$f":"VLOOKUP(A1162,'Correcties op staffel'!$A$5:$C$10,2)","v":0},{"$f":"VLOOKUP(A1162,'Correcties op staffel'!$A$5:$C$10,3)","v":0},16800,null,115900,16800,20328,null,115900,16800,20328]
[116000,16800,20328,{"$f":"VLOOKUP(A1163,'Correcties op staffel'!$A$5:$C$10,2)","v":0},{"$f":"VLOOKUP(A1163,'Correcties op staffel'!$A$5:$C$10,3)","v":0},16800,null,116000,16800,20328,null,116000,16800,20328]
[116100,16800,20328,{"$f":"VLOOKUP(A1164,'Correcties op staffel'!$A$5:$C$10,2)","v":0},{"$f":"VLOOKUP(A1164,'Correcties op staffel'!$A$5:$C$10,3)","v":0},16800,null,116100,16800,20328,null,116100,16800,20328]
[116200,16800,20328,{"$f":"VLOOKUP(A1165,'Correcties op staffel'!$A$5:$C$10,2)","v":0},{"$f":"VLOOKUP(A1165,'Correcties op staffel'!$A$5:$C$10,3)","v":0},16800,null,116200,16800,20328,null,116200,16800,20328]
[116300,16900,20449,{"$f":"VLOOKUP(A1166,'Correcties op staffel'!$A$5:$C$10,2)","v":0},{"$f":"VLOOKUP(A1166,'Correcties op staffel'!$A$5:$C$10,3)","v":0},16900,null,116300,16900,20449,null,116300,16900,20449]
[116400,16900,20449,{"$f":"VLOOKUP(A1167,'Correcties op staffel'!$A$5:$C$10,2)","v":0},{"$f":"VLOOKUP(A1167,'Correcties op staffel'!$A$5:$C$10,3)","v":0},16900,null,116400,16900,20449,null,116400,16900,20449]
[116500,16900,20449,{"$f":"VLOOKUP(A1168,'Correcties op staffel'!$A$5:$C$10,2)","v":0},{"$f":"VLOOKUP(A1168,'Correcties op staffel'!$A$5:$C$10,3)","v":0},16900,null,116500,16900,20449,null,116500,16900,20449]
[116600,16900,20449,{"$f":"VLOOKUP(A1169,'Correcties op staffel'!$A$5:$C$10,2)","v":0},{"$f":"VLOOKUP(A1169,'Correcties op staffel'!$A$5:$C$10,3)","v":0},16900,null,116600,16900,20449,null,116600,16900,20449]
[116700,16900,20449,{"$f":"VLOOKUP(A1170,'Correcties op staffel'!$A$5:$C$10,2)","v":0},{"$f":"VLOOKUP(A1170,'Correcties op staffel'!$A$5:$C$10,3)","v":0},16900,null,116700,16900,20449,null,116700,16900,20449]
[116800,16900,20449,{"$f":"VLOOKUP(A1171,'Correcties op staffel'!$A$5:$C$10,2)","v":0},{"$f":"VLOOKUP(A1171,'Correcties op staffel'!$A$5:$C$10,3)","v":0},16900,null,116800,16900,20449,null,116800,16900,20449]
[116900,16900,20449,{"$f":"VLOOKUP(A1172,'Correcties op staffel'!$A$5:$C$10,2)","v":0},{"$f":"VLOOKUP(A1172,'Correcties op staffel'!$A$5:$C$10,3)","v":0},16900,null,116900,16900,20449,null,116900,16900,20449]
[117000,16900,20449,{"$f":"VLOOKUP(A1173,'Correcties op staffel'!$A$5:$C$10,2)","v":0},{"$f":"VLOOKUP(A1173,'Correcties op staffel'!$A$5:$C$10,3)","v":0},16900,null,117000,16900,20449,null,117000,16900,20449]
[117100,16900,20449,{"$f":"VLOOKUP(A1174,'Correcties op staffel'!$A$5:$C$10,2)","v":0},{"$f":"VLOOKUP(A1174,'Correcties op staffel'!$A$5:$C$10,3)","v":0},16900,null,117100,16900,20449,null,117100,16900,20449]
[117200,16900,20449,{"$f":"VLOOKUP(A1175,'Correcties op staffel'!$A$5:$C$10,2)","v":0},{"$f":"VLOOKUP(A1175,'Correcties op staffel'!$A$5:$C$10,3)","v":0},16900,null,117200,16900,20449,null,117200,16900,20449]
[117300,17000,20570,{"$f":"VLOOKUP(A1176,'Correcties op staffel'!$A$5:$C$10,2)","v":0},{"$f":"VLOOKUP(A1176,'Correcties op staffel'!$A$5:$C$10,3)","v":0},17000,null,117300,17000,20570,null,117300,17000,20570]
[117400,17000,20570,{"$f":"VLOOKUP(A1177,'Correcties op staffel'!$A$5:$C$10,2)","v":0},{"$f":"VLOOKUP(A1177,'Correcties op staffel'!$A$5:$C$10,3)","v":0},17000,null,117400,17000,20570,null,117400,17000,20570]
[117500,17000,20570,{"$f":"VLOOKUP(A1178,'Correcties op staffel'!$A$5:$C$10,2)","v":0},{"$f":"VLOOKUP(A1178,'Correcties op staffel'!$A$5:$C$10,3)","v":0},17000,null,117500,17000,20570,null,117500,17000,20570]
[117600,17000,20570,{"$f":"VLOOKUP(A1179,'Correcties op staffel'!$A$5:$C$10,2)","v":0},{"$f":"VLOOKUP(A1179,'Correcties op staffel'!$A$5:$C$10,3)","v":0},17000,null,117600,17000,20570,null,117600,17000,20570]
[117700,17000,20570,{"$f":"VLOOKUP(A1180,'Correcties op staffel'!$A$5:$C$10,2)","v":0},{"$f":"VLOOKUP(A1180,'Correcties op staffel'!$A$5:$C$10,3)","v":0},17000,null,117700,17000,20570,null,117700,17000,20570]
[117800,17000,20570,{"$f":"VLOOKUP(A1181,'Correcties op staffel'!$A$5:$C$10,2)","v":0},{"$f":"VLOOKUP(A1181,'Correcties op staffel'!$A$5:$C$10,3)","v":0},17000,null,117800,17000,20570,null,117800,17000,20570]
[117900,17000,20570,{"$f":"VLOOKUP(A1182,'Correcties op staffel'!$A$5:$C$10,2)","v":0},{"$f":"VLOOKUP(A1182,'Correcties op staffel'!$A$5:$C$10,3)","v":0},17000,null,117900,17000,20570,null,117900,17000,20570]
[118000,17000,20570,{"$f":"VLOOKUP(A1183,'Correcties op staffel'!$A$5:$C$10,2)","v":0},{"$f":"VLOOKUP(A1183,'Correcties op staffel'!$A$5:$C$10,3)","v":0},17000,null,118000,17000,20570,null,118000,17000,20570]
[118100,17000,20570,{"$f":"VLOOKUP(A1184,'Correcties op staffel'!$A$5:$C$10,2)","v":0},{"$f":"VLOOKUP(A1184,'Correcties op staffel'!$A$5:$C$10,3)","v":0},17000,null,118100,17000,20570,null,118100,17000,20570]
[118200,17000,20570,{"$f":"VLOOKUP(A1185,'Correcties op staffel'!$A$5:$C$10,2)","v":0},{"$f":"VLOOKUP(A1185,'Correcties op staffel'!$A$5:$C$10,3)","v":0},17000,null,118200,17000,20570,null,118200,17000,20570]
[118300,17100,20691,{"$f":"VLOOKUP(A1186,'Correcties op staffel'!$A$5:$C$10,2)","v":0},{"$f":"VLOOKUP(A1186,'Correcties op staffel'!$A$5:$C$10,3)","v":0},17100,null,118300,17100,20691,null,118300,17100,20691]
[118400,17100,20691,{"$f":"VLOOKUP(A1187,'Correcties op staffel'!$A$5:$C$10,2)","v":0},{"$f":"VLOOKUP(A1187,'Correcties op staffel'!$A$5:$C$10,3)","v":0},17100,null,118400,17100,20691,null,118400,17100,20691]
[118500,17100,20691,{"$f":"VLOOKUP(A1188,'Correcties op staffel'!$A$5:$C$10,2)","v":0},{"$f":"VLOOKUP(A1188,'Correcties op staffel'!$A$5:$C$10,3)","v":0},17100,null,118500,17100,20691,null,118500,17100,20691]
[118600,17100,20691,{"$f":"VLOOKUP(A1189,'Correcties op staffel'!$A$5:$C$10,2)","v":0},{"$f":"VLOOKUP(A1189,'Correcties op staffel'!$A$5:$C$10,3)","v":0},17100,null,118600,17100,20691,null,118600,17100,20691]
[118700,17100,20691,{"$f":"VLOOKUP(A1190,'Correcties op staffel'!$A$5:$C$10,2)","v":0},{"$f":"VLOOKUP(A1190,'Correcties op staffel'!$A$5:$C$10,3)","v":0},17100,null,118700,17100,20691,null,118700,17100,20691]
[118800,17100,20691,{"$f":"VLOOKUP(A1191,'Correcties op staffel'!$A$5:$C$10,2)","v":0},{"$f":"VLOOKUP(A1191,'Correcties op staffel'!$A$5:$C$10,3)","v":0},17100,null,118800,17100,20691,null,118800,17100,20691]
[118900,17100,20691,{"$f":"VLOOKUP(A1192,'Correcties op staffel'!$A$5:$C$10,2)","v":0},{"$f":"VLOOKUP(A1192,'Correcties op staffel'!$A$5:$C$10,3)","v":0},17100,null,118900,17100,20691,null,118900,17100,20691]
[119000,17100,20691,{"$f":"VLOOKUP(A1193,'Correcties op staffel'!$A$5:$C$10,2)","v":0},{"$f":"VLOOKUP(A1193,'Correcties op staffel'!$A$5:$C$10,3)","v":0},17100,null,119000,17100,20691,null,119000,17100,20691]
[119100,17100,20691,{"$f":"VLOOKUP(A1194,'Correcties op staffel'!$A$5:$C$10,2)","v":0},{"$f":"VLOOKUP(A1194,'Correcties op staffel'!$A$5:$C$10,3)","v":0},17100,null,119100,17100,20691,null,119100,17100,20691]
[119200,17100,20691,{"$f":"VLOOKUP(A1195,'Correcties op staffel'!$A$5:$C$10,2)","v":0},{"$f":"VLOOKUP(A1195,'Correcties op staffel'!$A$5:$C$10,3)","v":0},17100,null,119200,17100,20691,null,119200,17100,20691]
[119300,17200,20812,{"$f":"VLOOKUP(A1196,'Correcties op staffel'!$A$5:$C$10,2)","v":0},{"$f":"VLOOKUP(A1196,'Correcties op staffel'!$A$5:$C$10,3)","v":0},17200,null,119300,17200,20812,null,119300,17200,20812]
[{"$f":"A1196+100","v":119400},17200,20812,{"$f":"VLOOKUP(A1197,'Correcties op staffel'!$A$5:$C$10,2)","v":0},{"$f":"VLOOKUP(A1197,'Correcties op staffel'!$A$5:$C$10,3)","v":0},17200,null,{"$f":"H1196+100","v":119400},17200,20812,null,119400,17200,20812]
[119500,17200,20812,{"$f":"VLOOKUP(A1198,'Correcties op staffel'!$A$5:$C$10,2)","v":0},{"$f":"VLOOKUP(A1198,'Correcties op staffel'!$A$5:$C$10,3)","v":0},17200,null,119500,17200,20812,null,119500,17200,20812]
[119600,17200,20812,{"$f":"VLOOKUP(A1199,'Correcties op staffel'!$A$5:$C$10,2)","v":0},{"$f":"VLOOKUP(A1199,'Correcties op staffel'!$A$5:$C$10,3)","v":0},17200,null,119600,17200,20812,null,119600,17200,20812]
[119700,17200,20812,{"$f":"VLOOKUP(A1200,'Correcties op staffel'!$A$5:$C$10,2)","v":0},{"$f":"VLOOKUP(A1200,'Correcties op staffel'!$A$5:$C$10,3)","v":0},17200,null,119700,17200,20812,null,119700,17200,20812]
[119800,17200,20812,{"$f":"VLOOKUP(A1201,'Correcties op staffel'!$A$5:$C$10,2)","v":0},{"$f":"VLOOKUP(A1201,'Correcties op staffel'!$A$5:$C$10,3)","v":0},17200,null,119800,17200,20812,null,119800,17200,20812]
[119900,17200,20812,{"$f":"VLOOKUP(A1202,'Correcties op staffel'!$A$5:$C$10,2)","v":0},{"$f":"VLOOKUP(A1202,'Correcties op staffel'!$A$5:$C$10,3)","v":0},17200,null,119900,17200,20812,null,119900,17200,20812]
[120000,17200,20812,{"$f":"VLOOKUP(A1203,'Correcties op staffel'!$A$5:$C$10,2)","v":0},{"$f":"VLOOKUP(A1203,'Correcties op staffel'!$A$5:$C$10,3)","v":0},17200,null,120000,17200,20812,null,120000,17200,20812]
[120100,17200,20812,{"$f":"VLOOKUP(A1204,'Correcties op staffel'!$A$5:$C$10,2)","v":0},{"$f":"VLOOKUP(A1204,'Correcties op staffel'!$A$5:$C$10,3)","v":0},17200,null,120100,17200,20812,null,120100,17200,20812]
[120200,17200,20812,{"$f":"VLOOKUP(A1205,'Correcties op staffel'!$A$5:$C$10,2)","v":0},{"$f":"VLOOKUP(A1205,'Correcties op staffel'!$A$5:$C$10,3)","v":0},17200,null,120200,17200,20812,null,120200,17200,20812]
[120300,17300,20933,{"$f":"VLOOKUP(A1206,'Correcties op staffel'!$A$5:$C$10,2)","v":0},{"$f":"VLOOKUP(A1206,'Correcties op staffel'!$A$5:$C$10,3)","v":0},17300,null,120300,17300,20933,null,120300,17300,20933]
[120400,17300,20933,{"$f":"VLOOKUP(A1207,'Correcties op staffel'!$A$5:$C$10,2)","v":0},{"$f":"VLOOKUP(A1207,'Correcties op staffel'!$A$5:$C$10,3)","v":0},17300,null,120400,17300,20933,null,120400,17300,20933]
[120500,17300,20933,{"$f":"VLOOKUP(A1208,'Correcties op staffel'!$A$5:$C$10,2)","v":0},{"$f":"VLOOKUP(A1208,'Correcties op staffel'!$A$5:$C$10,3)","v":0},17300,null,120500,17300,20933,null,120500,17300,20933]
[120600,17300,20933,{"$f":"VLOOKUP(A1209,'Correcties op staffel'!$A$5:$C$10,2)","v":0},{"$f":"VLOOKUP(A1209,'Correcties op staffel'!$A$5:$C$10,3)","v":0},17300,null,120600,17300,20933,null,120600,17300,20933]
[120700,17300,20933,{"$f":"VLOOKUP(A1210,'Correcties op staffel'!$A$5:$C$10,2)","v":0},{"$f":"VLOOKUP(A1210,'Correcties op staffel'!$A$5:$C$10,3)","v":0},17300,null,120700,17300,20933,null,120700,17300,20933]
[120800,17300,20933,{"$f":"VLOOKUP(A1211,'Correcties op staffel'!$A$5:$C$10,2)","v":0},{"$f":"VLOOKUP(A1211,'Correcties op staffel'!$A$5:$C$10,3)","v":0},17300,null,120800,17300,20933,null,120800,17300,20933]
[120900,17300,20933,{"$f":"VLOOKUP(A1212,'Correcties op staffel'!$A$5:$C$10,2)","v":0},{"$f":"VLOOKUP(A1212,'Correcties op staffel'!$A$5:$C$10,3)","v":0},17300,null,120900,17300,20933,null,120900,17300,20933]
[121000,17300,20933,{"$f":"VLOOKUP(A1213,'Correcties op staffel'!$A$5:$C$10,2)","v":0},{"$f":"VLOOKUP(A1213,'Correcties op staffel'!$A$5:$C$10,3)","v":0},17300,null,121000,17300,20933,null,121000,17300,20933]
[121100,17300,20933,{"$f":"VLOOKUP(A1214,'Correcties op staffel'!$A$5:$C$10,2)","v":0},{"$f":"VLOOKUP(A1214,'Correcties op staffel'!$A$5:$C$10,3)","v":0},17300,null,121100,17300,20933,null,121100,17300,20933]
[121200,17300,20933,{"$f":"VLOOKUP(A1215,'Correcties op staffel'!$A$5:$C$10,2)","v":0},{"$f":"VLOOKUP(A1215,'Correcties op staffel'!$A$5:$C$10,3)","v":0},17300,null,121200,17300,20933,null,121200,17300,20933]
[121300,17300,20933,{"$f":"VLOOKUP(A1216,'Correcties op staffel'!$A$5:$C$10,2)","v":0},{"$f":"VLOOKUP(A1216,'Correcties op staffel'!$A$5:$C$10,3)","v":0},17300,null,121300,17300,20933,null,121300,17300,20933]
[121400,17400,21054,{"$f":"VLOOKUP(A1217,'Correcties op staffel'!$A$5:$C$10,2)","v":0},{"$f":"VLOOKUP(A1217,'Correcties op staffel'!$A$5:$C$10,3)","v":0},17400,null,121400,17400,21054,null,121400,17400,21054]
[121500,17400,21054,{"$f":"VLOOKUP(A1218,'Correcties op staffel'!$A$5:$C$10,2)","v":0},{"$f":"VLOOKUP(A1218,'Correcties op staffel'!$A$5:$C$10,3)","v":0},17400,null,121500,17400,21054,null,121500,17400,21054]
[121600,17400,21054,{"$f":"VLOOKUP(A1219,'Correcties op staffel'!$A$5:$C$10,2)","v":0},{"$f":"VLOOKUP(A1219,'Correcties op staffel'!$A$5:$C$10,3)","v":0},17400,null,121600,17400,21054,null,121600,17400,21054]
[121700,17400,21054,{"$f":"VLOOKUP(A1220,'Correcties op staffel'!$A$5:$C$10,2)","v":0},{"$f":"VLOOKUP(A1220,'Correcties op staffel'!$A$5:$C$10,3)","v":0},{"$f":"B1220*(1+D1220)+E1220","v":17400},null,121700,{"$f":"ROUND(F1220,0)","v":17400},21054,null,121700,17400,21054]
[121800,17400,21054,{"$f":"VLOOKUP(A1221,'Correcties op staffel'!$A$5:$C$10,2)","v":0},{"$f":"VLOOKUP(A1221,'Correcties op staffel'!$A$5:$C$10,3)","v":0},17400,null,121800,17400,{"$f":"I1221*1.21","v":21054},null,121800,{"$f":"IF(ROUND(I1221/5,0)*5<I1221,ROUND(I1221/5,0)*5+5,ROUND(I1221/5,0)*5)","v":17400},{"$f":"M1221*1.21","v":21054}]
[121900,17400,21054,{"$f":"VLOOKUP(A1222,'Correcties op staffel'!$A$5:$C$10,2)","v":0},{"$f":"VLOOKUP(A1222,'Correcties op staffel'!$A$5:$C$10,3)","v":0},17400,null,121900,17400,21054,null,121900,17400,21054]
[122000,17400,21054,{"$f":"VLOOKUP(A1223,'Correcties op staffel'!$A$5:$C$10,2)","v":0},{"$f":"VLOOKUP(A1223,'Correcties op staffel'!$A$5:$C$10,3)","v":0},17400,null,122000,17400,21054,null,122000,17400,21054]
[122100,17400,21054,{"$f":"VLOOKUP(A1224,'Correcties op staffel'!$A$5:$C$10,2)","v":0},{"$f":"VLOOKUP(A1224,'Correcties op staffel'!$A$5:$C$10,3)","v":0},17400,null,122100,17400,21054,null,122100,17400,21054]
[122200,17400,21054,{"$f":"VLOOKUP(A1225,'Correcties op staffel'!$A$5:$C$10,2)","v":0},{"$f":"VLOOKUP(A1225,'Correcties op staffel'!$A$5:$C$10,3)","v":0},17400,null,122200,17400,21054,null,122200,17400,21054]
[122300,17400,21054,{"$f":"VLOOKUP(A1226,'Correcties op staffel'!$A$5:$C$10,2)","v":0},{"$f":"VLOOKUP(A1226,'Correcties op staffel'!$A$5:$C$10,3)","v":0},17400,null,122300,17400,21054,null,122300,17400,21054]
[122400,17500,21175,{"$f":"VLOOKUP(A1227,'Correcties op staffel'!$A$5:$C$10,2)","v":0},{"$f":"VLOOKUP(A1227,'Correcties op staffel'!$A$5:$C$10,3)","v":0},17500,null,122400,17500,21175,null,122400,17500,21175]
[122500,17500,21175,{"$f":"VLOOKUP(A1228,'Correcties op staffel'!$A$5:$C$10,2)","v":0},{"$f":"VLOOKUP(A1228,'Correcties op staffel'!$A$5:$C$10,3)","v":0},17500,null,122500,17500,21175,null,122500,17500,21175]
[122600,17500,21175,{"$f":"VLOOKUP(A1229,'Correcties op staffel'!$A$5:$C$10,2)","v":0},{"$f":"VLOOKUP(A1229,'Correcties op staffel'!$A$5:$C$10,3)","v":0},17500,null,122600,17500,21175,null,122600,17500,21175]
[122700,17500,21175,{"$f":"VLOOKUP(A1230,'Correcties op staffel'!$A$5:$C$10,2)","v":0},{"$f":"VLOOKUP(A1230,'Correcties op staffel'!$A$5:$C$10,3)","v":0},17500,null,122700,17500,21175,null,122700,17500,21175]
[122800,17500,21175,{"$f":"VLOOKUP(A1231,'Correcties op staffel'!$A$5:$C$10,2)","v":0},{"$f":"VLOOKUP(A1231,'Correcties op staffel'!$A$5:$C$10,3)","v":0},17500,null,122800,17500,21175,null,122800,17500,21175]
[122900,17500,21175,{"$f":"VLOOKUP(A1232,'Correcties op staffel'!$A$5:$C$10,2)","v":0},{"$f":"VLOOKUP(A1232,'Correcties op staffel'!$A$5:$C$10,3)","v":0},17500,null,122900,17500,21175,null,122900,17500,21175]
[123000,17500,21175,{"$f":"VLOOKUP(A1233,'Correcties op staffel'!$A$5:$C$10,2)","v":0},{"$f":"VLOOKUP(A1233,'Correcties op staffel'!$A$5:$C$10,3)","v":0},17500,null,123000,17500,21175,null,123000,17500,21175]
[123100,17500,21175,{"$f":"VLOOKUP(A1234,'Correcties op staffel'!$A$5:$C$10,2)","v":0},{"$f":"VLOOKUP(A1234,'Correcties op staffel'!$A$5:$C$10,3)","v":0},17500,null,123100,17500,21175,null,123100,17500,21175]
[123200,17500,21175,{"$f":"VLOOKUP(A1235,'Correcties op staffel'!$A$5:$C$10,2)","v":0},{"$f":"VLOOKUP(A1235,'Correcties op staffel'!$A$5:$C$10,3)","v":0},17500,null,123200,17500,21175,null,123200,17500,21175]
[123300,17500,21175,{"$f":"VLOOKUP(A1236,'Correcties op staffel'!$A$5:$C$10,2)","v":0},{"$f":"VLOOKUP(A1236,'Correcties op staffel'!$A$5:$C$10,3)","v":0},17500,null,123300,17500,21175,null,123300,17500,21175]
[123400,17600,21296,{"$f":"VLOOKUP(A1237,'Correcties op staffel'!$A$5:$C$10,2)","v":0},{"$f":"VLOOKUP(A1237,'Correcties op staffel'!$A$5:$C$10,3)","v":0},17600,null,123400,17600,21296,null,123400,17600,21296]
[123500,17600,21296,{"$f":"VLOOKUP(A1238,'Correcties op staffel'!$A$5:$C$10,2)","v":0},{"$f":"VLOOKUP(A1238,'Correcties op staffel'!$A$5:$C$10,3)","v":0},17600,null,123500,17600,21296,null,123500,17600,21296]
[123600,17600,21296,{"$f":"VLOOKUP(A1239,'Correcties op staffel'!$A$5:$C$10,2)","v":0},{"$f":"VLOOKUP(A1239,'Correcties op staffel'!$A$5:$C$10,3)","v":0},17600,null,123600,17600,21296,null,123600,17600,21296]
[123700,17600,21296,{"$f":"VLOOKUP(A1240,'Correcties op staffel'!$A$5:$C$10,2)","v":0},{"$f":"VLOOKUP(A1240,'Correcties op staffel'!$A$5:$C$10,3)","v":0},17600,null,123700,17600,21296,null,123700,17600,21296]
[123800,17600,21296,{"$f":"VLOOKUP(A1241,'Correcties op staffel'!$A$5:$C$10,2)","v":0},{"$f":"VLOOKUP(A1241,'Correcties op staffel'!$A$5:$C$10,3)","v":0},17600,null,123800,17600,21296,null,123800,17600,21296]
[123900,17600,21296,{"$f":"VLOOKUP(A1242,'Correcties op staffel'!$A$5:$C$10,2)","v":0},{"$f":"VLOOKUP(A1242,'Correcties op staffel'!$A$5:$C$10,3)","v":0},17600,null,123900,17600,21296,null,123900,17600,21296]
[124000,17600,21296,{"$f":"VLOOKUP(A1243,'Correcties op staffel'!$A$5:$C$10,2)","v":0},{"$f":"VLOOKUP(A1243,'Correcties op staffel'!$A$5:$C$10,3)","v":0},17600,null,124000,17600,21296,null,124000,17600,21296]
[124100,17600,21296,{"$f":"VLOOKUP(A1244,'Correcties op staffel'!$A$5:$C$10,2)","v":0},{"$f":"VLOOKUP(A1244,'Correcties op staffel'!$A$5:$C$10,3)","v":0},17600,null,124100,17600,21296,null,124100,17600,21296]
[124200,17600,21296,{"$f":"VLOOKUP(A1245,'Correcties op staffel'!$A$5:$C$10,2)","v":0},{"$f":"VLOOKUP(A1245,'Correcties op staffel'!$A$5:$C$10,3)","v":0},17600,null,124200,17600,21296,null,124200,17600,21296]
[124300,17600,21296,{"$f":"VLOOKUP(A1246,'Correcties op staffel'!$A$5:$C$10,2)","v":0},{"$f":"VLOOKUP(A1246,'Correcties op staffel'!$A$5:$C$10,3)","v":0},17600,null,124300,17600,21296,null,124300,17600,21296]
[124400,17700,21417,{"$f":"VLOOKUP(A1247,'Correcties op staffel'!$A$5:$C$10,2)","v":0},{"$f":"VLOOKUP(A1247,'Correcties op staffel'!$A$5:$C$10,3)","v":0},17700,null,124400,17700,21417,null,124400,17700,21417]
[124500,17700,21417,{"$f":"VLOOKUP(A1248,'Correcties op staffel'!$A$5:$C$10,2)","v":0},{"$f":"VLOOKUP(A1248,'Correcties op staffel'!$A$5:$C$10,3)","v":0},17700,null,124500,17700,21417,null,124500,17700,21417]
[124600,17700,21417,{"$f":"VLOOKUP(A1249,'Correcties op staffel'!$A$5:$C$10,2)","v":0},{"$f":"VLOOKUP(A1249,'Correcties op staffel'!$A$5:$C$10,3)","v":0},17700,null,124600,17700,21417,null,124600,17700,21417]
[124700,17700,21417,{"$f":"VLOOKUP(A1250,'Correcties op staffel'!$A$5:$C$10,2)","v":0},{"$f":"VLOOKUP(A1250,'Correcties op staffel'!$A$5:$C$10,3)","v":0},17700,null,124700,17700,21417,null,124700,17700,21417]
[124800,17700,21417,{"$f":"VLOOKUP(A1251,'Correcties op staffel'!$A$5:$C$10,2)","v":0},{"$f":"VLOOKUP(A1251,'Correcties op staffel'!$A$5:$C$10,3)","v":0},17700,null,124800,17700,21417,null,124800,17700,21417]
[124900,17700,21417,{"$f":"VLOOKUP(A1252,'Correcties op staffel'!$A$5:$C$10,2)","v":0},{"$f":"VLOOKUP(A1252,'Correcties op staffel'!$A$5:$C$10,3)","v":0},17700,null,124900,17700,21417,null,124900,17700,21417]
[125000,17700,21417,{"$f":"VLOOKUP(A1253,'Correcties op staffel'!$A$5:$C$10,2)","v":0},{"$f":"VLOOKUP(A1253,'Correcties op staffel'!$A$5:$C$10,3)","v":0},17700,null,125000,17700,21417,null,125000,17700,21417]
[125100,17700,21417,{"$f":"VLOOKUP(A1254,'Correcties op staffel'!$A$5:$C$10,2)","v":0},{"$f":"VLOOKUP(A1254,'Correcties op staffel'!$A$5:$C$10,3)","v":0},17700,null,125100,17700,21417,null,125100,17700,21417]
[125200,17700,21417,{"$f":"VLOOKUP(A1255,'Correcties op staffel'!$A$5:$C$10,2)","v":0},{"$f":"VLOOKUP(A1255,'Correcties op staffel'!$A$5:$C$10,3)","v":0},17700,null,125200,17700,21417,null,125200,17700,21417]
[125300,17700,21417,{"$f":"VLOOKUP(A1256,'Correcties op staffel'!$A$5:$C$10,2)","v":0},{"$f":"VLOOKUP(A1256,'Correcties op staffel'!$A$5:$C$10,3)","v":0},17700,null,125300,17700,21417,null,125300,17700,21417]
[125400,17800,21538,{"$f":"VLOOKUP(A1257,'Correcties op staffel'!$A$5:$C$10,2)","v":0},{"$f":"VLOOKUP(A1257,'Correcties op staffel'!$A$5:$C$10,3)","v":0},17800,null,125400,17800,21538,null,125400,17800,21538]
[125500,17800,21538,{"$f":"VLOOKUP(A1258,'Correcties op staffel'!$A$5:$C$10,2)","v":0},{"$f":"VLOOKUP(A1258,'Correcties op staffel'!$A$5:$C$10,3)","v":0},17800,null,125500,17800,21538,null,125500,17800,21538]
[125600,17800,21538,{"$f":"VLOOKUP(A1259,'Correcties op staffel'!$A$5:$C$10,2)","v":0},{"$f":"VLOOKUP(A1259,'Correcties op staffel'!$A$5:$C$10,3)","v":0},17800,null,125600,17800,21538,null,125600,17800,21538]
[125700,17800,21538,{"$f":"VLOOKUP(A1260,'Correcties op staffel'!$A$5:$C$10,2)","v":0},{"$f":"VLOOKUP(A1260,'Correcties op staffel'!$A$5:$C$10,3)","v":0},17800,null,125700,17800,21538,null,125700,17800,21538]
[{"$f":"A1260+100","v":125800},17800,21538,{"$f":"VLOOKUP(A1261,'Correcties op staffel'!$A$5:$C$10,2)","v":0},{"$f":"VLOOKUP(A1261,'Correcties op staffel'!$A$5:$C$10,3)","v":0},17800,null,{"$f":"H1260+100","v":125800},17800,21538,null,125800,17800,21538]
[125900,17800,21538,{"$f":"VLOOKUP(A1262,'Correcties op staffel'!$A$5:$C$10,2)","v":0},{"$f":"VLOOKUP(A1262,'Correcties op staffel'!$A$5:$C$10,3)","v":0},17800,null,125900,17800,21538,null,125900,17800,21538]
[126000,17800,21538,{"$f":"VLOOKUP(A1263,'Correcties op staffel'!$A$5:$C$10,2)","v":0},{"$f":"VLOOKUP(A1263,'Correcties op staffel'!$A$5:$C$10,3)","v":0},17800,null,126000,17800,21538,null,126000,17800,21538]
[126100,17800,21538,{"$f":"VLOOKUP(A1264,'Correcties op staffel'!$A$5:$C$10,2)","v":0},{"$f":"VLOOKUP(A1264,'Correcties op staffel'!$A$5:$C$10,3)","v":0},17800,null,126100,17800,21538,null,126100,17800,21538]
[126200,17800,21538,{"$f":"VLOOKUP(A1265,'Correcties op staffel'!$A$5:$C$10,2)","v":0},{"$f":"VLOOKUP(A1265,'Correcties op staffel'!$A$5:$C$10,3)","v":0},17800,null,126200,17800,21538,null,126200,17800,21538]
[126300,17800,21538,{"$f":"VLOOKUP(A1266,'Correcties op staffel'!$A$5:$C$10,2)","v":0},{"$f":"VLOOKUP(A1266,'Correcties op staffel'!$A$5:$C$10,3)","v":0},17800,null,126300,17800,21538,null,126300,17800,21538]
[126400,17900,21659,{"$f":"VLOOKUP(A1267,'Correcties op staffel'!$A$5:$C$10,2)","v":0},{"$f":"VLOOKUP(A1267,'Correcties op staffel'!$A$5:$C$10,3)","v":0},17900,null,126400,17900,21659,null,126400,17900,21659]
[126500,17900,21659,{"$f":"VLOOKUP(A1268,'Correcties op staffel'!$A$5:$C$10,2)","v":0},{"$f":"VLOOKUP(A1268,'Correcties op staffel'!$A$5:$C$10,3)","v":0},17900,null,126500,17900,21659,null,126500,17900,21659]
[126600,17900,21659,{"$f":"VLOOKUP(A1269,'Correcties op staffel'!$A$5:$C$10,2)","v":0},{"$f":"VLOOKUP(A1269,'Correcties op staffel'!$A$5:$C$10,3)","v":0},17900,null,126600,17900,21659,null,126600,17900,21659]
[126700,17900,21659,{"$f":"VLOOKUP(A1270,'Correcties op staffel'!$A$5:$C$10,2)","v":0},{"$f":"VLOOKUP(A1270,'Correcties op staffel'!$A$5:$C$10,3)","v":0},17900,null,126700,17900,21659,null,126700,17900,21659]
[126800,17900,21659,{"$f":"VLOOKUP(A1271,'Correcties op staffel'!$A$5:$C$10,2)","v":0},{"$f":"VLOOKUP(A1271,'Correcties op staffel'!$A$5:$C$10,3)","v":0},17900,null,126800,17900,21659,null,126800,17900,21659]
[126900,17900,21659,{"$f":"VLOOKUP(A1272,'Correcties op staffel'!$A$5:$C$10,2)","v":0},{"$f":"VLOOKUP(A1272,'Correcties op staffel'!$A$5:$C$10,3)","v":0},17900,null,126900,17900,21659,null,126900,17900,21659]
[127000,17900,21659,{"$f":"VLOOKUP(A1273,'Correcties op staffel'!$A$5:$C$10,2)","v":0},{"$f":"VLOOKUP(A1273,'Correcties op staffel'!$A$5:$C$10,3)","v":0},17900,null,127000,17900,21659,null,127000,17900,21659]
[127100,17900,21659,{"$f":"VLOOKUP(A1274,'Correcties op staffel'!$A$5:$C$10,2)","v":0},{"$f":"VLOOKUP(A1274,'Correcties op staffel'!$A$5:$C$10,3)","v":0},17900,null,127100,17900,21659,null,127100,17900,21659]
[127200,17900,21659,{"$f":"VLOOKUP(A1275,'Correcties op staffel'!$A$5:$C$10,2)","v":0},{"$f":"VLOOKUP(A1275,'Correcties op staffel'!$A$5:$C$10,3)","v":0},17900,null,127200,17900,21659,null,127200,17900,21659]
[127300,17900,21659,{"$f":"VLOOKUP(A1276,'Correcties op staffel'!$A$5:$C$10,2)","v":0},{"$f":"VLOOKUP(A1276,'Correcties op staffel'!$A$5:$C$10,3)","v":0},17900,null,127300,17900,21659,null,127300,17900,21659]
[127400,17900,21659,{"$f":"VLOOKUP(A1277,'Correcties op staffel'!$A$5:$C$10,2)","v":0},{"$f":"VLOOKUP(A1277,'Correcties op staffel'!$A$5:$C$10,3)","v":0},17900,null,127400,17900,21659,null,127400,17900,21659]
[127500,18000,21780,{"$f":"VLOOKUP(A1278,'Correcties op staffel'!$A$5:$C$10,2)","v":0},{"$f":"VLOOKUP(A1278,'Correcties op staffel'!$A$5:$C$10,3)","v":0},18000,null,127500,18000,21780,null,127500,18000,21780]
[127600,18000,21780,{"$f":"VLOOKUP(A1279,'Correcties op staffel'!$A$5:$C$10,2)","v":0},{"$f":"VLOOKUP(A1279,'Correcties op staffel'!$A$5:$C$10,3)","v":0},18000,null,127600,18000,21780,null,127600,18000,21780]
[127700,18000,21780,{"$f":"VLOOKUP(A1280,'Correcties op staffel'!$A$5:$C$10,2)","v":0},{"$f":"VLOOKUP(A1280,'Correcties op staffel'!$A$5:$C$10,3)","v":0},18000,null,127700,18000,21780,null,127700,18000,21780]
[127800,18000,21780,{"$f":"VLOOKUP(A1281,'Correcties op staffel'!$A$5:$C$10,2)","v":0},{"$f":"VLOOKUP(A1281,'Correcties op staffel'!$A$5:$C$10,3)","v":0},18000,null,127800,18000,21780,null,127800,18000,21780]
[127900,18000,21780,{"$f":"VLOOKUP(A1282,'Correcties op staffel'!$A$5:$C$10,2)","v":0},{"$f":"VLOOKUP(A1282,'Correcties op staffel'!$A$5:$C$10,3)","v":0},18000,null,127900,18000,21780,null,127900,18000,21780]
[128000,18000,21780,{"$f":"VLOOKUP(A1283,'Correcties op staffel'!$A$5:$C$10,2)","v":0},{"$f":"VLOOKUP(A1283,'Correcties op staffel'!$A$5:$C$10,3)","v":0},18000,null,128000,18000,21780,null,128000,18000,21780]
[128100,18000,21780,{"$f":"VLOOKUP(A1284,'Correcties op staffel'!$A$5:$C$10,2)","v":0},{"$f":"VLOOKUP(A1284,'Correcties op staffel'!$A$5:$C$10,3)","v":0},{"$f":"B1284*(1+D1284)+E1284","v":18000},null,128100,{"$f":"ROUND(F1284,0)","v":18000},21780,null,128100,18000,21780]
[128200,18000,21780,{"$f":"VLOOKUP(A1285,'Correcties op staffel'!$A$5:$C$10,2)","v":0},{"$f":"VLOOKUP(A1285,'Correcties op staffel'!$A$5:$C$10,3)","v":0},18000,null,128200,18000,{"$f":"I1285*1.21","v":21780},null,128200,{"$f":"IF(ROUND(I1285/5,0)*5<I1285,ROUND(I1285/5,0)*5+5,ROUND(I1285/5,0)*5)","v":18000},{"$f":"M1285*1.21","v":21780}]
[128300,18000,21780,{"$f":"VLOOKUP(A1286,'Correcties op staffel'!$A$5:$C$10,2)","v":0},{"$f":"VLOOKUP(A1286,'Correcties op staffel'!$A$5:$C$10,3)","v":0},18000,null,128300,18000,21780,null,128300,18000,21780]
[128400,18000,21780,{"$f":"VLOOKUP(A1287,'Correcties op staffel'!$A$5:$C$10,2)","v":0},{"$f":"VLOOKUP(A1287,'Correcties op staffel'!$A$5:$C$10,3)","v":0},18000,null,128400,18000,21780,null,128400,18000,21780]
[128500,18100,21901,{"$f":"VLOOKUP(A1288,'Correcties op staffel'!$A$5:$C$10,2)","v":0},{"$f":"VLOOKUP(A1288,'Correcties op staffel'!$A$5:$C$10,3)","v":0},18100,null,128500,18100,21901,null,128500,18100,21901]
[128600,18100,21901,{"$f":"VLOOKUP(A1289,'Correcties op staffel'!$A$5:$C$10,2)","v":0},{"$f":"VLOOKUP(A1289,'Correcties op staffel'!$A$5:$C$10,3)","v":0},18100,null,128600,18100,21901,null,128600,18100,21901]
[128700,18100,21901,{"$f":"VLOOKUP(A1290,'Correcties op staffel'!$A$5:$C$10,2)","v":0},{"$f":"VLOOKUP(A1290,'Correcties op staffel'!$A$5:$C$10,3)","v":0},18100,null,128700,18100,21901,null,128700,18100,21901]
[128800,18100,21901,{"$f":"VLOOKUP(A1291,'Correcties op staffel'!$A$5:$C$10,2)","v":0},{"$f":"VLOOKUP(A1291,'Correcties op staffel'!$A$5:$C$10,3)","v":0},18100,null,128800,18100,21901,null,128800,18100,21901]
[128900,18100,21901,{"$f":"VLOOKUP(A1292,'Correcties op staffel'!$A$5:$C$10,2)","v":0},{"$f":"VLOOKUP(A1292,'Correcties op staffel'!$A$5:$C$10,3)","v":0},18100,null,128900,18100,21901,null,128900,18100,21901]
[129000,18100,21901,{"$f":"VLOOKUP(A1293,'Correcties op staffel'!$A$5:$C$10,2)","v":0},{"$f":"VLOOKUP(A1293,'Correcties op staffel'!$A$5:$C$10,3)","v":0},18100,null,129000,18100,21901,null,129000,18100,21901]
[129100,18100,21901,{"$f":"VLOOKUP(A1294,'Correcties op staffel'!$A$5:$C$10,2)","v":0},{"$f":"VLOOKUP(A1294,'Correcties op staffel'!$A$5:$C$10,3)","v":0},18100,null,129100,18100,21901,null,129100,18100,21901]
[129200,18100,21901,{"$f":"VLOOKUP(A1295,'Correcties op staffel'!$A$5:$C$10,2)","v":0},{"$f":"VLOOKUP(A1295,'Correcties op staffel'!$A$5:$C$10,3)","v":0},18100,null,129200,18100,21901,null,129200,18100,21901]
[129300,18100,21901,{"$f":"VLOOKUP(A1296,'Correcties op staffel'!$A$5:$C$10,2)","v":0},{"$f":"VLOOKUP(A1296,'Correcties op staffel'!$A$5:$C$10,3)","v":0},18100,null,129300,18100,21901,null,129300,18100,21901]
[129400,18100,21901,{"$f":"VLOOKUP(A1297,'Correcties op staffel'!$A$5:$C$10,2)","v":0},{"$f":"VLOOKUP(A1297,'Correcties op staffel'!$A$5:$C$10,3)","v":0},18100,null,129400,18100,21901,null,129400,18100,21901]
[129500,18200,22022,{"$f":"VLOOKUP(A1298,'Correcties op staffel'!$A$5:$C$10,2)","v":0},{"$f":"VLOOKUP(A1298,'Correcties op staffel'!$A$5:$C$10,3)","v":0},18200,null,129500,18200,22022,null,129500,18200,22022]
[129600,18200,22022,{"$f":"VLOOKUP(A1299,'Correcties op staffel'!$A$5:$C$10,2)","v":0},{"$f":"VLOOKUP(A1299,'Correcties op staffel'!$A$5:$C$10,3)","v":0},18200,null,129600,18200,22022,null,129600,18200,22022]
[129700,18200,22022,{"$f":"VLOOKUP(A1300,'Correcties op staffel'!$A$5:$C$10,2)","v":0},{"$f":"VLOOKUP(A1300,'Correcties op staffel'!$A$5:$C$10,3)","v":0},18200,null,129700,18200,22022,null,129700,18200,22022]
[129800,18200,22022,{"$f":"VLOOKUP(A1301,'Correcties op staffel'!$A$5:$C$10,2)","v":0},{"$f":"VLOOKUP(A1301,'Correcties op staffel'!$A$5:$C$10,3)","v":0},18200,null,129800,18200,22022,null,129800,18200,22022]
[129900,18200,22022,{"$f":"VLOOKUP(A1302,'Correcties op staffel'!$A$5:$C$10,2)","v":0},{"$f":"VLOOKUP(A1302,'Correcties op staffel'!$A$5:$C$10,3)","v":0},18200,null,129900,18200,22022,null,129900,18200,22022]
[130000,18200,22022,{"$f":"VLOOKUP(A1303,'Correcties op staffel'!$A$5:$C$10,2)","v":0},{"$f":"VLOOKUP(A1303,'Correcties op staffel'!$A$5:$C$10,3)","v":0},18200,null,130000,18200,22022,null,130000,18200,22022]
[130100,18200,22022,{"$f":"VLOOKUP(A1304,'Correcties op staffel'!$A$5:$C$10,2)","v":0},{"$f":"VLOOKUP(A1304,'Correcties op staffel'!$A$5:$C$10,3)","v":0},18200,null,130100,18200,22022,null,130100,18200,22022]
[130200,18200,22022,{"$f":"VLOOKUP(A1305,'Correcties op staffel'!$A$5:$C$10,2)","v":0},{"$f":"VLOOKUP(A1305,'Correcties op staffel'!$A$5:$C$10,3)","v":0},18200,null,130200,18200,22022,null,130200,18200,22022]
[130300,18200,22022,{"$f":"VLOOKUP(A1306,'Correcties op staffel'!$A$5:$C$10,2)","v":0},{"$f":"VLOOKUP(A1306,'Correcties op staffel'!$A$5:$C$10,3)","v":0},18200,null,130300,18200,22022,null,130300,18200,22022]
[130400,18200,22022,{"$f":"VLOOKUP(A1307,'Correcties op staffel'!$A$5:$C$10,2)","v":0},{"$f":"VLOOKUP(A1307,'Correcties op staffel'!$A$5:$C$10,3)","v":0},18200,null,130400,18200,22022,null,130400,18200,22022]
[130500,18300,22143,{"$f":"VLOOKUP(A1308,'Correcties op staffel'!$A$5:$C$10,2)","v":0},{"$f":"VLOOKUP(A1308,'Correcties op staffel'!$A$5:$C$10,3)","v":0},18300,null,130500,18300,22143,null,130500,18300,22143]
[130600,18300,22143,{"$f":"VLOOKUP(A1309,'Correcties op staffel'!$A$5:$C$10,2)","v":0},{"$f":"VLOOKUP(A1309,'Correcties op staffel'!$A$5:$C$10,3)","v":0},18300,null,130600,18300,22143,null,130600,18300,22143]
[130700,18300,22143,{"$f":"VLOOKUP(A1310,'Correcties op staffel'!$A$5:$C$10,2)","v":0},{"$f":"VLOOKUP(A1310,'Correcties op staffel'!$A$5:$C$10,3)","v":0},18300,null,130700,18300,22143,null,130700,18300,22143]
[130800,18300,22143,{"$f":"VLOOKUP(A1311,'Correcties op staffel'!$A$5:$C$10,2)","v":0},{"$f":"VLOOKUP(A1311,'Correcties op staffel'!$A$5:$C$10,3)","v":0},18300,null,130800,18300,22143,null,130800,18300,22143]
[130900,18300,22143,{"$f":"VLOOKUP(A1312,'Correcties op staffel'!$A$5:$C$10,2)","v":0},{"$f":"VLOOKUP(A1312,'Correcties op staffel'!$A$5:$C$10,3)","v":0},18300,null,130900,18300,22143,null,130900,18300,22143]
[131000,18300,22143,{"$f":"VLOOKUP(A1313,'Correcties op staffel'!$A$5:$C$10,2)","v":0},{"$f":"VLOOKUP(A1313,'Correcties op staffel'!$A$5:$C$10,3)","v":0},18300,null,131000,18300,22143,null,131000,18300,22143]
[131100,18300,22143,{"$f":"VLOOKUP(A1314,'Correcties op staffel'!$A$5:$C$10,2)","v":0},{"$f":"VLOOKUP(A1314,'Correcties op staffel'!$A$5:$C$10,3)","v":0},18300,null,131100,18300,22143,null,131100,18300,22143]
[131200,18300,22143,{"$f":"VLOOKUP(A1315,'Correcties op staffel'!$A$5:$C$10,2)","v":0},{"$f":"VLOOKUP(A1315,'Correcties op staffel'!$A$5:$C$10,3)","v":0},18300,null,131200,18300,22143,null,131200,18300,22143]
[131300,18300,22143,{"$f":"VLOOKUP(A1316,'Correcties op staffel'!$A$5:$C$10,2)","v":0},{"$f":"VLOOKUP(A1316,'Correcties op staffel'!$A$5:$C$10,3)","v":0},18300,null,131300,18300,22143,null,131300,18300,22143]
[131400,18300,22143,{"$f":"VLOOKUP(A1317,'Correcties op staffel'!$A$5:$C$10,2)","v":0},{"$f":"VLOOKUP(A1317,'Correcties op staffel'!$A$5:$C$10,3)","v":0},18300,null,131400,18300,22143,null,131400,18300,22143]
[131500,18400,22264,{"$f":"VLOOKUP(A1318,'Correcties op staffel'!$A$5:$C$10,2)","v":0},{"$f":"VLOOKUP(A1318,'Correcties op staffel'!$A$5:$C$10,3)","v":0},18400,null,131500,18400,22264,null,131500,18400,22264]
[131600,18400,22264,{"$f":"VLOOKUP(A1319,'Correcties op staffel'!$A$5:$C$10,2)","v":0},{"$f":"VLOOKUP(A1319,'Correcties op staffel'!$A$5:$C$10,3)","v":0},18400,null,131600,18400,22264,null,131600,18400,22264]
[131700,18400,22264,{"$f":"VLOOKUP(A1320,'Correcties op staffel'!$A$5:$C$10,2)","v":0},{"$f":"VLOOKUP(A1320,'Correcties op staffel'!$A$5:$C$10,3)","v":0},18400,null,131700,18400,22264,null,131700,18400,22264]
[131800,18400,22264,{"$f":"VLOOKUP(A1321,'Correcties op staffel'!$A$5:$C$10,2)","v":0},{"$f":"VLOOKUP(A1321,'Correcties op staffel'!$A$5:$C$10,3)","v":0},18400,null,131800,18400,22264,null,131800,18400,22264]
[131900,18400,22264,{"$f":"VLOOKUP(A1322,'Correcties op staffel'!$A$5:$C$10,2)","v":0},{"$f":"VLOOKUP(A1322,'Correcties op staffel'!$A$5:$C$10,3)","v":0},18400,null,131900,18400,22264,null,131900,18400,22264]
[132000,18400,22264,{"$f":"VLOOKUP(A1323,'Correcties op staffel'!$A$5:$C$10,2)","v":0},{"$f":"VLOOKUP(A1323,'Correcties op staffel'!$A$5:$C$10,3)","v":0},18400,null,132000,18400,22264,null,132000,18400,22264]
[132100,18400,22264,{"$f":"VLOOKUP(A1324,'Correcties op staffel'!$A$5:$C$10,2)","v":0},{"$f":"VLOOKUP(A1324,'Correcties op staffel'!$A$5:$C$10,3)","v":0},18400,null,132100,18400,22264,null,132100,18400,22264]
[{"$f":"A1324+100","v":132200},18400,22264,{"$f":"VLOOKUP(A1325,'Correcties op staffel'!$A$5:$C$10,2)","v":0},{"$f":"VLOOKUP(A1325,'Correcties op staffel'!$A$5:$C$10,3)","v":0},18400,null,{"$f":"H1324+100","v":132200},18400,22264,null,132200,18400,22264]
[132300,18400,22264,{"$f":"VLOOKUP(A1326,'Correcties op staffel'!$A$5:$C$10,2)","v":0},{"$f":"VLOOKUP(A1326,'Correcties op staffel'!$A$5:$C$10,3)","v":0},18400,null,132300,18400,22264,null,132300,18400,22264]
[132400,18400,22264,{"$f":"VLOOKUP(A1327,'Correcties op staffel'!$A$5:$C$10,2)","v":0},{"$f":"VLOOKUP(A1327,'Correcties op staffel'!$A$5:$C$10,3)","v":0},18400,null,132400,18400,22264,null,132400,18400,22264]
[132500,18500,22385,{"$f":"VLOOKUP(A1328,'Correcties op staffel'!$A$5:$C$10,2)","v":0},{"$f":"VLOOKUP(A1328,'Correcties op staffel'!$A$5:$C$10,3)","v":0},18500,null,132500,18500,22385,null,132500,18500,22385]
[132600,18500,22385,{"$f":"VLOOKUP(A1329,'Correcties op staffel'!$A$5:$C$10,2)","v":0},{"$f":"VLOOKUP(A1329,'Correcties op staffel'!$A$5:$C$10,3)","v":0},18500,null,132600,18500,22385,null,132600,18500,22385]
[132700,18500,22385,{"$f":"VLOOKUP(A1330,'Correcties op staffel'!$A$5:$C$10,2)","v":0},{"$f":"VLOOKUP(A1330,'Correcties op staffel'!$A$5:$C$10,3)","v":0},18500,null,132700,18500,22385,null,132700,18500,22385]
[132800,18500,22385,{"$f":"VLOOKUP(A1331,'Correcties op staffel'!$A$5:$C$10,2)","v":0},{"$f":"VLOOKUP(A1331,'Correcties op staffel'!$A$5:$C$10,3)","v":0},18500,null,132800,18500,22385,null,132800,18500,22385]
[132900,18500,22385,{"$f":"VLOOKUP(A1332,'Correcties op staffel'!$A$5:$C$10,2)","v":0},{"$f":"VLOOKUP(A1332,'Correcties op staffel'!$A$5:$C$10,3)","v":0},18500,null,132900,18500,22385,null,132900,18500,22385]
[133000,18500,22385,{"$f":"VLOOKUP(A1333,'Correcties op staffel'!$A$5:$C$10,2)","v":0},{"$f":"VLOOKUP(A1333,'Correcties op staffel'!$A$5:$C$10,3)","v":0},18500,null,133000,18500,22385,null,133000,18500,22385]
[133100,18500,22385,{"$f":"VLOOKUP(A1334,'Correcties op staffel'!$A$5:$C$10,2)","v":0},{"$f":"VLOOKUP(A1334,'Correcties op staffel'!$A$5:$C$10,3)","v":0},18500,null,133100,18500,22385,null,133100,18500,22385]
[133200,18500,22385,{"$f":"VLOOKUP(A1335,'Correcties op staffel'!$A$5:$C$10,2)","v":0},{"$f":"VLOOKUP(A1335,'Correcties op staffel'!$A$5:$C$10,3)","v":0},18500,null,133200,18500,22385,null,133200,18500,22385]
[133300,18500,22385,{"$f":"VLOOKUP(A1336,'Correcties op staffel'!$A$5:$C$10,2)","v":0},{"$f":"VLOOKUP(A1336,'Correcties op staffel'!$A$5:$C$10,3)","v":0},18500,null,133300,18500,22385,null,133300,18500,22385]
[133400,18500,22385,{"$f":"VLOOKUP(A1337,'Correcties op staffel'!$A$5:$C$10,2)","v":0},{"$f":"VLOOKUP(A1337,'Correcties op staffel'!$A$5:$C$10,3)","v":0},18500,null,133400,18500,22385,null,133400,18500,22385]
[133500,18600,22506,{"$f":"VLOOKUP(A1338,'Correcties op staffel'!$A$5:$C$10,2)","v":0},{"$f":"VLOOKUP(A1338,'Correcties op staffel'!$A$5:$C$10,3)","v":0},18600,null,133500,18600,22506,null,133500,18600,22506]
[133600,18600,22506,{"$f":"VLOOKUP(A1339,'Correcties op staffel'!$A$5:$C$10,2)","v":0},{"$f":"VLOOKUP(A1339,'Correcties op staffel'!$A$5:$C$10,3)","v":0},18600,null,133600,18600,22506,null,133600,18600,22506]
[133700,18600,22506,{"$f":"VLOOKUP(A1340,'Correcties op staffel'!$A$5:$C$10,2)","v":0},{"$f":"VLOOKUP(A1340,'Correcties op staffel'!$A$5:$C$10,3)","v":0},18600,null,133700,18600,22506,null,133700,18600,22506]
[133800,18600,22506,{"$f":"VLOOKUP(A1341,'Correcties op staffel'!$A$5:$C$10,2)","v":0},{"$f":"VLOOKUP(A1341,'Correcties op staffel'!$A$5:$C$10,3)","v":0},18600,null,133800,18600,22506,null,133800,18600,22506]
[133900,18600,22506,{"$f":"VLOOKUP(A1342,'Correcties op staffel'!$A$5:$C$10,2)","v":0},{"$f":"VLOOKUP(A1342,'Correcties op staffel'!$A$5:$C$10,3)","v":0},18600,null,133900,18600,22506,null,133900,18600,22506]
[134000,18600,22506,{"$f":"VLOOKUP(A1343,'Correcties op staffel'!$A$5:$C$10,2)","v":0},{"$f":"VLOOKUP(A1343,'Correcties op staffel'!$A$5:$C$10,3)","v":0},18600,null,134000,18600,22506,null,134000,18600,22506]
[134100,18600,22506,{"$f":"VLOOKUP(A1344,'Correcties op staffel'!$A$5:$C$10,2)","v":0},{"$f":"VLOOKUP(A1344,'Correcties op staffel'!$A$5:$C$10,3)","v":0},18600,null,134100,18600,22506,null,134100,18600,22506]
[134200,18600,22506,{"$f":"VLOOKUP(A1345,'Correcties op staffel'!$A$5:$C$10,2)","v":0},{"$f":"VLOOKUP(A1345,'Correcties op staffel'!$A$5:$C$10,3)","v":0},18600,null,134200,18600,22506,null,134200,18600,22506]
[134300,18600,22506,{"$f":"VLOOKUP(A1346,'Correcties op staffel'!$A$5:$C$10,2)","v":0},{"$f":"VLOOKUP(A1346,'Correcties op staffel'!$A$5:$C$10,3)","v":0},18600,null,134300,18600,22506,null,134300,18600,22506]
[134400,18600,22506,{"$f":"VLOOKUP(A1347,'Correcties op staffel'!$A$5:$C$10,2)","v":0},{"$f":"VLOOKUP(A1347,'Correcties op staffel'!$A$5:$C$10,3)","v":0},18600,null,134400,18600,22506,null,134400,18600,22506]
[134500,18600,22506,{"$f":"VLOOKUP(A1348,'Correcties op staffel'!$A$5:$C$10,2)","v":0},{"$f":"VLOOKUP(A1348,'Correcties op staffel'!$A$5:$C$10,3)","v":0},{"$f":"B1348*(1+D1348)+E1348","v":18600},null,134500,{"$f":"ROUND(F1348,0)","v":18600},22506,null,134500,18600,22506]
[134600,18700,22627,{"$f":"VLOOKUP(A1349,'Correcties op staffel'!$A$5:$C$10,2)","v":0},{"$f":"VLOOKUP(A1349,'Correcties op staffel'!$A$5:$C$10,3)","v":0},18700,null,134600,18700,{"$f":"I1349*1.21","v":22627},null,134600,{"$f":"IF(ROUND(I1349/5,0)*5<I1349,ROUND(I1349/5,0)*5+5,ROUND(I1349/5,0)*5)","v":18700},{"$f":"M1349*1.21","v":22627}]
[134700,18700,22627,{"$f":"VLOOKUP(A1350,'Correcties op staffel'!$A$5:$C$10,2)","v":0},{"$f":"VLOOKUP(A1350,'Correcties op staffel'!$A$5:$C$10,3)","v":0},18700,null,134700,18700,22627,null,134700,18700,22627]
[134800,18700,22627,{"$f":"VLOOKUP(A1351,'Correcties op staffel'!$A$5:$C$10,2)","v":0},{"$f":"VLOOKUP(A1351,'Correcties op staffel'!$A$5:$C$10,3)","v":0},18700,null,134800,18700,22627,null,134800,18700,22627]
[134900,18700,22627,{"$f":"VLOOKUP(A1352,'Correcties op staffel'!$A$5:$C$10,2)","v":0},{"$f":"VLOOKUP(A1352,'Correcties op staffel'!$A$5:$C$10,3)","v":0},18700,null,134900,18700,22627,null,134900,18700,22627]
[135000,18700,22627,{"$f":"VLOOKUP(A1353,'Correcties op staffel'!$A$5:$C$10,2)","v":0},{"$f":"VLOOKUP(A1353,'Correcties op staffel'!$A$5:$C$10,3)","v":0},18700,null,135000,18700,22627,null,135000,18700,22627]
[135100,18700,22627,{"$f":"VLOOKUP(A1354,'Correcties op staffel'!$A$5:$C$10,2)","v":0},{"$f":"VLOOKUP(A1354,'Correcties op staffel'!$A$5:$C$10,3)","v":0},18700,null,135100,18700,22627,null,135100,18700,22627]
[135200,18700,22627,{"$f":"VLOOKUP(A1355,'Correcties op staffel'!$A$5:$C$10,2)","v":0},{"$f":"VLOOKUP(A1355,'Correcties op staffel'!$A$5:$C$10,3)","v":0},18700,null,135200,18700,22627,null,135200,18700,22627]
[135300,18700,22627,{"$f":"VLOOKUP(A1356,'Correcties op staffel'!$A$5:$C$10,2)","v":0},{"$f":"VLOOKUP(A1356,'Correcties op staffel'!$A$5:$C$10,3)","v":0},18700,null,135300,18700,22627,null,135300,18700,22627]
[135400,18700,22627,{"$f":"VLOOKUP(A1357,'Correcties op staffel'!$A$5:$C$10,2)","v":0},{"$f":"VLOOKUP(A1357,'Correcties op staffel'!$A$5:$C$10,3)","v":0},18700,null,135400,18700,22627,null,135400,18700,22627]
[135500,18700,22627,{"$f":"VLOOKUP(A1358,'Correcties op staffel'!$A$5:$C$10,2)","v":0},{"$f":"VLOOKUP(A1358,'Correcties op staffel'!$A$5:$C$10,3)","v":0},18700,null,135500,18700,22627,null,135500,18700,22627]
[135600,18800,22748,{"$f":"VLOOKUP(A1359,'Correcties op staffel'!$A$5:$C$10,2)","v":0},{"$f":"VLOOKUP(A1359,'Correcties op staffel'!$A$5:$C$10,3)","v":0},18800,null,135600,18800,22748,null,135600,18800,22748]
[135700,18800,22748,{"$f":"VLOOKUP(A1360,'Correcties op staffel'!$A$5:$C$10,2)","v":0},{"$f":"VLOOKUP(A1360,'Correcties op staffel'!$A$5:$C$10,3)","v":0},18800,null,135700,18800,22748,null,135700,18800,22748]
[135800,18800,22748,{"$f":"VLOOKUP(A1361,'Correcties op staffel'!$A$5:$C$10,2)","v":0},{"$f":"VLOOKUP(A1361,'Correcties op staffel'!$A$5:$C$10,3)","v":0},18800,null,135800,18800,22748,null,135800,18800,22748]
[135900,18800,22748,{"$f":"VLOOKUP(A1362,'Correcties op staffel'!$A$5:$C$10,2)","v":0},{"$f":"VLOOKUP(A1362,'Correcties op staffel'!$A$5:$C$10,3)","v":0},18800,null,135900,18800,22748,null,135900,18800,22748]
[136000,18800,22748,{"$f":"VLOOKUP(A1363,'Correcties op staffel'!$A$5:$C$10,2)","v":0},{"$f":"VLOOKUP(A1363,'Correcties op staffel'!$A$5:$C$10,3)","v":0},18800,null,136000,18800,22748,null,136000,18800,22748]
[136100,18800,22748,{"$f":"VLOOKUP(A1364,'Correcties op staffel'!$A$5:$C$10,2)","v":0},{"$f":"VLOOKUP(A1364,'Correcties op staffel'!$A$5:$C$10,3)","v":0},18800,null,136100,18800,22748,null,136100,18800,22748]
[136200,18800,22748,{"$f":"VLOOKUP(A1365,'Correcties op staffel'!$A$5:$C$10,2)","v":0},{"$f":"VLOOKUP(A1365,'Correcties op staffel'!$A$5:$C$10,3)","v":0},18800,null,136200,18800,22748,null,136200,18800,22748]
[136300,18800,22748,{"$f":"VLOOKUP(A1366,'Correcties op staffel'!$A$5:$C$10,2)","v":0},{"$f":"VLOOKUP(A1366,'Correcties op staffel'!$A$5:$C$10,3)","v":0},18800,null,136300,18800,22748,null,136300,18800,22748]
[136400,18800,22748,{"$f":"VLOOKUP(A1367,'Correcties op staffel'!$A$5:$C$10,2)","v":0},{"$f":"VLOOKUP(A1367,'Correcties op staffel'!$A$5:$C$10,3)","v":0},18800,null,136400,18800,22748,null,136400,18800,22748]
[136500,18800,22748,{"$f":"VLOOKUP(A1368,'Correcties op staffel'!$A$5:$C$10,2)","v":0},{"$f":"VLOOKUP(A1368,'Correcties op staffel'!$A$5:$C$10,3)","v":0},18800,null,136500,18800,22748,null,136500,18800,22748]
[136600,18900,22869,{"$f":"VLOOKUP(A1369,'Correcties op staffel'!$A$5:$C$10,2)","v":0},{"$f":"VLOOKUP(A1369,'Correcties op staffel'!$A$5:$C$10,3)","v":0},18900,null,136600,18900,22869,null,136600,18900,22869]
[136700,18900,22869,{"$f":"VLOOKUP(A1370,'Correcties op staffel'!$A$5:$C$10,2)","v":0},{"$f":"VLOOKUP(A1370,'Correcties op staffel'!$A$5:$C$10,3)","v":0},18900,null,136700,18900,22869,null,136700,18900,22869]
[136800,18900,22869,{"$f":"VLOOKUP(A1371,'Correcties op staffel'!$A$5:$C$10,2)","v":0},{"$f":"VLOOKUP(A1371,'Correcties op staffel'!$A$5:$C$10,3)","v":0},18900,null,136800,18900,22869,null,136800,18900,22869]
[136900,18900,22869,{"$f":"VLOOKUP(A1372,'Correcties op staffel'!$A$5:$C$10,2)","v":0},{"$f":"VLOOKUP(A1372,'Correcties op staffel'!$A$5:$C$10,3)","v":0},18900,null,136900,18900,22869,null,136900,18900,22869]
[137000,18900,22869,{"$f":"VLOOKUP(A1373,'Correcties op staffel'!$A$5:$C$10,2)","v":0},{"$f":"VLOOKUP(A1373,'Correcties op staffel'!$A$5:$C$10,3)","v":0},18900,null,137000,18900,22869,null,137000,18900,22869]
[137100,18900,22869,{"$f":"VLOOKUP(A1374,'Correcties op staffel'!$A$5:$C$10,2)","v":0},{"$f":"VLOOKUP(A1374,'Correcties op staffel'!$A$5:$C$10,3)","v":0},18900,null,137100,18900,22869,null,137100,18900,22869]
[137200,18900,22869,{"$f":"VLOOKUP(A1375,'Correcties op staffel'!$A$5:$C$10,2)","v":0},{"$f":"VLOOKUP(A1375,'Correcties op staffel'!$A$5:$C$10,3)","v":0},18900,null,137200,18900,22869,null,137200,18900,22869]
[137300,18900,22869,{"$f":"VLOOKUP(A1376,'Correcties op staffel'!$A$5:$C$10,2)","v":0},{"$f":"VLOOKUP(A1376,'Correcties op staffel'!$A$5:$C$10,3)","v":0},18900,null,137300,18900,22869,null,137300,18900,22869]
[137400,18900,22869,{"$f":"VLOOKUP(A1377,'Correcties op staffel'!$A$5:$C$10,2)","v":0},{"$f":"VLOOKUP(A1377,'Correcties op staffel'!$A$5:$C$10,3)","v":0},18900,null,137400,18900,22869,null,137400,18900,22869]
[137500,18900,22869,{"$f":"VLOOKUP(A1378,'Correcties op staffel'!$A$5:$C$10,2)","v":0},{"$f":"VLOOKUP(A1378,'Correcties op staffel'!$A$5:$C$10,3)","v":0},18900,null,137500,18900,22869,null,137500,18900,22869]
[137600,19000,22990,{"$f":"VLOOKUP(A1379,'Correcties op staffel'!$A$5:$C$10,2)","v":0},{"$f":"VLOOKUP(A1379,'Correcties op staffel'!$A$5:$C$10,3)","v":0},19000,null,137600,19000,22990,null,137600,19000,22990]
[137700,19000,22990,{"$f":"VLOOKUP(A1380,'Correcties op staffel'!$A$5:$C$10,2)","v":0},{"$f":"VLOOKUP(A1380,'Correcties op staffel'!$A$5:$C$10,3)","v":0},19000,null,137700,19000,22990,null,137700,19000,22990]
[137800,19000,22990,{"$f":"VLOOKUP(A1381,'Correcties op staffel'!$A$5:$C$10,2)","v":0},{"$f":"VLOOKUP(A1381,'Correcties op staffel'!$A$5:$C$10,3)","v":0},19000,null,137800,19000,22990,null,137800,19000,22990]
[137900,19000,22990,{"$f":"VLOOKUP(A1382,'Correcties op staffel'!$A$5:$C$10,2)","v":0},{"$f":"VLOOKUP(A1382,'Correcties op staffel'!$A$5:$C$10,3)","v":0},19000,null,137900,19000,22990,null,137900,19000,22990]
[138000,19000,22990,{"$f":"VLOOKUP(A1383,'Correcties op staffel'!$A$5:$C$10,2)","v":0},{"$f":"VLOOKUP(A1383,'Correcties op staffel'!$A$5:$C$10,3)","v":0},19000,null,138000,19000,22990,null,138000,19000,22990]
[138100,19000,22990,{"$f":"VLOOKUP(A1384,'Correcties op staffel'!$A$5:$C$10,2)","v":0},{"$f":"VLOOKUP(A1384,'Correcties op staffel'!$A$5:$C$10,3)","v":0},19000,null,138100,19000,22990,null,138100,19000,22990]
[138200,19000,22990,{"$f":"VLOOKUP(A1385,'Correcties op staffel'!$A$5:$C$10,2)","v":0},{"$f":"VLOOKUP(A1385,'Correcties op staffel'!$A$5:$C$10,3)","v":0},19000,null,138200,19000,22990,null,138200,19000,22990]
[138300,19000,22990,{"$f":"VLOOKUP(A1386,'Correcties op staffel'!$A$5:$C$10,2)","v":0},{"$f":"VLOOKUP(A1386,'Correcties op staffel'!$A$5:$C$10,3)","v":0},19000,null,138300,19000,22990,null,138300,19000,22990]
[138400,19000,22990,{"$f":"VLOOKUP(A1387,'Correcties op staffel'!$A$5:$C$10,2)","v":0},{"$f":"VLOOKUP(A1387,'Correcties op staffel'!$A$5:$C$10,3)","v":0},19000,null,138400,19000,22990,null,138400,19000,22990]
[138500,19000,22990,{"$f":"VLOOKUP(A1388,'Correcties op staffel'!$A$5:$C$10,2)","v":0},{"$f":"VLOOKUP(A1388,'Correcties op staffel'!$A$5:$C$10,3)","v":0},19000,null,138500,19000,22990,null,138500,19000,22990]
[{"$f":"A1388+100","v":138600},19100,23111,{"$f":"VLOOKUP(A1389,'Correcties op staffel'!$A$5:$C$10,2)","v":0},{"$f":"VLOOKUP(A1389,'Correcties op staffel'!$A$5:$C$10,3)","v":0},19100,null,{"$f":"H1388+100","v":138600},19100,23111,null,138600,19100,23111]
[138700,19100,23111,{"$f":"VLOOKUP(A1390,'Correcties op staffel'!$A$5:$C$10,2)","v":0},{"$f":"VLOOKUP(A1390,'Correcties op staffel'!$A$5:$C$10,3)","v":0},19100,null,138700,19100,23111,null,138700,19100,23111]
[138800,19100,23111,{"$f":"VLOOKUP(A1391,'Correcties op staffel'!$A$5:$C$10,2)","v":0},{"$f":"VLOOKUP(A1391,'Correcties op staffel'!$A$5:$C$10,3)","v":0},19100,null,138800,19100,23111,null,138800,19100,23111]
[138900,19100,23111,{"$f":"VLOOKUP(A1392,'Correcties op staffel'!$A$5:$C$10,2)","v":0},{"$f":"VLOOKUP(A1392,'Correcties op staffel'!$A$5:$C$10,3)","v":0},19100,null,138900,19100,23111,null,138900,19100,23111]
[139000,19100,23111,{"$f":"VLOOKUP(A1393,'Correcties op staffel'!$A$5:$C$10,2)","v":0},{"$f":"VLOOKUP(A1393,'Correcties op staffel'!$A$5:$C$10,3)","v":0},19100,null,139000,19100,23111,null,139000,19100,23111]
[139100,19100,23111,{"$f":"VLOOKUP(A1394,'Correcties op staffel'!$A$5:$C$10,2)","v":0},{"$f":"VLOOKUP(A1394,'Correcties op staffel'!$A$5:$C$10,3)","v":0},19100,null,139100,19100,23111,null,139100,19100,23111]
[139200,19100,23111,{"$f":"VLOOKUP(A1395,'Correcties op staffel'!$A$5:$C$10,2)","v":0},{"$f":"VLOOKUP(A1395,'Correcties op staffel'!$A$5:$C$10,3)","v":0},19100,null,139200,19100,23111,null,139200,19100,23111]
[139300,19100,23111,{"$f":"VLOOKUP(A1396,'Correcties op staffel'!$A$5:$C$10,2)","v":0},{"$f":"VLOOKUP(A1396,'Correcties op staffel'!$A$5:$C$10,3)","v":0},19100,null,139300,19100,23111,null,139300,19100,23111]
[139400,19100,23111,{"$f":"VLOOKUP(A1397,'Correcties op staffel'!$A$5:$C$10,2)","v":0},{"$f":"VLOOKUP(A1397,'Correcties op staffel'!$A$5:$C$10,3)","v":0},19100,null,139400,19100,23111,null,139400,19100,23111]
[139500,19100,23111,{"$f":"VLOOKUP(A1398,'Correcties op staffel'!$A$5:$C$10,2)","v":0},{"$f":"VLOOKUP(A1398,'Correcties op staffel'!$A$5:$C$10,3)","v":0},19100,null,139500,19100,23111,null,139500,19100,23111]
[139600,19200,23232,{"$f":"VLOOKUP(A1399,'Correcties op staffel'!$A$5:$C$10,2)","v":0},{"$f":"VLOOKUP(A1399,'Correcties op staffel'!$A$5:$C$10,3)","v":0},19200,null,139600,19200,23232,null,139600,19200,23232]
[139700,19200,23232,{"$f":"VLOOKUP(A1400,'Correcties op staffel'!$A$5:$C$10,2)","v":0},{"$f":"VLOOKUP(A1400,'Correcties op staffel'!$A$5:$C$10,3)","v":0},19200,null,139700,19200,23232,null,139700,19200,23232]
[139800,19200,23232,{"$f":"VLOOKUP(A1401,'Correcties op staffel'!$A$5:$C$10,2)","v":0},{"$f":"VLOOKUP(A1401,'Correcties op staffel'!$A$5:$C$10,3)","v":0},19200,null,139800,19200,23232,null,139800,19200,23232]
[139900,19200,23232,{"$f":"VLOOKUP(A1402,'Correcties op staffel'!$A$5:$C$10,2)","v":0},{"$f":"VLOOKUP(A1402,'Correcties op staffel'!$A$5:$C$10,3)","v":0},19200,null,139900,19200,23232,null,139900,19200,23232]
[140000,19200,23232,{"$f":"VLOOKUP(A1403,'Correcties op staffel'!$A$5:$C$10,2)","v":0},{"$f":"VLOOKUP(A1403,'Correcties op staffel'!$A$5:$C$10,3)","v":0},19200,null,140000,19200,23232,null,140000,19200,23232]
[140100,19200,23232,{"$f":"VLOOKUP(A1404,'Correcties op staffel'!$A$5:$C$10,2)","v":0},{"$f":"VLOOKUP(A1404,'Correcties op staffel'!$A$5:$C$10,3)","v":0},19200,null,140100,19200,23232,null,140100,19200,23232]
[140200,19200,23232,{"$f":"VLOOKUP(A1405,'Correcties op staffel'!$A$5:$C$10,2)","v":0},{"$f":"VLOOKUP(A1405,'Correcties op staffel'!$A$5:$C$10,3)","v":0},19200,null,140200,19200,23232,null,140200,19200,23232]
[140300,19200,23232,{"$f":"VLOOKUP(A1406,'Correcties op staffel'!$A$5:$C$10,2)","v":0},{"$f":"VLOOKUP(A1406,'Correcties op staffel'!$A$5:$C$10,3)","v":0},19200,null,140300,19200,23232,null,140300,19200,23232]
[140400,19200,23232,{"$f":"VLOOKUP(A1407,'Correcties op staffel'!$A$5:$C$10,2)","v":0},{"$f":"VLOOKUP(A1407,'Correcties op staffel'!$A$5:$C$10,3)","v":0},19200,null,140400,19200,23232,null,140400,19200,23232]
[140500,19200,23232,{"$f":"VLOOKUP(A1408,'Correcties op staffel'!$A$5:$C$10,2)","v":0},{"$f":"VLOOKUP(A1408,'Correcties op staffel'!$A$5:$C$10,3)","v":0},19200,null,140500,19200,23232,null,140500,19200,23232]
[140600,19300,23353,{"$f":"VLOOKUP(A1409,'Correcties op staffel'!$A$5:$C$10,2)","v":0},{"$f":"VLOOKUP(A1409,'Correcties op staffel'!$A$5:$C$10,3)","v":0},19300,null,140600,19300,23353,null,140600,19300,23353]
[140700,19300,23353,{"$f":"VLOOKUP(A1410,'Correcties op staffel'!$A$5:$C$10,2)","v":0},{"$f":"VLOOKUP(A1410,'Correcties op staffel'!$A$5:$C$10,3)","v":0},19300,null,140700,19300,23353,null,140700,19300,23353]
[140800,19300,23353,{"$f":"VLOOKUP(A1411,'Correcties op staffel'!$A$5:$C$10,2)","v":0},{"$f":"VLOOKUP(A1411,'Correcties op staffel'!$A$5:$C$10,3)","v":0},19300,null,140800,19300,23353,null,140800,19300,23353]
[140900,19300,23353,{"$f":"VLOOKUP(A1412,'Correcties op staffel'!$A$5:$C$10,2)","v":0},{"$f":"VLOOKUP(A1412,'Correcties op staffel'!$A$5:$C$10,3)","v":0},{"$f":"B1412*(1+D1412)+E1412","v":19300},null,140900,{"$f":"ROUND(F1412,0)","v":19300},23353,null,140900,19300,23353]
[141000,19300,23353,{"$f":"VLOOKUP(A1413,'Correcties op staffel'!$A$5:$C$10,2)","v":0},{"$f":"VLOOKUP(A1413,'Correcties op staffel'!$A$5:$C$10,3)","v":0},19300,null,141000,19300,{"$f":"I1413*1.21","v":23353},null,141000,{"$f":"IF(ROUND(I1413/5,0)*5<I1413,ROUND(I1413/5,0)*5+5,ROUND(I1413/5,0)*5)","v":19300},{"$f":"M1413*1.21","v":23353}]
[141100,19300,23353,{"$f":"VLOOKUP(A1414,'Correcties op staffel'!$A$5:$C$10,2)","v":0},{"$f":"VLOOKUP(A1414,'Correcties op staffel'!$A$5:$C$10,3)","v":0},19300,null,141100,19300,23353,null,141100,19300,23353]
[141200,19300,23353,{"$f":"VLOOKUP(A1415,'Correcties op staffel'!$A$5:$C$10,2)","v":0},{"$f":"VLOOKUP(A1415,'Correcties op staffel'!$A$5:$C$10,3)","v":0},19300,null,141200,19300,23353,null,141200,19300,23353]
[141300,19300,23353,{"$f":"VLOOKUP(A1416,'Correcties op staffel'!$A$5:$C$10,2)","v":0},{"$f":"VLOOKUP(A1416,'Correcties op staffel'!$A$5:$C$10,3)","v":0},19300,null,141300,19300,23353,null,141300,19300,23353]
[141400,19300,23353,{"$f":"VLOOKUP(A1417,'Correcties op staffel'!$A$5:$C$10,2)","v":0},{"$f":"VLOOKUP(A1417,'Correcties op staffel'!$A$5:$C$10,3)","v":0},19300,null,141400,19300,23353,null,141400,19300,23353]
[141500,19300,23353,{"$f":"VLOOKUP(A1418,'Correcties op staffel'!$A$5:$C$10,2)","v":0},{"$f":"VLOOKUP(A1418,'Correcties op staffel'!$A$5:$C$10,3)","v":0},19300,null,141500,19300,23353,null,141500,19300,23353]
[141600,19300,23353,{"$f":"VLOOKUP(A1419,'Correcties op staffel'!$A$5:$C$10,2)","v":0},{"$f":"VLOOKUP(A1419,'Correcties op staffel'!$A$5:$C$10,3)","v":0},19300,null,141600,19300,23353,null,141600,19300,23353]
[141700,19400,23474,{"$f":"VLOOKUP(A1420,'Correcties op staffel'!$A$5:$C$10,2)","v":0},{"$f":"VLOOKUP(A1420,'Correcties op staffel'!$A$5:$C$10,3)","v":0},19400,null,141700,19400,23474,null,141700,19400,23474]
[141800,19400,23474,{"$f":"VLOOKUP(A1421,'Correcties op staffel'!$A$5:$C$10,2)","v":0},{"$f":"VLOOKUP(A1421,'Correcties op staffel'!$A$5:$C$10,3)","v":0},19400,null,141800,19400,23474,null,141800,19400,23474]
[141900,19400,23474,{"$f":"VLOOKUP(A1422,'Correcties op staffel'!$A$5:$C$10,2)","v":0},{"$f":"VLOOKUP(A1422,'Correcties op staffel'!$A$5:$C$10,3)","v":0},19400,null,141900,19400,23474,null,141900,19400,23474]
[142000,19400,23474,{"$f":"VLOOKUP(A1423,'Correcties op staffel'!$A$5:$C$10,2)","v":0},{"$f":"VLOOKUP(A1423,'Correcties op staffel'!$A$5:$C$10,3)","v":0},19400,null,142000,19400,23474,null,142000,19400,23474]
[142100,19400,23474,{"$f":"VLOOKUP(A1424,'Correcties op staffel'!$A$5:$C$10,2)","v":0},{"$f":"VLOOKUP(A1424,'Correcties op staffel'!$A$5:$C$10,3)","v":0},19400,null,142100,19400,23474,null,142100,19400,23474]
[142200,19400,23474,{"$f":"VLOOKUP(A1425,'Correcties op staffel'!$A$5:$C$10,2)","v":0},{"$f":"VLOOKUP(A1425,'Correcties op staffel'!$A$5:$C$10,3)","v":0},19400,null,142200,19400,23474,null,142200,19400,23474]
[142300,19400,23474,{"$f":"VLOOKUP(A1426,'Correcties op staffel'!$A$5:$C$10,2)","v":0},{"$f":"VLOOKUP(A1426,'Correcties op staffel'!$A$5:$C$10,3)","v":0},19400,null,142300,19400,23474,null,142300,19400,23474]
[142400,19400,23474,{"$f":"VLOOKUP(A1427,'Correcties op staffel'!$A$5:$C$10,2)","v":0},{"$f":"VLOOKUP(A1427,'Correcties op staffel'!$A$5:$C$10,3)","v":0},19400,null,142400,19400,23474,null,142400,19400,23474]
[142500,19400,23474,{"$f":"VLOOKUP(A1428,'Correcties op staffel'!$A$5:$C$10,2)","v":0},{"$f":"VLOOKUP(A1428,'Correcties op staffel'!$A$5:$C$10,3)","v":0},19400,null,142500,19400,23474,null,142500,19400,23474]
[142600,19400,23474,{"$f":"VLOOKUP(A1429,'Correcties op staffel'!$A$5:$C$10,2)","v":0},{"$f":"VLOOKUP(A1429,'Correcties op staffel'!$A$5:$C$10,3)","v":0},19400,null,142600,19400,23474,null,142600,19400,23474]
[142700,19500,23595,{"$f":"VLOOKUP(A1430,'Correcties op staffel'!$A$5:$C$10,2)","v":0},{"$f":"VLOOKUP(A1430,'Correcties op staffel'!$A$5:$C$10,3)","v":0},19500,null,142700,19500,23595,null,142700,19500,23595]
[142800,19500,23595,{"$f":"VLOOKUP(A1431,'Correcties op staffel'!$A$5:$C$10,2)","v":0},{"$f":"VLOOKUP(A1431,'Correcties op staffel'!$A$5:$C$10,3)","v":0},19500,null,142800,19500,23595,null,142800,19500,23595]
[142900,19500,23595,{"$f":"VLOOKUP(A1432,'Correcties op staffel'!$A$5:$C$10,2)","v":0},{"$f":"VLOOKUP(A1432,'Correcties op staffel'!$A$5:$C$10,3)","v":0},19500,null,142900,19500,23595,null,142900,19500,23595]
[143000,19500,23595,{"$f":"VLOOKUP(A1433,'Correcties op staffel'!$A$5:$C$10,2)","v":0},{"$f":"VLOOKUP(A1433,'Correcties op staffel'!$A$5:$C$10,3)","v":0},19500,null,143000,19500,23595,null,143000,19500,23595]
[143100,19500,23595,{"$f":"VLOOKUP(A1434,'Correcties op staffel'!$A$5:$C$10,2)","v":0},{"$f":"VLOOKUP(A1434,'Correcties op staffel'!$A$5:$C$10,3)","v":0},19500,null,143100,19500,23595,null,143100,19500,23595]
[143200,19500,23595,{"$f":"VLOOKUP(A1435,'Correcties op staffel'!$A$5:$C$10,2)","v":0},{"$f":"VLOOKUP(A1435,'Correcties op staffel'!$A$5:$C$10,3)","v":0},19500,null,143200,19500,23595,null,143200,19500,23595]
[143300,19500,23595,{"$f":"VLOOKUP(A1436,'Correcties op staffel'!$A$5:$C$10,2)","v":0},{"$f":"VLOOKUP(A1436,'Correcties op staffel'!$A$5:$C$10,3)","v":0},19500,null,143300,19500,23595,null,143300,19500,23595]
[143400,19500,23595,{"$f":"VLOOKUP(A1437,'Correcties op staffel'!$A$5:$C$10,2)","v":0},{"$f":"VLOOKUP(A1437,'Correcties op staffel'!$A$5:$C$10,3)","v":0},19500,null,143400,19500,23595,null,143400,19500,23595]
[143500,19500,23595,{"$f":"VLOOKUP(A1438,'Correcties op staffel'!$A$5:$C$10,2)","v":0},{"$f":"VLOOKUP(A1438,'Correcties op staffel'!$A$5:$C$10,3)","v":0},19500,null,143500,19500,23595,null,143500,19500,23595]
[143600,19500,23595,{"$f":"VLOOKUP(A1439,'Correcties op staffel'!$A$5:$C$10,2)","v":0},{"$f":"VLOOKUP(A1439,'Correcties op staffel'!$A$5:$C$10,3)","v":0},19500,null,143600,19500,23595,null,143600,19500,23595]
[143700,19600,23716,{"$f":"VLOOKUP(A1440,'Correcties op staffel'!$A$5:$C$10,2)","v":0},{"$f":"VLOOKUP(A1440,'Correcties op staffel'!$A$5:$C$10,3)","v":0},19600,null,143700,19600,23716,null,143700,19600,23716]
[143800,19600,23716,{"$f":"VLOOKUP(A1441,'Correcties op staffel'!$A$5:$C$10,2)","v":0},{"$f":"VLOOKUP(A1441,'Correcties op staffel'!$A$5:$C$10,3)","v":0},19600,null,143800,19600,23716,null,143800,19600,23716]
[143900,19600,23716,{"$f":"VLOOKUP(A1442,'Correcties op staffel'!$A$5:$C$10,2)","v":0},{"$f":"VLOOKUP(A1442,'Correcties op staffel'!$A$5:$C$10,3)","v":0},19600,null,143900,19600,23716,null,143900,19600,23716]
[144000,19600,23716,{"$f":"VLOOKUP(A1443,'Correcties op staffel'!$A$5:$C$10,2)","v":0},{"$f":"VLOOKUP(A1443,'Correcties op staffel'!$A$5:$C$10,3)","v":0},19600,null,144000,19600,23716,null,144000,19600,23716]
[144100,19600,23716,{"$f":"VLOOKUP(A1444,'Correcties op staffel'!$A$5:$C$10,2)","v":0},{"$f":"VLOOKUP(A1444,'Correcties op staffel'!$A$5:$C$10,3)","v":0},19600,null,144100,19600,23716,null,144100,19600,23716]
[144200,19600,23716,{"$f":"VLOOKUP(A1445,'Correcties op staffel'!$A$5:$C$10,2)","v":0},{"$f":"VLOOKUP(A1445,'Correcties op staffel'!$A$5:$C$10,3)","v":0},19600,null,144200,19600,23716,null,144200,19600,23716]
[144300,19600,23716,{"$f":"VLOOKUP(A1446,'Correcties op staffel'!$A$5:$C$10,2)","v":0},{"$f":"VLOOKUP(A1446,'Correcties op staffel'!$A$5:$C$10,3)","v":0},19600,null,144300,19600,23716,null,144300,19600,23716]
[144400,19600,23716,{"$f":"VLOOKUP(A1447,'Correcties op staffel'!$A$5:$C$10,2)","v":0},{"$f":"VLOOKUP(A1447,'Correcties op staffel'!$A$5:$C$10,3)","v":0},19600,null,144400,19600,23716,null,144400,19600,23716]
[144500,19600,23716,{"$f":"VLOOKUP(A1448,'Correcties op staffel'!$A$5:$C$10,2)","v":0},{"$f":"VLOOKUP(A1448,'Correcties op staffel'!$A$5:$C$10,3)","v":0},19600,null,144500,19600,23716,null,144500,19600,23716]
[144600,19600,23716,{"$f":"VLOOKUP(A1449,'Correcties op staffel'!$A$5:$C$10,2)","v":0},{"$f":"VLOOKUP(A1449,'Correcties op staffel'!$A$5:$C$10,3)","v":0},19600,null,144600,19600,23716,null,144600,19600,23716]
[144700,19700,23837,{"$f":"VLOOKUP(A1450,'Correcties op staffel'!$A$5:$C$10,2)","v":0},{"$f":"VLOOKUP(A1450,'Correcties op staffel'!$A$5:$C$10,3)","v":0},19700,null,144700,19700,23837,null,144700,19700,23837]
[144800,19700,23837,{"$f":"VLOOKUP(A1451,'Correcties op staffel'!$A$5:$C$10,2)","v":0},{"$f":"VLOOKUP(A1451,'Correcties op staffel'!$A$5:$C$10,3)","v":0},19700,null,144800,19700,23837,null,144800,19700,23837]
[144900,19700,23837,{"$f":"VLOOKUP(A1452,'Correcties op staffel'!$A$5:$C$10,2)","v":0},{"$f":"VLOOKUP(A1452,'Correcties op staffel'!$A$5:$C$10,3)","v":0},19700,null,144900,19700,23837,null,144900,19700,23837]
[{"$f":"A1452+100","v":145000},19700,23837,{"$f":"VLOOKUP(A1453,'Correcties op staffel'!$A$5:$C$10,2)","v":0},{"$f":"VLOOKUP(A1453,'Correcties op staffel'!$A$5:$C$10,3)","v":0},19700,null,{"$f":"H1452+100","v":145000},19700,23837,null,145000,19700,23837]
[145100,19700,23837,{"$f":"VLOOKUP(A1454,'Correcties op staffel'!$A$5:$C$10,2)","v":0},{"$f":"VLOOKUP(A1454,'Correcties op staffel'!$A$5:$C$10,3)","v":0},19700,null,145100,19700,23837,null,145100,19700,23837]
[145200,19700,23837,{"$f":"VLOOKUP(A1455,'Correcties op staffel'!$A$5:$C$10,2)","v":0},{"$f":"VLOOKUP(A1455,'Correcties op staffel'!$A$5:$C$10,3)","v":0},19700,null,145200,19700,23837,null,145200,19700,23837]
[145300,19700,23837,{"$f":"VLOOKUP(A1456,'Correcties op staffel'!$A$5:$C$10,2)","v":0},{"$f":"VLOOKUP(A1456,'Correcties op staffel'!$A$5:$C$10,3)","v":0},19700,null,145300,19700,23837,null,145300,19700,23837]
[145400,19700,23837,{"$f":"VLOOKUP(A1457,'Correcties op staffel'!$A$5:$C$10,2)","v":0},{"$f":"VLOOKUP(A1457,'Correcties op staffel'!$A$5:$C$10,3)","v":0},19700,null,145400,19700,23837,null,145400,19700,23837]
[145500,19700,23837,{"$f":"VLOOKUP(A1458,'Correcties op staffel'!$A$5:$C$10,2)","v":0},{"$f":"VLOOKUP(A1458,'Correcties op staffel'!$A$5:$C$10,3)","v":0},19700,null,145500,19700,23837,null,145500,19700,23837]
[145600,19700,23837,{"$f":"VLOOKUP(A1459,'Correcties op staffel'!$A$5:$C$10,2)","v":0},{"$f":"VLOOKUP(A1459,'Correcties op staffel'!$A$5:$C$10,3)","v":0},19700,null,145600,19700,23837,null,145600,19700,23837]
[145700,19800,23958,{"$f":"VLOOKUP(A1460,'Correcties op staffel'!$A$5:$C$10,2)","v":0},{"$f":"VLOOKUP(A1460,'Correcties op staffel'!$A$5:$C$10,3)","v":0},19800,null,145700,19800,23958,null,145700,19800,23958]
[145800,19800,23958,{"$f":"VLOOKUP(A1461,'Correcties op staffel'!$A$5:$C$10,2)","v":0},{"$f":"VLOOKUP(A1461,'Correcties op staffel'!$A$5:$C$10,3)","v":0},19800,null,145800,19800,23958,null,145800,19800,23958]
[145900,19800,23958,{"$f":"VLOOKUP(A1462,'Correcties op staffel'!$A$5:$C$10,2)","v":0},{"$f":"VLOOKUP(A1462,'Correcties op staffel'!$A$5:$C$10,3)","v":0},19800,null,145900,19800,23958,null,145900,19800,23958]
[146000,19800,23958,{"$f":"VLOOKUP(A1463,'Correcties op staffel'!$A$5:$C$10,2)","v":0},{"$f":"VLOOKUP(A1463,'Correcties op staffel'!$A$5:$C$10,3)","v":0},19800,null,146000,19800,23958,null,146000,19800,23958]
[146100,19800,23958,{"$f":"VLOOKUP(A1464,'Correcties op staffel'!$A$5:$C$10,2)","v":0},{"$f":"VLOOKUP(A1464,'Correcties op staffel'!$A$5:$C$10,3)","v":0},19800,null,146100,19800,23958,null,146100,19800,23958]
[146200,19800,23958,{"$f":"VLOOKUP(A1465,'Correcties op staffel'!$A$5:$C$10,2)","v":0},{"$f":"VLOOKUP(A1465,'Correcties op staffel'!$A$5:$C$10,3)","v":0},19800,null,146200,19800,23958,null,146200,19800,23958]
[146300,19800,23958,{"$f":"VLOOKUP(A1466,'Correcties op staffel'!$A$5:$C$10,2)","v":0},{"$f":"VLOOKUP(A1466,'Correcties op staffel'!$A$5:$C$10,3)","v":0},19800,null,146300,19800,23958,null,146300,19800,23958]
[146400,19800,23958,{"$f":"VLOOKUP(A1467,'Correcties op staffel'!$A$5:$C$10,2)","v":0},{"$f":"VLOOKUP(A1467,'Correcties op staffel'!$A$5:$C$10,3)","v":0},19800,null,146400,19800,23958,null,146400,19800,23958]
[146500,19800,23958,{"$f":"VLOOKUP(A1468,'Correcties op staffel'!$A$5:$C$10,2)","v":0},{"$f":"VLOOKUP(A1468,'Correcties op staffel'!$A$5:$C$10,3)","v":0},19800,null,146500,19800,23958,null,146500,19800,23958]
[146600,19800,23958,{"$f":"VLOOKUP(A1469,'Correcties op staffel'!$A$5:$C$10,2)","v":0},{"$f":"VLOOKUP(A1469,'Correcties op staffel'!$A$5:$C$10,3)","v":0},19800,null,146600,19800,23958,null,146600,19800,23958]
[146700,19900,24079,{"$f":"VLOOKUP(A1470,'Correcties op staffel'!$A$5:$C$10,2)","v":0},{"$f":"VLOOKUP(A1470,'Correcties op staffel'!$A$5:$C$10,3)","v":0},19900,null,146700,19900,24079,null,146700,19900,24079]
[146800,19900,24079,{"$f":"VLOOKUP(A1471,'Correcties op staffel'!$A$5:$C$10,2)","v":0},{"$f":"VLOOKUP(A1471,'Correcties op staffel'!$A$5:$C$10,3)","v":0},19900,null,146800,19900,24079,null,146800,19900,24079]
[146900,19900,24079,{"$f":"VLOOKUP(A1472,'Correcties op staffel'!$A$5:$C$10,2)","v":0},{"$f":"VLOOKUP(A1472,'Correcties op staffel'!$A$5:$C$10,3)","v":0},19900,null,146900,19900,24079,null,146900,19900,24079]
[147000,19900,24079,{"$f":"VLOOKUP(A1473,'Correcties op staffel'!$A$5:$C$10,2)","v":0},{"$f":"VLOOKUP(A1473,'Correcties op staffel'!$A$5:$C$10,3)","v":0},19900,null,147000,19900,24079,null,147000,19900,24079]
[147100,19900,24079,{"$f":"VLOOKUP(A1474,'Correcties op staffel'!$A$5:$C$10,2)","v":0},{"$f":"VLOOKUP(A1474,'Correcties op staffel'!$A$5:$C$10,3)","v":0},19900,null,147100,19900,24079,null,147100,19900,24079]
[147200,19900,24079,{"$f":"VLOOKUP(A1475,'Correcties op staffel'!$A$5:$C$10,2)","v":0},{"$f":"VLOOKUP(A1475,'Correcties op staffel'!$A$5:$C$10,3)","v":0},19900,null,147200,19900,24079,null,147200,19900,24079]
[147300,19900,24079,{"$f":"VLOOKUP(A1476,'Correcties op staffel'!$A$5:$C$10,2)","v":0},{"$f":"VLOOKUP(A1476,'Correcties op staffel'!$A$5:$C$10,3)","v":0},{"$f":"B1476*(1+D1476)+E1476","v":19900},null,147300,{"$f":"ROUND(F1476,0)","v":19900},24079,null,147300,19900,24079]
[147400,19900,24079,{"$f":"VLOOKUP(A1477,'Correcties op staffel'!$A$5:$C$10,2)","v":0},{"$f":"VLOOKUP(A1477,'Correcties op staffel'!$A$5:$C$10,3)","v":0},19900,null,147400,19900,{"$f":"I1477*1.21","v":24079},null,147400,{"$f":"IF(ROUND(I1477/5,0)*5<I1477,ROUND(I1477/5,0)*5+5,ROUND(I1477/5,0)*5)","v":19900},{"$f":"M1477*1.21","v":24079}]
[147500,19900,24079,{"$f":"VLOOKUP(A1478,'Correcties op staffel'!$A$5:$C$10,2)","v":0},{"$f":"VLOOKUP(A1478,'Correcties op staffel'!$A$5:$C$10,3)","v":0},19900,null,147500,19900,24079,null,147500,19900,24079]
[147600,19900,24079,{"$f":"VLOOKUP(A1479,'Correcties op staffel'!$A$5:$C$10,2)","v":0},{"$f":"VLOOKUP(A1479,'Correcties op staffel'!$A$5:$C$10,3)","v":0},19900,null,147600,19900,24079,null,147600,19900,24079]
[147700,19900,24079,{"$f":"VLOOKUP(A1480,'Correcties op staffel'!$A$5:$C$10,2)","v":0},{"$f":"VLOOKUP(A1480,'Correcties op staffel'!$A$5:$C$10,3)","v":0},19900,null,147700,19900,24079,null,147700,19900,24079]
[147800,20000,24200,{"$f":"VLOOKUP(A1481,'Correcties op staffel'!$A$5:$C$10,2)","v":0},{"$f":"VLOOKUP(A1481,'Correcties op staffel'!$A$5:$C$10,3)","v":0},20000,null,147800,20000,24200,null,147800,20000,24200]
[147900,20000,24200,{"$f":"VLOOKUP(A1482,'Correcties op staffel'!$A$5:$C$10,2)","v":0},{"$f":"VLOOKUP(A1482,'Correcties op staffel'!$A$5:$C$10,3)","v":0},20000,null,147900,20000,24200,null,147900,20000,24200]
[148000,20000,24200,{"$f":"VLOOKUP(A1483,'Correcties op staffel'!$A$5:$C$10,2)","v":0},{"$f":"VLOOKUP(A1483,'Correcties op staffel'!$A$5:$C$10,3)","v":0},20000,null,148000,20000,24200,null,148000,20000,24200]
[148100,20000,24200,{"$f":"VLOOKUP(A1484,'Correcties op staffel'!$A$5:$C$10,2)","v":0},{"$f":"VLOOKUP(A1484,'Correcties op staffel'!$A$5:$C$10,3)","v":0},20000,null,148100,20000,24200,null,148100,20000,24200]
[148200,20000,24200,{"$f":"VLOOKUP(A1485,'Correcties op staffel'!$A$5:$C$10,2)","v":0},{"$f":"VLOOKUP(A1485,'Correcties op staffel'!$A$5:$C$10,3)","v":0},20000,null,148200,20000,24200,null,148200,20000,24200]
[148300,20000,24200,{"$f":"VLOOKUP(A1486,'Correcties op staffel'!$A$5:$C$10,2)","v":0},{"$f":"VLOOKUP(A1486,'Correcties op staffel'!$A$5:$C$10,3)","v":0},20000,null,148300,20000,24200,null,148300,20000,24200]
[148400,20000,24200,{"$f":"VLOOKUP(A1487,'Correcties op staffel'!$A$5:$C$10,2)","v":0},{"$f":"VLOOKUP(A1487,'Correcties op staffel'!$A$5:$C$10,3)","v":0},20000,null,148400,20000,24200,null,148400,20000,24200]
[148500,20000,24200,{"$f":"VLOOKUP(A1488,'Correcties op staffel'!$A$5:$C$10,2)","v":0},{"$f":"VLOOKUP(A1488,'Correcties op staffel'!$A$5:$C$10,3)","v":0},20000,null,148500,20000,24200,null,148500,20000,24200]
[148600,20000,24200,{"$f":"VLOOKUP(A1489,'Correcties op staffel'!$A$5:$C$10,2)","v":0},{"$f":"VLOOKUP(A1489,'Correcties op staffel'!$A$5:$C$10,3)","v":0},20000,null,148600,20000,24200,null,148600,20000,24200]
[148700,20000,24200,{"$f":"VLOOKUP(A1490,'Correcties op staffel'!$A$5:$C$10,2)","v":0},{"$f":"VLOOKUP(A1490,'Correcties op staffel'!$A$5:$C$10,3)","v":0},20000,null,148700,20000,24200,null,148700,20000,24200]
[148800,20100,24321,{"$f":"VLOOKUP(A1491,'Correcties op staffel'!$A$5:$C$10,2)","v":0},{"$f":"VLOOKUP(A1491,'Correcties op staffel'!$A$5:$C$10,3)","v":0},20100,null,148800,20100,24321,null,148800,20100,24321]
[148900,20100,24321,{"$f":"VLOOKUP(A1492,'Correcties op staffel'!$A$5:$C$10,2)","v":0},{"$f":"VLOOKUP(A1492,'Correcties op staffel'!$A$5:$C$10,3)","v":0},20100,null,148900,20100,24321,null,148900,20100,24321]
[149000,20100,24321,{"$f":"VLOOKUP(A1493,'Correcties op staffel'!$A$5:$C$10,2)","v":0},{"$f":"VLOOKUP(A1493,'Correcties op staffel'!$A$5:$C$10,3)","v":0},20100,null,149000,20100,24321,null,149000,20100,24321]
[149100,20100,24321,{"$f":"VLOOKUP(A1494,'Correcties op staffel'!$A$5:$C$10,2)","v":0},{"$f":"VLOOKUP(A1494,'Correcties op staffel'!$A$5:$C$10,3)","v":0},20100,null,149100,20100,24321,null,149100,20100,24321]
[149200,20100,24321,{"$f":"VLOOKUP(A1495,'Correcties op staffel'!$A$5:$C$10,2)","v":0},{"$f":"VLOOKUP(A1495,'Correcties op staffel'!$A$5:$C$10,3)","v":0},20100,null,149200,20100,24321,null,149200,20100,24321]
[149300,20100,24321,{"$f":"VLOOKUP(A1496,'Correcties op staffel'!$A$5:$C$10,2)","v":0},{"$f":"VLOOKUP(A1496,'Correcties op staffel'!$A$5:$C$10,3)","v":0},20100,null,149300,20100,24321,null,149300,20100,24321]
[149400,20100,24321,{"$f":"VLOOKUP(A1497,'Correcties op staffel'!$A$5:$C$10,2)","v":0},{"$f":"VLOOKUP(A1497,'Correcties op staffel'!$A$5:$C$10,3)","v":0},20100,null,149400,20100,24321,null,149400,20100,24321]
[149500,20100,24321,{"$f":"VLOOKUP(A1498,'Correcties op staffel'!$A$5:$C$10,2)","v":0},{"$f":"VLOOKUP(A1498,'Correcties op staffel'!$A$5:$C$10,3)","v":0},20100,null,149500,20100,24321,null,149500,20100,24321]
[149600,20100,24321,{"$f":"VLOOKUP(A1499,'Correcties op staffel'!$A$5:$C$10,2)","v":0},{"$f":"VLOOKUP(A1499,'Correcties op staffel'!$A$5:$C$10,3)","v":0},20100,null,149600,20100,24321,null,149600,20100,24321]
[149700,20100,24321,{"$f":"VLOOKUP(A1500,'Correcties op staffel'!$A$5:$C$10,2)","v":0},{"$f":"VLOOKUP(A1500,'Correcties op staffel'!$A$5:$C$10,3)","v":0},20100,null,149700,20100,24321,null,149700,20100,24321]
[149800,20200,24442,{"$f":"VLOOKUP(A1501,'Correcties op staffel'!$A$5:$C$10,2)","v":0},{"$f":"VLOOKUP(A1501,'Correcties op staffel'!$A$5:$C$10,3)","v":0},20200,null,149800,20200,24442,null,149800,20200,24442]
[149900,20200,24442,{"$f":"VLOOKUP(A1502,'Correcties op staffel'!$A$5:$C$10,2)","v":0},{"$f":"VLOOKUP(A1502,'Correcties op staffel'!$A$5:$C$10,3)","v":0},20200,null,149900,20200,24442,null,149900,20200,24442]
[150000,20200,24442,{"$f":"VLOOKUP(A1503,'Correcties op staffel'!$A$5:$C$10,2)","v":0},{"$f":"VLOOKUP(A1503,'Correcties op staffel'!$A$5:$C$10,3)","v":0},20200,null,150000,20200,24442,null,150000,20200,24442]
[150100,20200,24442,{"$f":"VLOOKUP(A1504,'Correcties op staffel'!$A$5:$C$10,2)","v":0},{"$f":"VLOOKUP(A1504,'Correcties op staffel'!$A$5:$C$10,3)","v":0},20200,null,150100,20200,24442,null,150100,20200,24442]
[150200,20200,24442,{"$f":"VLOOKUP(A1505,'Correcties op staffel'!$A$5:$C$10,2)","v":0},{"$f":"VLOOKUP(A1505,'Correcties op staffel'!$A$5:$C$10,3)","v":0},20200,null,150200,20200,24442,null,150200,20200,24442]
[150300,20200,24442,{"$f":"VLOOKUP(A1506,'Correcties op staffel'!$A$5:$C$10,2)","v":0},{"$f":"VLOOKUP(A1506,'Correcties op staffel'!$A$5:$C$10,3)","v":0},20200,null,150300,20200,24442,null,150300,20200,24442]
[150400,20200,24442,{"$f":"VLOOKUP(A1507,'Correcties op staffel'!$A$5:$C$10,2)","v":0},{"$f":"VLOOKUP(A1507,'Correcties op staffel'!$A$5:$C$10,3)","v":0},20200,null,150400,20200,24442,null,150400,20200,24442]
[150500,20200,24442,{"$f":"VLOOKUP(A1508,'Correcties op staffel'!$A$5:$C$10,2)","v":0},{"$f":"VLOOKUP(A1508,'Correcties op staffel'!$A$5:$C$10,3)","v":0},20200,null,150500,20200,24442,null,150500,20200,24442]
[150600,20200,24442,{"$f":"VLOOKUP(A1509,'Correcties op staffel'!$A$5:$C$10,2)","v":0},{"$f":"VLOOKUP(A1509,'Correcties op staffel'!$A$5:$C$10,3)","v":0},20200,null,150600,20200,24442,null,150600,20200,24442]
[150700,20200,24442,{"$f":"VLOOKUP(A1510,'Correcties op staffel'!$A$5:$C$10,2)","v":0},{"$f":"VLOOKUP(A1510,'Correcties op staffel'!$A$5:$C$10,3)","v":0},20200,null,150700,20200,24442,null,150700,20200,24442]
[150800,20300,24563,{"$f":"VLOOKUP(A1511,'Correcties op staffel'!$A$5:$C$10,2)","v":0},{"$f":"VLOOKUP(A1511,'Correcties op staffel'!$A$5:$C$10,3)","v":0},20300,null,150800,20300,24563,null,150800,20300,24563]
[150900,20300,24563,{"$f":"VLOOKUP(A1512,'Correcties op staffel'!$A$5:$C$10,2)","v":0},{"$f":"VLOOKUP(A1512,'Correcties op staffel'!$A$5:$C$10,3)","v":0},20300,null,150900,20300,24563,null,150900,20300,24563]
[151000,20300,24563,{"$f":"VLOOKUP(A1513,'Correcties op staffel'!$A$5:$C$10,2)","v":0},{"$f":"VLOOKUP(A1513,'Correcties op staffel'!$A$5:$C$10,3)","v":0},20300,null,151000,20300,24563,null,151000,20300,24563]
[151100,20300,24563,{"$f":"VLOOKUP(A1514,'Correcties op staffel'!$A$5:$C$10,2)","v":0},{"$f":"VLOOKUP(A1514,'Correcties op staffel'!$A$5:$C$10,3)","v":0},20300,null,151100,20300,24563,null,151100,20300,24563]
[151200,20300,24563,{"$f":"VLOOKUP(A1515,'Correcties op staffel'!$A$5:$C$10,2)","v":0},{"$f":"VLOOKUP(A1515,'Correcties op staffel'!$A$5:$C$10,3)","v":0},20300,null,151200,20300,24563,null,151200,20300,24563]
[151300,20300,24563,{"$f":"VLOOKUP(A1516,'Correcties op staffel'!$A$5:$C$10,2)","v":0},{"$f":"VLOOKUP(A1516,'Correcties op staffel'!$A$5:$C$10,3)","v":0},20300,null,151300,20300,24563,null,151300,20300,24563]
[{"$f":"A1516+100","v":151400},20300,24563,{"$f":"VLOOKUP(A1517,'Correcties op staffel'!$A$5:$C$10,2)","v":0},{"$f":"VLOOKUP(A1517,'Correcties op staffel'!$A$5:$C$10,3)","v":0},20300,null,{"$f":"H1516+100","v":151400},20300,24563,null,151400,20300,24563]
[151500,20300,24563,{"$f":"VLOOKUP(A1518,'Correcties op staffel'!$A$5:$C$10,2)","v":0},{"$f":"VLOOKUP(A1518,'Correcties op staffel'!$A$5:$C$10,3)","v":0},20300,null,151500,20300,24563,null,151500,20300,24563]
[151600,20300,24563,{"$f":"VLOOKUP(A1519,'Correcties op staffel'!$A$5:$C$10,2)","v":0},{"$f":"VLOOKUP(A1519,'Correcties op staffel'!$A$5:$C$10,3)","v":0},20300,null,151600,20300,24563,null,151600,20300,24563]
[151700,20300,24563,{"$f":"VLOOKUP(A1520,'Correcties op staffel'!$A$5:$C$10,2)","v":0},{"$f":"VLOOKUP(A1520,'Correcties op staffel'!$A$5:$C$10,3)","v":0},20300,null,151700,20300,24563,null,151700,20300,24563]
[151800,20400,24684,{"$f":"VLOOKUP(A1521,'Correcties op staffel'!$A$5:$C$10,2)","v":0},{"$f":"VLOOKUP(A1521,'Correcties op staffel'!$A$5:$C$10,3)","v":0},20400,null,151800,20400,24684,null,151800,20400,24684]
[151900,20400,24684,{"$f":"VLOOKUP(A1522,'Correcties op staffel'!$A$5:$C$10,2)","v":0},{"$f":"VLOOKUP(A1522,'Correcties op staffel'!$A$5:$C$10,3)","v":0},20400,null,151900,20400,24684,null,151900,20400,24684]
[152000,20400,24684,{"$f":"VLOOKUP(A1523,'Correcties op staffel'!$A$5:$C$10,2)","v":0},{"$f":"VLOOKUP(A1523,'Correcties op staffel'!$A$5:$C$10,3)","v":0},20400,null,152000,20400,24684,null,152000,20400,24684]
[152100,20400,24684,{"$f":"VLOOKUP(A1524,'Correcties op staffel'!$A$5:$C$10,2)","v":0},{"$f":"VLOOKUP(A1524,'Correcties op staffel'!$A$5:$C$10,3)","v":0},20400,null,152100,20400,24684,null,152100,20400,24684]
[152200,20400,24684,{"$f":"VLOOKUP(A1525,'Correcties op staffel'!$A$5:$C$10,2)","v":0},{"$f":"VLOOKUP(A1525,'Correcties op staffel'!$A$5:$C$10,3)","v":0},20400,null,152200,20400,24684,null,152200,20400,24684]
[152300,20400,24684,{"$f":"VLOOKUP(A1526,'Correcties op staffel'!$A$5:$C$10,2)","v":0},{"$f":"VLOOKUP(A1526,'Correcties op staffel'!$A$5:$C$10,3)","v":0},20400,null,152300,20400,24684,null,152300,20400,24684]
[152400,20400,24684,{"$f":"VLOOKUP(A1527,'Correcties op staffel'!$A$5:$C$10,2)","v":0},{"$f":"VLOOKUP(A1527,'Correcties op staffel'!$A$5:$C$10,3)","v":0},20400,null,152400,20400,24684,null,152400,20400,24684]
[152500,20400,24684,{"$f":"VLOOKUP(A1528,'Correcties op staffel'!$A$5:$C$10,2)","v":0},{"$f":"VLOOKUP(A1528,'Correcties op staffel'!$A$5:$C$10,3)","v":0},20400,null,152500,20400,24684,null,152500,20400,24684]
[152600,20400,24684,{"$f":"VLOOKUP(A1529,'Correcties op staffel'!$A$5:$C$10,2)","v":0},{"$f":"VLOOKUP(A1529,'Correcties op staffel'!$A$5:$C$10,3)","v":0},20400,null,152600,20400,24684,null,152600,20400,24684]
[152700,20400,24684,{"$f":"VLOOKUP(A1530,'Correcties op staffel'!$A$5:$C$10,2)","v":0},{"$f":"VLOOKUP(A1530,'Correcties op staffel'!$A$5:$C$10,3)","v":0},20400,null,152700,20400,24684,null,152700,20400,24684]
[152800,20500,24805,{"$f":"VLOOKUP(A1531,'Correcties op staffel'!$A$5:$C$10,2)","v":0},{"$f":"VLOOKUP(A1531,'Correcties op staffel'!$A$5:$C$10,3)","v":0},20500,null,152800,20500,24805,null,152800,20500,24805]
[152900,20500,24805,{"$f":"VLOOKUP(A1532,'Correcties op staffel'!$A$5:$C$10,2)","v":0},{"$f":"VLOOKUP(A1532,'Correcties op staffel'!$A$5:$C$10,3)","v":0},20500,null,152900,20500,24805,null,152900,20500,24805]
[153000,20500,24805,{"$f":"VLOOKUP(A1533,'Correcties op staffel'!$A$5:$C$10,2)","v":0},{"$f":"VLOOKUP(A1533,'Correcties op staffel'!$A$5:$C$10,3)","v":0},20500,null,153000,20500,24805,null,153000,20500,24805]
[153100,20500,24805,{"$f":"VLOOKUP(A1534,'Correcties op staffel'!$A$5:$C$10,2)","v":0},{"$f":"VLOOKUP(A1534,'Correcties op staffel'!$A$5:$C$10,3)","v":0},20500,null,153100,20500,24805,null,153100,20500,24805]
[153200,20500,24805,{"$f":"VLOOKUP(A1535,'Correcties op staffel'!$A$5:$C$10,2)","v":0},{"$f":"VLOOKUP(A1535,'Correcties op staffel'!$A$5:$C$10,3)","v":0},20500,null,153200,20500,24805,null,153200,20500,24805]
[153300,20500,24805,{"$f":"VLOOKUP(A1536,'Correcties op staffel'!$A$5:$C$10,2)","v":0},{"$f":"VLOOKUP(A1536,'Correcties op staffel'!$A$5:$C$10,3)","v":0},20500,null,153300,20500,24805,null,153300,20500,24805]
[153400,20500,24805,{"$f":"VLOOKUP(A1537,'Correcties op staffel'!$A$5:$C$10,2)","v":0},{"$f":"VLOOKUP(A1537,'Correcties op staffel'!$A$5:$C$10,3)","v":0},20500,null,153400,20500,24805,null,153400,20500,24805]
[153500,20500,24805,{"$f":"VLOOKUP(A1538,'Correcties op staffel'!$A$5:$C$10,2)","v":0},{"$f":"VLOOKUP(A1538,'Correcties op staffel'!$A$5:$C$10,3)","v":0},20500,null,153500,20500,24805,null,153500,20500,24805]
[153600,20500,24805,{"$f":"VLOOKUP(A1539,'Correcties op staffel'!$A$5:$C$10,2)","v":0},{"$f":"VLOOKUP(A1539,'Correcties op staffel'!$A$5:$C$10,3)","v":0},20500,null,153600,20500,24805,null,153600,20500,24805]
[153700,20500,24805,{"$f":"VLOOKUP(A1540,'Correcties op staffel'!$A$5:$C$10,2)","v":0},{"$f":"VLOOKUP(A1540,'Correcties op staffel'!$A$5:$C$10,3)","v":0},{"$f":"B1540*(1+D1540)+E1540","v":20500},null,153700,{"$f":"ROUND(F1540,0)","v":20500},24805,null,153700,20500,24805]
[153800,20600,24926,{"$f":"VLOOKUP(A1541,'Correcties op staffel'!$A$5:$C$10,2)","v":0},{"$f":"VLOOKUP(A1541,'Correcties op staffel'!$A$5:$C$10,3)","v":0},20600,null,153800,20600,{"$f":"I1541*1.21","v":24926},null,153800,{"$f":"IF(ROUND(I1541/5,0)*5<I1541,ROUND(I1541/5,0)*5+5,ROUND(I1541/5,0)*5)","v":20600},{"$f":"M1541*1.21","v":24926}]
[153900,20600,24926,{"$f":"VLOOKUP(A1542,'Correcties op staffel'!$A$5:$C$10,2)","v":0},{"$f":"VLOOKUP(A1542,'Correcties op staffel'!$A$5:$C$10,3)","v":0},20600,null,153900,20600,24926,null,153900,20600,24926]
[154000,20600,24926,{"$f":"VLOOKUP(A1543,'Correcties op staffel'!$A$5:$C$10,2)","v":0},{"$f":"VLOOKUP(A1543,'Correcties op staffel'!$A$5:$C$10,3)","v":0},20600,null,154000,20600,24926,null,154000,20600,24926]
[154100,20600,24926,{"$f":"VLOOKUP(A1544,'Correcties op staffel'!$A$5:$C$10,2)","v":0},{"$f":"VLOOKUP(A1544,'Correcties op staffel'!$A$5:$C$10,3)","v":0},20600,null,154100,20600,24926,null,154100,20600,24926]
[154200,20600,24926,{"$f":"VLOOKUP(A1545,'Correcties op staffel'!$A$5:$C$10,2)","v":0},{"$f":"VLOOKUP(A1545,'Correcties op staffel'!$A$5:$C$10,3)","v":0},20600,null,154200,20600,24926,null,154200,20600,24926]
[154300,20600,24926,{"$f":"VLOOKUP(A1546,'Correcties op staffel'!$A$5:$C$10,2)","v":0},{"$f":"VLOOKUP(A1546,'Correcties op staffel'!$A$5:$C$10,3)","v":0},20600,null,154300,20600,24926,null,154300,20600,24926]
[154400,20600,24926,{"$f":"VLOOKUP(A1547,'Correcties op staffel'!$A$5:$C$10,2)","v":0},{"$f":"VLOOKUP(A1547,'Correcties op staffel'!$A$5:$C$10,3)","v":0},20600,null,154400,20600,24926,null,154400,20600,24926]
[154500,20600,24926,{"$f":"VLOOKUP(A1548,'Correcties op staffel'!$A$5:$C$10,2)","v":0},{"$f":"VLOOKUP(A1548,'Correcties op staffel'!$A$5:$C$10,3)","v":0},20600,null,154500,20600,24926,null,154500,20600,24926]
[154600,20600,24926,{"$f":"VLOOKUP(A1549,'Correcties op staffel'!$A$5:$C$10,2)","v":0},{"$f":"VLOOKUP(A1549,'Correcties op staffel'!$A$5:$C$10,3)","v":0},20600,null,154600,20600,24926,null,154600,20600,24926]
[154700,20600,24926,{"$f":"VLOOKUP(A1550,'Correcties op staffel'!$A$5:$C$10,2)","v":0},{"$f":"VLOOKUP(A1550,'Correcties op staffel'!$A$5:$C$10,3)","v":0},20600,null,154700,20600,24926,null,154700,20600,24926]
[154800,20600,24926,{"$f":"VLOOKUP(A1551,'Correcties op staffel'!$A$5:$C$10,2)","v":0},{"$f":"VLOOKUP(A1551,'Correcties op staffel'!$A$5:$C$10,3)","v":0},20600,null,154800,20600,24926,null,154800,20600,24926]
[154900,20700,25047,{"$f":"VLOOKUP(A1552,'Correcties op staffel'!$A$5:$C$10,2)","v":0},{"$f":"VLOOKUP(A1552,'Correcties op staffel'!$A$5:$C$10,3)","v":0},20700,null,154900,20700,25047,null,154900,20700,25047]
[155000,20700,25047,{"$f":"VLOOKUP(A1553,'Correcties op staffel'!$A$5:$C$10,2)","v":0},{"$f":"VLOOKUP(A1553,'Correcties op staffel'!$A$5:$C$10,3)","v":0},20700,null,155000,20700,25047,null,155000,20700,25047]
[155100,20700,25047,{"$f":"VLOOKUP(A1554,'Correcties op staffel'!$A$5:$C$10,2)","v":0},{"$f":"VLOOKUP(A1554,'Correcties op staffel'!$A$5:$C$10,3)","v":0},20700,null,155100,20700,25047,null,155100,20700,25047]
[155200,20700,25047,{"$f":"VLOOKUP(A1555,'Correcties op staffel'!$A$5:$C$10,2)","v":0},{"$f":"VLOOKUP(A1555,'Correcties op staffel'!$A$5:$C$10,3)","v":0},20700,null,155200,20700,25047,null,155200,20700,25047]
[155300,20700,25047,{"$f":"VLOOKUP(A1556,'Correcties op staffel'!$A$5:$C$10,2)","v":0},{"$f":"VLOOKUP(A1556,'Correcties op staffel'!$A$5:$C$10,3)","v":0},20700,null,155300,20700,25047,null,155300,20700,25047]
[155400,20700,25047,{"$f":"VLOOKUP(A1557,'Correcties op staffel'!$A$5:$C$10,2)","v":0},{"$f":"VLOOKUP(A1557,'Correcties op staffel'!$A$5:$C$10,3)","v":0},20700,null,155400,20700,25047,null,155400,20700,25047]
[155500,20700,25047,{"$f":"VLOOKUP(A1558,'Correcties op staffel'!$A$5:$C$10,2)","v":0},{"$f":"VLOOKUP(A1558,'Correcties op staffel'!$A$5:$C$10,3)","v":0},20700,null,155500,20700,25047,null,155500,20700,25047]
[155600,20700,25047,{"$f":"VLOOKUP(A1559,'Correcties op staffel'!$A$5:$C$10,2)","v":0},{"$f":"VLOOKUP(A1559,'Correcties op staffel'!$A$5:$C$10,3)","v":0},20700,null,155600,20700,25047,null,155600,20700,25047]
[155700,20700,25047,{"$f":"VLOOKUP(A1560,'Correcties op staffel'!$A$5:$C$10,2)","v":0},{"$f":"VLOOKUP(A1560,'Correcties op staffel'!$A$5:$C$10,3)","v":0},20700,null,155700,20700,25047,null,155700,20700,25047]
[155800,20700,25047,{"$f":"VLOOKUP(A1561,'Correcties op staffel'!$A$5:$C$10,2)","v":0},{"$f":"VLOOKUP(A1561,'Correcties op staffel'!$A$5:$C$10,3)","v":0},20700,null,155800,20700,25047,null,155800,20700,25047]
[155900,20800,25168,{"$f":"VLOOKUP(A1562,'Correcties op staffel'!$A$5:$C$10,2)","v":0},{"$f":"VLOOKUP(A1562,'Correcties op staffel'!$A$5:$C$10,3)","v":0},20800,null,155900,20800,25168,null,155900,20800,25168]
[156000,20800,25168,{"$f":"VLOOKUP(A1563,'Correcties op staffel'!$A$5:$C$10,2)","v":0},{"$f":"VLOOKUP(A1563,'Correcties op staffel'!$A$5:$C$10,3)","v":0},20800,null,156000,20800,25168,null,156000,20800,25168]
[156100,20800,25168,{"$f":"VLOOKUP(A1564,'Correcties op staffel'!$A$5:$C$10,2)","v":0},{"$f":"VLOOKUP(A1564,'Correcties op staffel'!$A$5:$C$10,3)","v":0},20800,null,156100,20800,25168,null,156100,20800,25168]
[156200,20800,25168,{"$f":"VLOOKUP(A1565,'Correcties op staffel'!$A$5:$C$10,2)","v":0},{"$f":"VLOOKUP(A1565,'Correcties op staffel'!$A$5:$C$10,3)","v":0},20800,null,156200,20800,25168,null,156200,20800,25168]
[156300,20800,25168,{"$f":"VLOOKUP(A1566,'Correcties op staffel'!$A$5:$C$10,2)","v":0},{"$f":"VLOOKUP(A1566,'Correcties op staffel'!$A$5:$C$10,3)","v":0},20800,null,156300,20800,25168,null,156300,20800,25168]
[156400,20800,25168,{"$f":"VLOOKUP(A1567,'Correcties op staffel'!$A$5:$C$10,2)","v":0},{"$f":"VLOOKUP(A1567,'Correcties op staffel'!$A$5:$C$10,3)","v":0},20800,null,156400,20800,25168,null,156400,20800,25168]
[156500,20800,25168,{"$f":"VLOOKUP(A1568,'Correcties op staffel'!$A$5:$C$10,2)","v":0},{"$f":"VLOOKUP(A1568,'Correcties op staffel'!$A$5:$C$10,3)","v":0},20800,null,156500,20800,25168,null,156500,20800,25168]
[156600,20800,25168,{"$f":"VLOOKUP(A1569,'Correcties op staffel'!$A$5:$C$10,2)","v":0},{"$f":"VLOOKUP(A1569,'Correcties op staffel'!$A$5:$C$10,3)","v":0},20800,null,156600,20800,25168,null,156600,20800,25168]
[156700,20800,25168,{"$f":"VLOOKUP(A1570,'Correcties op staffel'!$A$5:$C$10,2)","v":0},{"$f":"VLOOKUP(A1570,'Correcties op staffel'!$A$5:$C$10,3)","v":0},20800,null,156700,20800,25168,null,156700,20800,25168]
[156800,20800,25168,{"$f":"VLOOKUP(A1571,'Correcties op staffel'!$A$5:$C$10,2)","v":0},{"$f":"VLOOKUP(A1571,'Correcties op staffel'!$A$5:$C$10,3)","v":0},20800,null,156800,20800,25168,null,156800,20800,25168]
[156900,20900,25289,{"$f":"VLOOKUP(A1572,'Correcties op staffel'!$A$5:$C$10,2)","v":0},{"$f":"VLOOKUP(A1572,'Correcties op staffel'!$A$5:$C$10,3)","v":0},20900,null,156900,20900,25289,null,156900,20900,25289]
[157000,20900,25289,{"$f":"VLOOKUP(A1573,'Correcties op staffel'!$A$5:$C$10,2)","v":0},{"$f":"VLOOKUP(A1573,'Correcties op staffel'!$A$5:$C$10,3)","v":0},20900,null,157000,20900,25289,null,157000,20900,25289]
[157100,20900,25289,{"$f":"VLOOKUP(A1574,'Correcties op staffel'!$A$5:$C$10,2)","v":0},{"$f":"VLOOKUP(A1574,'Correcties op staffel'!$A$5:$C$10,3)","v":0},20900,null,157100,20900,25289,null,157100,20900,25289]
[157200,20900,25289,{"$f":"VLOOKUP(A1575,'Correcties op staffel'!$A$5:$C$10,2)","v":0},{"$f":"VLOOKUP(A1575,'Correcties op staffel'!$A$5:$C$10,3)","v":0},20900,null,157200,20900,25289,null,157200,20900,25289]
[157300,20900,25289,{"$f":"VLOOKUP(A1576,'Correcties op staffel'!$A$5:$C$10,2)","v":0},{"$f":"VLOOKUP(A1576,'Correcties op staffel'!$A$5:$C$10,3)","v":0},20900,null,157300,20900,25289,null,157300,20900,25289]
[157400,20900,25289,{"$f":"VLOOKUP(A1577,'Correcties op staffel'!$A$5:$C$10,2)","v":0},{"$f":"VLOOKUP(A1577,'Correcties op staffel'!$A$5:$C$10,3)","v":0},20900,null,157400,20900,25289,null,157400,20900,25289]
[157500,20900,25289,{"$f":"VLOOKUP(A1578,'Correcties op staffel'!$A$5:$C$10,2)","v":0},{"$f":"VLOOKUP(A1578,'Correcties op staffel'!$A$5:$C$10,3)","v":0},20900,null,157500,20900,25289,null,157500,20900,25289]
[157600,20900,25289,{"$f":"VLOOKUP(A1579,'Correcties op staffel'!$A$5:$C$10,2)","v":0},{"$f":"VLOOKUP(A1579,'Correcties op staffel'!$A$5:$C$10,3)","v":0},20900,null,157600,20900,25289,null,157600,20900,25289]
[157700,20900,25289,{"$f":"VLOOKUP(A1580,'Correcties op staffel'!$A$5:$C$10,2)","v":0},{"$f":"VLOOKUP(A1580,'Correcties op staffel'!$A$5:$C$10,3)","v":0},20900,null,157700,20900,25289,null,157700,20900,25289]
[{"$f":"A1580+100","v":157800},20900,25289,{"$f":"VLOOKUP(A1581,'Correcties op staffel'!$A$5:$C$10,2)","v":0},{"$f":"VLOOKUP(A1581,'Correcties op staffel'!$A$5:$C$10,3)","v":0},20900,null,{"$f":"H1580+100","v":157800},20900,25289,null,157800,20900,25289]
[157900,21000,25410,{"$f":"VLOOKUP(A1582,'Correcties op staffel'!$A$5:$C$10,2)","v":0},{"$f":"VLOOKUP(A1582,'Correcties op staffel'!$A$5:$C$10,3)","v":0},21000,null,157900,21000,25410,null,157900,21000,25410]
[158000,21000,25410,{"$f":"VLOOKUP(A1583,'Correcties op staffel'!$A$5:$C$10,2)","v":0},{"$f":"VLOOKUP(A1583,'Correcties op staffel'!$A$5:$C$10,3)","v":0},21000,null,158000,21000,25410,null,158000,21000,25410]
[158100,21000,25410,{"$f":"VLOOKUP(A1584,'Correcties op staffel'!$A$5:$C$10,2)","v":0},{"$f":"VLOOKUP(A1584,'Correcties op staffel'!$A$5:$C$10,3)","v":0},21000,null,158100,21000,25410,null,158100,21000,25410]
[158200,21000,25410,{"$f":"VLOOKUP(A1585,'Correcties op staffel'!$A$5:$C$10,2)","v":0},{"$f":"VLOOKUP(A1585,'Correcties op staffel'!$A$5:$C$10,3)","v":0},21000,null,158200,21000,25410,null,158200,21000,25410]
[158300,21000,25410,{"$f":"VLOOKUP(A1586,'Correcties op staffel'!$A$5:$C$10,2)","v":0},{"$f":"VLOOKUP(A1586,'Correcties op staffel'!$A$5:$C$10,3)","v":0},21000,null,158300,21000,25410,null,158300,21000,25410]
[158400,21000,25410,{"$f":"VLOOKUP(A1587,'Correcties op staffel'!$A$5:$C$10,2)","v":0},{"$f":"VLOOKUP(A1587,'Correcties op staffel'!$A$5:$C$10,3)","v":0},21000,null,158400,21000,25410,null,158400,21000,25410]
[158500,21000,25410,{"$f":"VLOOKUP(A1588,'Correcties op staffel'!$A$5:$C$10,2)","v":0},{"$f":"VLOOKUP(A1588,'Correcties op staffel'!$A$5:$C$10,3)","v":0},21000,null,158500,21000,25410,null,158500,21000,25410]
[158600,21000,25410,{"$f":"VLOOKUP(A1589,'Correcties op staffel'!$A$5:$C$10,2)","v":0},{"$f":"VLOOKUP(A1589,'Correcties op staffel'!$A$5:$C$10,3)","v":0},21000,null,158600,21000,25410,null,158600,21000,25410]
[158700,21000,25410,{"$f":"VLOOKUP(A1590,'Correcties op staffel'!$A$5:$C$10,2)","v":0},{"$f":"VLOOKUP(A1590,'Correcties op staffel'!$A$5:$C$10,3)","v":0},21000,null,158700,21000,25410,null,158700,21000,25410]
[158800,21000,25410,{"$f":"VLOOKUP(A1591,'Correcties op staffel'!$A$5:$C$10,2)","v":0},{"$f":"VLOOKUP(A1591,'Correcties op staffel'!$A$5:$C$10,3)","v":0},21000,null,158800,21000,25410,null,158800,21000,25410]
[158900,21100,25531,{"$f":"VLOOKUP(A1592,'Correcties op staffel'!$A$5:$C$10,2)","v":0},{"$f":"VLOOKUP(A1592,'Correcties op staffel'!$A$5:$C$10,3)","v":0},21100,null,158900,21100,25531,null,158900,21100,25531]
[159000,21100,25531,{"$f":"VLOOKUP(A1593,'Correcties op staffel'!$A$5:$C$10,2)","v":0},{"$f":"VLOOKUP(A1593,'Correcties op staffel'!$A$5:$C$10,3)","v":0},21100,null,159000,21100,25531,null,159000,21100,25531]
[159100,21100,25531,{"$f":"VLOOKUP(A1594,'Correcties op staffel'!$A$5:$C$10,2)","v":0},{"$f":"VLOOKUP(A1594,'Correcties op staffel'!$A$5:$C$10,3)","v":0},21100,null,159100,21100,25531,null,159100,21100,25531]
[159200,21100,25531,{"$f":"VLOOKUP(A1595,'Correcties op staffel'!$A$5:$C$10,2)","v":0},{"$f":"VLOOKUP(A1595,'Correcties op staffel'!$A$5:$C$10,3)","v":0},21100,null,159200,21100,25531,null,159200,21100,25531]
[159300,21100,25531,{"$f":"VLOOKUP(A1596,'Correcties op staffel'!$A$5:$C$10,2)","v":0},{"$f":"VLOOKUP(A1596,'Correcties op staffel'!$A$5:$C$10,3)","v":0},21100,null,159300,21100,25531,null,159300,21100,25531]
[159400,21100,25531,{"$f":"VLOOKUP(A1597,'Correcties op staffel'!$A$5:$C$10,2)","v":0},{"$f":"VLOOKUP(A1597,'Correcties op staffel'!$A$5:$C$10,3)","v":0},21100,null,159400,21100,25531,null,159400,21100,25531]
[159500,21100,25531,{"$f":"VLOOKUP(A1598,'Correcties op staffel'!$A$5:$C$10,2)","v":0},{"$f":"VLOOKUP(A1598,'Correcties op staffel'!$A$5:$C$10,3)","v":0},21100,null,159500,21100,25531,null,159500,21100,25531]
[159600,21100,25531,{"$f":"VLOOKUP(A1599,'Correcties op staffel'!$A$5:$C$10,2)","v":0},{"$f":"VLOOKUP(A1599,'Correcties op staffel'!$A$5:$C$10,3)","v":0},21100,null,159600,21100,25531,null,159600,21100,25531]
[159700,21100,25531,{"$f":"VLOOKUP(A1600,'Correcties op staffel'!$A$5:$C$10,2)","v":0},{"$f":"VLOOKUP(A1600,'Correcties op staffel'!$A$5:$C$10,3)","v":0},21100,null,159700,21100,25531,null,159700,21100,25531]
[159800,21100,25531,{"$f":"VLOOKUP(A1601,'Correcties op staffel'!$A$5:$C$10,2)","v":0},{"$f":"VLOOKUP(A1601,'Correcties op staffel'!$A$5:$C$10,3)","v":0},21100,null,159800,21100,25531,null,159800,21100,25531]
[159900,21200,25652,{"$f":"VLOOKUP(A1602,'Correcties op staffel'!$A$5:$C$10,2)","v":0},{"$f":"VLOOKUP(A1602,'Correcties op staffel'!$A$5:$C$10,3)","v":0},21200,null,159900,21200,25652,null,159900,21200,25652]
[160000,21200,25652,{"$f":"VLOOKUP(A1603,'Correcties op staffel'!$A$5:$C$10,2)","v":0},{"$f":"VLOOKUP(A1603,'Correcties op staffel'!$A$5:$C$10,3)","v":0},21200,null,160000,21200,25652,null,160000,21200,25652]
[160100,21200,25652,{"$f":"VLOOKUP(A1604,'Correcties op staffel'!$A$5:$C$10,2)","v":0},{"$f":"VLOOKUP(A1604,'Correcties op staffel'!$A$5:$C$10,3)","v":0},{"$f":"B1604*(1+D1604)+E1604","v":21200},null,160100,{"$f":"ROUND(F1604,0)","v":21200},25652,null,160100,21200,25652]
[160200,21200,25652,{"$f":"VLOOKUP(A1605,'Correcties op staffel'!$A$5:$C$10,2)","v":0},{"$f":"VLOOKUP(A1605,'Correcties op staffel'!$A$5:$C$10,3)","v":0},21200,null,160200,21200,{"$f":"I1605*1.21","v":25652},null,160200,{"$f":"IF(ROUND(I1605/5,0)*5<I1605,ROUND(I1605/5,0)*5+5,ROUND(I1605/5,0)*5)","v":21200},{"$f":"M1605*1.21","v":25652}]
[160300,21200,25652,{"$f":"VLOOKUP(A1606,'Correcties op staffel'!$A$5:$C$10,2)","v":0},{"$f":"VLOOKUP(A1606,'Correcties op staffel'!$A$5:$C$10,3)","v":0},21200,null,160300,21200,25652,null,160300,21200,25652]
[160400,21200,25652,{"$f":"VLOOKUP(A1607,'Correcties op staffel'!$A$5:$C$10,2)","v":0},{"$f":"VLOOKUP(A1607,'Correcties op staffel'!$A$5:$C$10,3)","v":0},21200,null,160400,21200,25652,null,160400,21200,25652]
[160500,21200,25652,{"$f":"VLOOKUP(A1608,'Correcties op staffel'!$A$5:$C$10,2)","v":0},{"$f":"VLOOKUP(A1608,'Correcties op staffel'!$A$5:$C$10,3)","v":0},21200,null,160500,21200,25652,null,160500,21200,25652]
[160600,21200,25652,{"$f":"VLOOKUP(A1609,'Correcties op staffel'!$A$5:$C$10,2)","v":0},{"$f":"VLOOKUP(A1609,'Correcties op staffel'!$A$5:$C$10,3)","v":0},21200,null,160600,21200,25652,null,160600,21200,25652]
[160700,21200,25652,{"$f":"VLOOKUP(A1610,'Correcties op staffel'!$A$5:$C$10,2)","v":0},{"$f":"VLOOKUP(A1610,'Correcties op staffel'!$A$5:$C$10,3)","v":0},21200,null,160700,21200,25652,null,160700,21200,25652]
[160800,21200,25652,{"$f":"VLOOKUP(A1611,'Correcties op staffel'!$A$5:$C$10,2)","v":0},{"$f":"VLOOKUP(A1611,'Correcties op staffel'!$A$5:$C$10,3)","v":0},21200,null,160800,21200,25652,null,160800,21200,25652]
[160900,21300,25773,{"$f":"VLOOKUP(A1612,'Correcties op staffel'!$A$5:$C$10,2)","v":0},{"$f":"VLOOKUP(A1612,'Correcties op staffel'!$A$5:$C$10,3)","v":0},21300,null,160900,21300,25773,null,160900,21300,25773]
[161000,21300,25773,{"$f":"VLOOKUP(A1613,'Correcties op staffel'!$A$5:$C$10,2)","v":0},{"$f":"VLOOKUP(A1613,'Correcties op staffel'!$A$5:$C$10,3)","v":0},21300,null,161000,21300,25773,null,161000,21300,25773]
[161100,21300,25773,{"$f":"VLOOKUP(A1614,'Correcties op staffel'!$A$5:$C$10,2)","v":0},{"$f":"VLOOKUP(A1614,'Correcties op staffel'!$A$5:$C$10,3)","v":0},21300,null,161100,21300,25773,null,161100,21300,25773]
[161200,21300,25773,{"$f":"VLOOKUP(A1615,'Correcties op staffel'!$A$5:$C$10,2)","v":0},{"$f":"VLOOKUP(A1615,'Correcties op staffel'!$A$5:$C$10,3)","v":0},21300,null,161200,21300,25773,null,161200,21300,25773]
[161300,21300,25773,{"$f":"VLOOKUP(A1616,'Correcties op staffel'!$A$5:$C$10,2)","v":0},{"$f":"VLOOKUP(A1616,'Correcties op staffel'!$A$5:$C$10,3)","v":0},21300,null,161300,21300,25773,null,161300,21300,25773]
[161400,21300,25773,{"$f":"VLOOKUP(A1617,'Correcties op staffel'!$A$5:$C$10,2)","v":0},{"$f":"VLOOKUP(A1617,'Correcties op staffel'!$A$5:$C$10,3)","v":0},21300,null,161400,21300,25773,null,161400,21300,25773]
[161500,21300,25773,{"$f":"VLOOKUP(A1618,'Correcties op staffel'!$A$5:$C$10,2)","v":0},{"$f":"VLOOKUP(A1618,'Correcties op staffel'!$A$5:$C$10,3)","v":0},21300,null,161500,21300,25773,null,161500,21300,25773]
[161600,21300,25773,{"$f":"VLOOKUP(A1619,'Correcties op staffel'!$A$5:$C$10,2)","v":0},{"$f":"VLOOKUP(A1619,'Correcties op staffel'!$A$5:$C$10,3)","v":0},21300,null,161600,21300,25773,null,161600,21300,25773]
[161700,21300,25773,{"$f":"VLOOKUP(A1620,'Correcties op staffel'!$A$5:$C$10,2)","v":0},{"$f":"VLOOKUP(A1620,'Correcties op staffel'!$A$5:$C$10,3)","v":0},21300,null,161700,21300,25773,null,161700,21300,25773]
[161800,21300,25773,{"$f":"VLOOKUP(A1621,'Correcties op staffel'!$A$5:$C$10,2)","v":0},{"$f":"VLOOKUP(A1621,'Correcties op staffel'!$A$5:$C$10,3)","v":0},21300,null,161800,21300,25773,null,161800,21300,25773]
[161900,21300,25773,{"$f":"VLOOKUP(A1622,'Correcties op staffel'!$A$5:$C$10,2)","v":0},{"$f":"VLOOKUP(A1622,'Correcties op staffel'!$A$5:$C$10,3)","v":0},21300,null,161900,21300,25773,null,161900,21300,25773]
[162000,21400,25894,{"$f":"VLOOKUP(A1623,'Correcties op staffel'!$A$5:$C$10,2)","v":0},{"$f":"VLOOKUP(A1623,'Correcties op staffel'!$A$5:$C$10,3)","v":0},21400,null,162000,21400,25894,null,162000,21400,25894]
[162100,21400,25894,{"$f":"VLOOKUP(A1624,'Correcties op staffel'!$A$5:$C$10,2)","v":0},{"$f":"VLOOKUP(A1624,'Correcties op staffel'!$A$5:$C$10,3)","v":0},21400,null,162100,21400,25894,null,162100,21400,25894]
[162200,21400,25894,{"$f":"VLOOKUP(A1625,'Correcties op staffel'!$A$5:$C$10,2)","v":0},{"$f":"VLOOKUP(A1625,'Correcties op staffel'!$A$5:$C$10,3)","v":0},21400,null,162200,21400,25894,null,162200,21400,25894]
[162300,21400,25894,{"$f":"VLOOKUP(A1626,'Correcties op staffel'!$A$5:$C$10,2)","v":0},{"$f":"VLOOKUP(A1626,'Correcties op staffel'!$A$5:$C$10,3)","v":0},21400,null,162300,21400,25894,null,162300,21400,25894]
[162400,21400,25894,{"$f":"VLOOKUP(A1627,'Correcties op staffel'!$A$5:$C$10,2)","v":0},{"$f":"VLOOKUP(A1627,'Correcties op staffel'!$A$5:$C$10,3)","v":0},21400,null,162400,21400,25894,null,162400,21400,25894]
[162500,21400,25894,{"$f":"VLOOKUP(A1628,'Correcties op staffel'!$A$5:$C$10,2)","v":0},{"$f":"VLOOKUP(A1628,'Correcties op staffel'!$A$5:$C$10,3)","v":0},21400,null,162500,21400,25894,null,162500,21400,25894]
[162600,21400,25894,{"$f":"VLOOKUP(A1629,'Correcties op staffel'!$A$5:$C$10,2)","v":0},{"$f":"VLOOKUP(A1629,'Correcties op staffel'!$A$5:$C$10,3)","v":0},21400,null,162600,21400,25894,null,162600,21400,25894]
[162700,21400,25894,{"$f":"VLOOKUP(A1630,'Correcties op staffel'!$A$5:$C$10,2)","v":0},{"$f":"VLOOKUP(A1630,'Correcties op staffel'!$A$5:$C$10,3)","v":0},21400,null,162700,21400,25894,null,162700,21400,25894]
[162800,21400,25894,{"$f":"VLOOKUP(A1631,'Correcties op staffel'!$A$5:$C$10,2)","v":0},{"$f":"VLOOKUP(A1631,'Correcties op staffel'!$A$5:$C$10,3)","v":0},21400,null,162800,21400,25894,null,162800,21400,25894]
[162900,21400,25894,{"$f":"VLOOKUP(A1632,'Correcties op staffel'!$A$5:$C$10,2)","v":0},{"$f":"VLOOKUP(A1632,'Correcties op staffel'!$A$5:$C$10,3)","v":0},21400,null,162900,21400,25894,null,162900,21400,25894]
[163000,21500,26015,{"$f":"VLOOKUP(A1633,'Correcties op staffel'!$A$5:$C$10,2)","v":0},{"$f":"VLOOKUP(A1633,'Correcties op staffel'!$A$5:$C$10,3)","v":0},21500,null,163000,21500,26015,null,163000,21500,26015]
[163100,21500,26015,{"$f":"VLOOKUP(A1634,'Correcties op staffel'!$A$5:$C$10,2)","v":0},{"$f":"VLOOKUP(A1634,'Correcties op staffel'!$A$5:$C$10,3)","v":0},21500,null,163100,21500,26015,null,163100,21500,26015]
[163200,21500,26015,{"$f":"VLOOKUP(A1635,'Correcties op staffel'!$A$5:$C$10,2)","v":0},{"$f":"VLOOKUP(A1635,'Correcties op staffel'!$A$5:$C$10,3)","v":0},21500,null,163200,21500,26015,null,163200,21500,26015]
[163300,21500,26015,{"$f":"VLOOKUP(A1636,'Correcties op staffel'!$A$5:$C$10,2)","v":0},{"$f":"VLOOKUP(A1636,'Correcties op staffel'!$A$5:$C$10,3)","v":0},21500,null,163300,21500,26015,null,163300,21500,26015]
[163400,21500,26015,{"$f":"VLOOKUP(A1637,'Correcties op staffel'!$A$5:$C$10,2)","v":0},{"$f":"VLOOKUP(A1637,'Correcties op staffel'!$A$5:$C$10,3)","v":0},21500,null,163400,21500,26015,null,163400,21500,26015]
[163500,21500,26015,{"$f":"VLOOKUP(A1638,'Correcties op staffel'!$A$5:$C$10,2)","v":0},{"$f":"VLOOKUP(A1638,'Correcties op staffel'!$A$5:$C$10,3)","v":0},21500,null,163500,21500,26015,null,163500,21500,26015]
[163600,21500,26015,{"$f":"VLOOKUP(A1639,'Correcties op staffel'!$A$5:$C$10,2)","v":0},{"$f":"VLOOKUP(A1639,'Correcties op staffel'!$A$5:$C$10,3)","v":0},21500,null,163600,21500,26015,null,163600,21500,26015]
[163700,21500,26015,{"$f":"VLOOKUP(A1640,'Correcties op staffel'!$A$5:$C$10,2)","v":0},{"$f":"VLOOKUP(A1640,'Correcties op staffel'!$A$5:$C$10,3)","v":0},21500,null,163700,21500,26015,null,163700,21500,26015]
[163800,21500,26015,{"$f":"VLOOKUP(A1641,'Correcties op staffel'!$A$5:$C$10,2)","v":0},{"$f":"VLOOKUP(A1641,'Correcties op staffel'!$A$5:$C$10,3)","v":0},21500,null,163800,21500,26015,null,163800,21500,26015]
[163900,21500,26015,{"$f":"VLOOKUP(A1642,'Correcties op staffel'!$A$5:$C$10,2)","v":0},{"$f":"VLOOKUP(A1642,'Correcties op staffel'!$A$5:$C$10,3)","v":0},21500,null,163900,21500,26015,null,163900,21500,26015]
[164000,21600,26136,{"$f":"VLOOKUP(A1643,'Correcties op staffel'!$A$5:$C$10,2)","v":0},{"$f":"VLOOKUP(A1643,'Correcties op staffel'!$A$5:$C$10,3)","v":0},21600,null,164000,21600,26136,null,164000,21600,26136]
[164100,21600,26136,{"$f":"VLOOKUP(A1644,'Correcties op staffel'!$A$5:$C$10,2)","v":0},{"$f":"VLOOKUP(A1644,'Correcties op staffel'!$A$5:$C$10,3)","v":0},21600,null,164100,21600,26136,null,164100,21600,26136]
[{"$f":"A1644+100","v":164200},21600,26136,{"$f":"VLOOKUP(A1645,'Correcties op staffel'!$A$5:$C$10,2)","v":0},{"$f":"VLOOKUP(A1645,'Correcties op staffel'!$A$5:$C$10,3)","v":0},21600,null,{"$f":"H1644+100","v":164200},21600,26136,null,164200,21600,26136]
[164300,21600,26136,{"$f":"VLOOKUP(A1646,'Correcties op staffel'!$A$5:$C$10,2)","v":0},{"$f":"VLOOKUP(A1646,'Correcties op staffel'!$A$5:$C$10,3)","v":0},21600,null,164300,21600,26136,null,164300,21600,26136]
[164400,21600,26136,{"$f":"VLOOKUP(A1647,'Correcties op staffel'!$A$5:$C$10,2)","v":0},{"$f":"VLOOKUP(A1647,'Correcties op staffel'!$A$5:$C$10,3)","v":0},21600,null,164400,21600,26136,null,164400,21600,26136]
[164500,21600,26136,{"$f":"VLOOKUP(A1648,'Correcties op staffel'!$A$5:$C$10,2)","v":0},{"$f":"VLOOKUP(A1648,'Correcties op staffel'!$A$5:$C$10,3)","v":0},21600,null,164500,21600,26136,null,164500,21600,26136]
[164600,21600,26136,{"$f":"VLOOKUP(A1649,'Correcties op staffel'!$A$5:$C$10,2)","v":0},{"$f":"VLOOKUP(A1649,'Correcties op staffel'!$A$5:$C$10,3)","v":0},21600,null,164600,21600,26136,null,164600,21600,26136]
[164700,21600,26136,{"$f":"VLOOKUP(A1650,'Correcties op staffel'!$A$5:$C$10,2)","v":0},{"$f":"VLOOKUP(A1650,'Correcties op staffel'!$A$5:$C$10,3)","v":0},21600,null,164700,21600,26136,null,164700,21600,26136]
[164800,21600,26136,{"$f":"VLOOKUP(A1651,'Correcties op staffel'!$A$5:$C$10,2)","v":0},{"$f":"VLOOKUP(A1651,'Correcties op staffel'!$A$5:$C$10,3)","v":0},21600,null,164800,21600,26136,null,164800,21600,26136]
[164900,21600,26136,{"$f":"VLOOKUP(A1652,'Correcties op staffel'!$A$5:$C$10,2)","v":0},{"$f":"VLOOKUP(A1652,'Correcties op staffel'!$A$5:$C$10,3)","v":0},21600,null,164900,21600,26136,null,164900,21600,26136]
[165000,21700,26257,{"$f":"VLOOKUP(A1653,'Correcties op staffel'!$A$5:$C$10,2)","v":0},{"$f":"VLOOKUP(A1653,'Correcties op staffel'!$A$5:$C$10,3)","v":0},21700,null,165000,21700,26257,null,165000,21700,26257]
[165100,21700,26257,{"$f":"VLOOKUP(A1654,'Correcties op staffel'!$A$5:$C$10,2)","v":0},{"$f":"VLOOKUP(A1654,'Correcties op staffel'!$A$5:$C$10,3)","v":0},21700,null,165100,21700,26257,null,165100,21700,26257]
[165200,21700,26257,{"$f":"VLOOKUP(A1655,'Correcties op staffel'!$A$5:$C$10,2)","v":0},{"$f":"VLOOKUP(A1655,'Correcties op staffel'!$A$5:$C$10,3)","v":0},21700,null,165200,21700,26257,null,165200,21700,26257]
[165300,21700,26257,{"$f":"VLOOKUP(A1656,'Correcties op staffel'!$A$5:$C$10,2)","v":0},{"$f":"VLOOKUP(A1656,'Correcties op staffel'!$A$5:$C$10,3)","v":0},21700,null,165300,21700,26257,null,165300,21700,26257]
[165400,21700,26257,{"$f":"VLOOKUP(A1657,'Correcties op staffel'!$A$5:$C$10,2)","v":0},{"$f":"VLOOKUP(A1657,'Correcties op staffel'!$A$5:$C$10,3)","v":0},21700,null,165400,21700,26257,null,165400,21700,26257]
[165500,21700,26257,{"$f":"VLOOKUP(A1658,'Correcties op staffel'!$A$5:$C$10,2)","v":0},{"$f":"VLOOKUP(A1658,'Correcties op staffel'!$A$5:$C$10,3)","v":0},21700,null,165500,21700,26257,null,165500,21700,26257]
[165600,21700,26257,{"$f":"VLOOKUP(A1659,'Correcties op staffel'!$A$5:$C$10,2)","v":0},{"$f":"VLOOKUP(A1659,'Correcties op staffel'!$A$5:$C$10,3)","v":0},21700,null,165600,21700,26257,null,165600,21700,26257]
[165700,21700,26257,{"$f":"VLOOKUP(A1660,'Correcties op staffel'!$A$5:$C$10,2)","v":0},{"$f":"VLOOKUP(A1660,'Correcties op staffel'!$A$5:$C$10,3)","v":0},21700,null,165700,21700,26257,null,165700,21700,26257]
[165800,21700,26257,{"$f":"VLOOKUP(A1661,'Correcties op staffel'!$A$5:$C$10,2)","v":0},{"$f":"VLOOKUP(A1661,'Correcties op staffel'!$A$5:$C$10,3)","v":0},21700,null,165800,21700,26257,null,165800,21700,26257]
[165900,21700,26257,{"$f":"VLOOKUP(A1662,'Correcties op staffel'!$A$5:$C$10,2)","v":0},{"$f":"VLOOKUP(A1662,'Correcties op staffel'!$A$5:$C$10,3)","v":0},21700,null,165900,21700,26257,null,165900,21700,26257]
[166000,21800,26378,{"$f":"VLOOKUP(A1663,'Correcties op staffel'!$A$5:$C$10,2)","v":0},{"$f":"VLOOKUP(A1663,'Correcties op staffel'!$A$5:$C$10,3)","v":0},21800,null,166000,21800,26378,null,166000,21800,26378]
[166100,21800,26378,{"$f":"VLOOKUP(A1664,'Correcties op staffel'!$A$5:$C$10,2)","v":0},{"$f":"VLOOKUP(A1664,'Correcties op staffel'!$A$5:$C$10,3)","v":0},21800,null,166100,21800,26378,null,166100,21800,26378]
[166200,21800,26378,{"$f":"VLOOKUP(A1665,'Correcties op staffel'!$A$5:$C$10,2)","v":0},{"$f":"VLOOKUP(A1665,'Correcties op staffel'!$A$5:$C$10,3)","v":0},21800,null,166200,21800,26378,null,166200,21800,26378]
[166300,21800,26378,{"$f":"VLOOKUP(A1666,'Correcties op staffel'!$A$5:$C$10,2)","v":0},{"$f":"VLOOKUP(A1666,'Correcties op staffel'!$A$5:$C$10,3)","v":0},21800,null,166300,21800,26378,null,166300,21800,26378]
[166400,21800,26378,{"$f":"VLOOKUP(A1667,'Correcties op staffel'!$A$5:$C$10,2)","v":0},{"$f":"VLOOKUP(A1667,'Correcties op staffel'!$A$5:$C$10,3)","v":0},21800,null,166400,21800,26378,null,166400,21800,26378]
[166500,21800,26378,{"$f":"VLOOKUP(A1668,'Correcties op staffel'!$A$5:$C$10,2)","v":0},{"$f":"VLOOKUP(A1668,'Correcties op staffel'!$A$5:$C$10,3)","v":0},{"$f":"B1668*(1+D1668)+E1668","v":21800},null,166500,{"$f":"ROUND(F1668,0)","v":21800},26378,null,166500,21800,26378]
[166600,21800,26378,{"$f":"VLOOKUP(A1669,'Correcties op staffel'!$A$5:$C$10,2)","v":0},{"$f":"VLOOKUP(A1669,'Correcties op staffel'!$A$5:$C$10,3)","v":0},21800,null,166600,21800,{"$f":"I1669*1.21","v":26378},null,166600,{"$f":"IF(ROUND(I1669/5,0)*5<I1669,ROUND(I1669/5,0)*5+5,ROUND(I1669/5,0)*5)","v":21800},{"$f":"M1669*1.21","v":26378}]
[166700,21800,26378,{"$f":"VLOOKUP(A1670,'Correcties op staffel'!$A$5:$C$10,2)","v":0},{"$f":"VLOOKUP(A1670,'Correcties op staffel'!$A$5:$C$10,3)","v":0},21800,null,166700,21800,26378,null,166700,21800,26378]
[166800,21800,26378,{"$f":"VLOOKUP(A1671,'Correcties op staffel'!$A$5:$C$10,2)","v":0},{"$f":"VLOOKUP(A1671,'Correcties op staffel'!$A$5:$C$10,3)","v":0},21800,null,166800,21800,26378,null,166800,21800,26378]
[166900,21800,26378,{"$f":"VLOOKUP(A1672,'Correcties op staffel'!$A$5:$C$10,2)","v":0},{"$f":"VLOOKUP(A1672,'Correcties op staffel'!$A$5:$C$10,3)","v":0},21800,null,166900,21800,26378,null,166900,21800,26378]
[167000,21900,26499,{"$f":"VLOOKUP(A1673,'Correcties op staffel'!$A$5:$C$10,2)","v":0},{"$f":"VLOOKUP(A1673,'Correcties op staffel'!$A$5:$C$10,3)","v":0},21900,null,167000,21900,26499,null,167000,21900,26499]
[167100,21900,26499,{"$f":"VLOOKUP(A1674,'Correcties op staffel'!$A$5:$C$10,2)","v":0},{"$f":"VLOOKUP(A1674,'Correcties op staffel'!$A$5:$C$10,3)","v":0},21900,null,167100,21900,26499,null,167100,21900,26499]
[167200,21900,26499,{"$f":"VLOOKUP(A1675,'Correcties op staffel'!$A$5:$C$10,2)","v":0},{"$f":"VLOOKUP(A1675,'Correcties op staffel'!$A$5:$C$10,3)","v":0},21900,null,167200,21900,26499,null,167200,21900,26499]
[167300,21900,26499,{"$f":"VLOOKUP(A1676,'Correcties op staffel'!$A$5:$C$10,2)","v":0},{"$f":"VLOOKUP(A1676,'Correcties op staffel'!$A$5:$C$10,3)","v":0},21900,null,167300,21900,26499,null,167300,21900,26499]
[167400,21900,26499,{"$f":"VLOOKUP(A1677,'Correcties op staffel'!$A$5:$C$10,2)","v":0},{"$f":"VLOOKUP(A1677,'Correcties op staffel'!$A$5:$C$10,3)","v":0},21900,null,167400,21900,26499,null,167400,21900,26499]
[167500,21900,26499,{"$f":"VLOOKUP(A1678,'Correcties op staffel'!$A$5:$C$10,2)","v":0},{"$f":"VLOOKUP(A1678,'Correcties op staffel'!$A$5:$C$10,3)","v":0},21900,null,167500,21900,26499,null,167500,21900,26499]
[167600,21900,26499,{"$f":"VLOOKUP(A1679,'Correcties op staffel'!$A$5:$C$10,2)","v":0},{"$f":"VLOOKUP(A1679,'Correcties op staffel'!$A$5:$C$10,3)","v":0},21900,null,167600,21900,26499,null,167600,21900,26499]
[167700,21900,26499,{"$f":"VLOOKUP(A1680,'Correcties op staffel'!$A$5:$C$10,2)","v":0},{"$f":"VLOOKUP(A1680,'Correcties op staffel'!$A$5:$C$10,3)","v":0},21900,null,167700,21900,26499,null,167700,21900,26499]
[167800,21900,26499,{"$f":"VLOOKUP(A1681,'Correcties op staffel'!$A$5:$C$10,2)","v":0},{"$f":"VLOOKUP(A1681,'Correcties op staffel'!$A$5:$C$10,3)","v":0},21900,null,167800,21900,26499,null,167800,21900,26499]
[167900,21900,26499,{"$f":"VLOOKUP(A1682,'Correcties op staffel'!$A$5:$C$10,2)","v":0},{"$f":"VLOOKUP(A1682,'Correcties op staffel'!$A$5:$C$10,3)","v":0},21900,null,167900,21900,26499,null,167900,21900,26499]
[168000,21900,26499,{"$f":"VLOOKUP(A1683,'Correcties op staffel'!$A$5:$C$10,2)","v":0},{"$f":"VLOOKUP(A1683,'Correcties op staffel'!$A$5:$C$10,3)","v":0},21900,null,168000,21900,26499,null,168000,21900,26499]
[168100,22000,26620,{"$f":"VLOOKUP(A1684,'Correcties op staffel'!$A$5:$C$10,2)","v":0},{"$f":"VLOOKUP(A1684,'Correcties op staffel'!$A$5:$C$10,3)","v":0},22000,null,168100,22000,26620,null,168100,22000,26620]
[168200,22000,26620,{"$f":"VLOOKUP(A1685,'Correcties op staffel'!$A$5:$C$10,2)","v":0},{"$f":"VLOOKUP(A1685,'Correcties op staffel'!$A$5:$C$10,3)","v":0},22000,null,168200,22000,26620,null,168200,22000,26620]
[168300,22000,26620,{"$f":"VLOOKUP(A1686,'Correcties op staffel'!$A$5:$C$10,2)","v":0},{"$f":"VLOOKUP(A1686,'Correcties op staffel'!$A$5:$C$10,3)","v":0},22000,null,168300,22000,26620,null,168300,22000,26620]
[168400,22000,26620,{"$f":"VLOOKUP(A1687,'Correcties op staffel'!$A$5:$C$10,2)","v":0},{"$f":"VLOOKUP(A1687,'Correcties op staffel'!$A$5:$C$10,3)","v":0},22000,null,168400,22000,26620,null,168400,22000,26620]
[168500,22000,26620,{"$f":"VLOOKUP(A1688,'Correcties op staffel'!$A$5:$C$10,2)","v":0},{"$f":"VLOOKUP(A1688,'Correcties op staffel'!$A$5:$C$10,3)","v":0},22000,null,168500,22000,26620,null,168500,22000,26620]
[168600,22000,26620,{"$f":"VLOOKUP(A1689,'Correcties op staffel'!$A$5:$C$10,2)","v":0},{"$f":"VLOOKUP(A1689,'Correcties op staffel'!$A$5:$C$10,3)","v":0},22000,null,168600,22000,26620,null,168600,22000,26620]
[168700,22000,26620,{"$f":"VLOOKUP(A1690,'Correcties op staffel'!$A$5:$C$10,2)","v":0},{"$f":"VLOOKUP(A1690,'Correcties op staffel'!$A$5:$C$10,3)","v":0},22000,null,168700,22000,26620,null,168700,22000,26620]
[168800,22000,26620,{"$f":"VLOOKUP(A1691,'Correcties op staffel'!$A$5:$C$10,2)","v":0},{"$f":"VLOOKUP(A1691,'Correcties op staffel'!$A$5:$C$10,3)","v":0},22000,null,168800,22000,26620,null,168800,22000,26620]
[168900,22000,26620,{"$f":"VLOOKUP(A1692,'Correcties op staffel'!$A$5:$C$10,2)","v":0},{"$f":"VLOOKUP(A1692,'Correcties op staffel'!$A$5:$C$10,3)","v":0},22000,null,168900,22000,26620,null,168900,22000,26620]
[169000,22000,26620,{"$f":"VLOOKUP(A1693,'Correcties op staffel'!$A$5:$C$10,2)","v":0},{"$f":"VLOOKUP(A1693,'Correcties op staffel'!$A$5:$C$10,3)","v":0},22000,null,169000,22000,26620,null,169000,22000,26620]
[169100,22100,26741,{"$f":"VLOOKUP(A1694,'Correcties op staffel'!$A$5:$C$10,2)","v":0},{"$f":"VLOOKUP(A1694,'Correcties op staffel'!$A$5:$C$10,3)","v":0},22100,null,169100,22100,26741,null,169100,22100,26741]
[169200,22100,26741,{"$f":"VLOOKUP(A1695,'Correcties op staffel'!$A$5:$C$10,2)","v":0},{"$f":"VLOOKUP(A1695,'Correcties op staffel'!$A$5:$C$10,3)","v":0},22100,null,169200,22100,26741,null,169200,22100,26741]
[169300,22100,26741,{"$f":"VLOOKUP(A1696,'Correcties op staffel'!$A$5:$C$10,2)","v":0},{"$f":"VLOOKUP(A1696,'Correcties op staffel'!$A$5:$C$10,3)","v":0},22100,null,169300,22100,26741,null,169300,22100,26741]
[169400,22100,26741,{"$f":"VLOOKUP(A1697,'Correcties op staffel'!$A$5:$C$10,2)","v":0},{"$f":"VLOOKUP(A1697,'Correcties op staffel'!$A$5:$C$10,3)","v":0},22100,null,169400,22100,26741,null,169400,22100,26741]
[169500,22100,26741,{"$f":"VLOOKUP(A1698,'Correcties op staffel'!$A$5:$C$10,2)","v":0},{"$f":"VLOOKUP(A1698,'Correcties op staffel'!$A$5:$C$10,3)","v":0},22100,null,169500,22100,26741,null,169500,22100,26741]
[169600,22100,26741,{"$f":"VLOOKUP(A1699,'Correcties op staffel'!$A$5:$C$10,2)","v":0},{"$f":"VLOOKUP(A1699,'Correcties op staffel'!$A$5:$C$10,3)","v":0},22100,null,169600,22100,26741,null,169600,22100,26741]
[169700,22100,26741,{"$f":"VLOOKUP(A1700,'Correcties op staffel'!$A$5:$C$10,2)","v":0},{"$f":"VLOOKUP(A1700,'Correcties op staffel'!$A$5:$C$10,3)","v":0},22100,null,169700,22100,26741,null,169700,22100,26741]
[169800,22100,26741,{"$f":"VLOOKUP(A1701,'Correcties op staffel'!$A$5:$C$10,2)","v":0},{"$f":"VLOOKUP(A1701,'Correcties op staffel'!$A$5:$C$10,3)","v":0},22100,null,169800,22100,26741,null,169800,22100,26741]
[169900,22100,26741,{"$f":"VLOOKUP(A1702,'Correcties op staffel'!$A$5:$C$10,2)","v":0},{"$f":"VLOOKUP(A1702,'Correcties op staffel'!$A$5:$C$10,3)","v":0},22100,null,169900,22100,26741,null,169900,22100,26741]
[170000,22100,26741,{"$f":"VLOOKUP(A1703,'Correcties op staffel'!$A$5:$C$10,2)","v":0},{"$f":"VLOOKUP(A1703,'Correcties op staffel'!$A$5:$C$10,3)","v":0},22100,null,170000,22100,26741,null,170000,22100,26741]
[170100,22200,26862,{"$f":"VLOOKUP(A1704,'Correcties op staffel'!$A$5:$C$10,2)","v":0},{"$f":"VLOOKUP(A1704,'Correcties op staffel'!$A$5:$C$10,3)","v":0},22200,null,170100,22200,26862,null,170100,22200,26862]
[170200,22200,26862,{"$f":"VLOOKUP(A1705,'Correcties op staffel'!$A$5:$C$10,2)","v":0},{"$f":"VLOOKUP(A1705,'Correcties op staffel'!$A$5:$C$10,3)","v":0},22200,null,170200,22200,26862,null,170200,22200,26862]
[170300,22200,26862,{"$f":"VLOOKUP(A1706,'Correcties op staffel'!$A$5:$C$10,2)","v":0},{"$f":"VLOOKUP(A1706,'Correcties op staffel'!$A$5:$C$10,3)","v":0},22200,null,170300,22200,26862,null,170300,22200,26862]
[170400,22200,26862,{"$f":"VLOOKUP(A1707,'Correcties op staffel'!$A$5:$C$10,2)","v":0},{"$f":"VLOOKUP(A1707,'Correcties op staffel'!$A$5:$C$10,3)","v":0},22200,null,170400,22200,26862,null,170400,22200,26862]
[170500,22200,26862,{"$f":"VLOOKUP(A1708,'Correcties op staffel'!$A$5:$C$10,2)","v":0},{"$f":"VLOOKUP(A1708,'Correcties op staffel'!$A$5:$C$10,3)","v":0},22200,null,170500,22200,26862,null,170500,22200,26862]
[{"$f":"A1708+100","v":170600},22200,26862,{"$f":"VLOOKUP(A1709,'Correcties op staffel'!$A$5:$C$10,2)","v":0},{"$f":"VLOOKUP(A1709,'Correcties op staffel'!$A$5:$C$10,3)","v":0},22200,null,{"$f":"H1708+100","v":170600},22200,26862,null,170600,22200,26862]
[170700,22200,26862,{"$f":"VLOOKUP(A1710,'Correcties op staffel'!$A$5:$C$10,2)","v":0},{"$f":"VLOOKUP(A1710,'Correcties op staffel'!$A$5:$C$10,3)","v":0},22200,null,170700,22200,26862,null,170700,22200,26862]
[170800,22200,26862,{"$f":"VLOOKUP(A1711,'Correcties op staffel'!$A$5:$C$10,2)","v":0},{"$f":"VLOOKUP(A1711,'Correcties op staffel'!$A$5:$C$10,3)","v":0},22200,null,170800,22200,26862,null,170800,22200,26862]
[170900,22200,26862,{"$f":"VLOOKUP(A1712,'Correcties op staffel'!$A$5:$C$10,2)","v":0},{"$f":"VLOOKUP(A1712,'Correcties op staffel'!$A$5:$C$10,3)","v":0},22200,null,170900,22200,26862,null,170900,22200,26862]
[171000,22200,26862,{"$f":"VLOOKUP(A1713,'Correcties op staffel'!$A$5:$C$10,2)","v":0},{"$f":"VLOOKUP(A1713,'Correcties op staffel'!$A$5:$C$10,3)","v":0},22200,null,171000,22200,26862,null,171000,22200,26862]
[171100,22300,26983,{"$f":"VLOOKUP(A1714,'Correcties op staffel'!$A$5:$C$10,2)","v":0},{"$f":"VLOOKUP(A1714,'Correcties op staffel'!$A$5:$C$10,3)","v":0},22300,null,171100,22300,26983,null,171100,22300,26983]
[171200,22300,26983,{"$f":"VLOOKUP(A1715,'Correcties op staffel'!$A$5:$C$10,2)","v":0},{"$f":"VLOOKUP(A1715,'Correcties op staffel'!$A$5:$C$10,3)","v":0},22300,null,171200,22300,26983,null,171200,22300,26983]
[171300,22300,26983,{"$f":"VLOOKUP(A1716,'Correcties op staffel'!$A$5:$C$10,2)","v":0},{"$f":"VLOOKUP(A1716,'Correcties op staffel'!$A$5:$C$10,3)","v":0},22300,null,171300,22300,26983,null,171300,22300,26983]
[171400,22300,26983,{"$f":"VLOOKUP(A1717,'Correcties op staffel'!$A$5:$C$10,2)","v":0},{"$f":"VLOOKUP(A1717,'Correcties op staffel'!$A$5:$C$10,3)","v":0},22300,null,171400,22300,26983,null,171400,22300,26983]
[171500,22300,26983,{"$f":"VLOOKUP(A1718,'Correcties op staffel'!$A$5:$C$10,2)","v":0},{"$f":"VLOOKUP(A1718,'Correcties op staffel'!$A$5:$C$10,3)","v":0},22300,null,171500,22300,26983,null,171500,22300,26983]
[171600,22300,26983,{"$f":"VLOOKUP(A1719,'Correcties op staffel'!$A$5:$C$10,2)","v":0},{"$f":"VLOOKUP(A1719,'Correcties op staffel'!$A$5:$C$10,3)","v":0},22300,null,171600,22300,26983,null,171600,22300,26983]
[171700,22300,26983,{"$f":"VLOOKUP(A1720,'Correcties op staffel'!$A$5:$C$10,2)","v":0},{"$f":"VLOOKUP(A1720,'Correcties op staffel'!$A$5:$C$10,3)","v":0},22300,null,171700,22300,26983,null,171700,22300,26983]
[171800,22300,26983,{"$f":"VLOOKUP(A1721,'Correcties op staffel'!$A$5:$C$10,2)","v":0},{"$f":"VLOOKUP(A1721,'Correcties op staffel'!$A$5:$C$10,3)","v":0},22300,null,171800,22300,26983,null,171800,22300,26983]
[171900,22300,26983,{"$f":"VLOOKUP(A1722,'Correcties op staffel'!$A$5:$C$10,2)","v":0},{"$f":"VLOOKUP(A1722,'Correcties op staffel'!$A$5:$C$10,3)","v":0},22300,null,171900,22300,26983,null,171900,22300,26983]
[172000,22300,26983,{"$f":"VLOOKUP(A1723,'Correcties op staffel'!$A$5:$C$10,2)","v":0},{"$f":"VLOOKUP(A1723,'Correcties op staffel'!$A$5:$C$10,3)","v":0},22300,null,172000,22300,26983,null,172000,22300,26983]
[172100,22400,27104,{"$f":"VLOOKUP(A1724,'Correcties op staffel'!$A$5:$C$10,2)","v":0},{"$f":"VLOOKUP(A1724,'Correcties op staffel'!$A$5:$C$10,3)","v":0},22400,null,172100,22400,27104,null,172100,22400,27104]
[172200,22400,27104,{"$f":"VLOOKUP(A1725,'Correcties op staffel'!$A$5:$C$10,2)","v":0},{"$f":"VLOOKUP(A1725,'Correcties op staffel'!$A$5:$C$10,3)","v":0},22400,null,172200,22400,27104,null,172200,22400,27104]
[172300,22400,27104,{"$f":"VLOOKUP(A1726,'Correcties op staffel'!$A$5:$C$10,2)","v":0},{"$f":"VLOOKUP(A1726,'Correcties op staffel'!$A$5:$C$10,3)","v":0},22400,null,172300,22400,27104,null,172300,22400,27104]
[172400,22400,27104,{"$f":"VLOOKUP(A1727,'Correcties op staffel'!$A$5:$C$10,2)","v":0},{"$f":"VLOOKUP(A1727,'Correcties op staffel'!$A$5:$C$10,3)","v":0},22400,null,172400,22400,27104,null,172400,22400,27104]
[172500,22400,27104,{"$f":"VLOOKUP(A1728,'Correcties op staffel'!$A$5:$C$10,2)","v":0},{"$f":"VLOOKUP(A1728,'Correcties op staffel'!$A$5:$C$10,3)","v":0},22400,null,172500,22400,27104,null,172500,22400,27104]
[172600,22400,27104,{"$f":"VLOOKUP(A1729,'Correcties op staffel'!$A$5:$C$10,2)","v":0},{"$f":"VLOOKUP(A1729,'Correcties op staffel'!$A$5:$C$10,3)","v":0},22400,null,172600,22400,27104,null,172600,22400,27104]
[172700,22400,27104,{"$f":"VLOOKUP(A1730,'Correcties op staffel'!$A$5:$C$10,2)","v":0},{"$f":"VLOOKUP(A1730,'Correcties op staffel'!$A$5:$C$10,3)","v":0},22400,null,172700,22400,27104,null,172700,22400,27104]
[172800,22400,27104,{"$f":"VLOOKUP(A1731,'Correcties op staffel'!$A$5:$C$10,2)","v":0},{"$f":"VLOOKUP(A1731,'Correcties op staffel'!$A$5:$C$10,3)","v":0},22400,null,172800,22400,27104,null,172800,22400,27104]
[172900,22400,27104,{"$f":"VLOOKUP(A1732,'Correcties op staffel'!$A$5:$C$10,2)","v":0},{"$f":"VLOOKUP(A1732,'Correcties op staffel'!$A$5:$C$10,3)","v":0},{"$f":"B1732*(1+D1732)+E1732","v":22400},null,172900,{"$f":"ROUND(F1732,0)","v":22400},27104,null,172900,22400,27104]
[173000,22400,27104,{"$f":"VLOOKUP(A1733,'Correcties op staffel'!$A$5:$C$10,2)","v":0},{"$f":"VLOOKUP(A1733,'Correcties op staffel'!$A$5:$C$10,3)","v":0},22400,null,173000,22400,{"$f":"I1733*1.21","v":27104},null,173000,{"$f":"IF(ROUND(I1733/5,0)*5<I1733,ROUND(I1733/5,0)*5+5,ROUND(I1733/5,0)*5)","v":22400},{"$f":"M1733*1.21","v":27104}]
[173100,22500,27225,{"$f":"VLOOKUP(A1734,'Correcties op staffel'!$A$5:$C$10,2)","v":0},{"$f":"VLOOKUP(A1734,'Correcties op staffel'!$A$5:$C$10,3)","v":0},22500,null,173100,22500,27225,null,173100,22500,27225]
[173200,22500,27225,{"$f":"VLOOKUP(A1735,'Correcties op staffel'!$A$5:$C$10,2)","v":0},{"$f":"VLOOKUP(A1735,'Correcties op staffel'!$A$5:$C$10,3)","v":0},22500,null,173200,22500,27225,null,173200,22500,27225]
[173300,22500,27225,{"$f":"VLOOKUP(A1736,'Correcties op staffel'!$A$5:$C$10,2)","v":0},{"$f":"VLOOKUP(A1736,'Correcties op staffel'!$A$5:$C$10,3)","v":0},22500,null,173300,22500,27225,null,173300,22500,27225]
[173400,22500,27225,{"$f":"VLOOKUP(A1737,'Correcties op staffel'!$A$5:$C$10,2)","v":0},{"$f":"VLOOKUP(A1737,'Correcties op staffel'!$A$5:$C$10,3)","v":0},22500,null,173400,22500,27225,null,173400,22500,27225]
[173500,22500,27225,{"$f":"VLOOKUP(A1738,'Correcties op staffel'!$A$5:$C$10,2)","v":0},{"$f":"VLOOKUP(A1738,'Correcties op staffel'!$A$5:$C$10,3)","v":0},22500,null,173500,22500,27225,null,173500,22500,27225]
[173600,22500,27225,{"$f":"VLOOKUP(A1739,'Correcties op staffel'!$A$5:$C$10,2)","v":0},{"$f":"VLOOKUP(A1739,'Correcties op staffel'!$A$5:$C$10,3)","v":0},22500,null,173600,22500,27225,null,173600,22500,27225]
[173700,22500,27225,{"$f":"VLOOKUP(A1740,'Correcties op staffel'!$A$5:$C$10,2)","v":0},{"$f":"VLOOKUP(A1740,'Correcties op staffel'!$A$5:$C$10,3)","v":0},22500,null,173700,22500,27225,null,173700,22500,27225]
[173800,22500,27225,{"$f":"VLOOKUP(A1741,'Correcties op staffel'!$A$5:$C$10,2)","v":0},{"$f":"VLOOKUP(A1741,'Correcties op staffel'!$A$5:$C$10,3)","v":0},22500,null,173800,22500,27225,null,173800,22500,27225]
[173900,22500,27225,{"$f":"VLOOKUP(A1742,'Correcties op staffel'!$A$5:$C$10,2)","v":0},{"$f":"VLOOKUP(A1742,'Correcties op staffel'!$A$5:$C$10,3)","v":0},22500,null,173900,22500,27225,null,173900,22500,27225]
[174000,22500,27225,{"$f":"VLOOKUP(A1743,'Correcties op staffel'!$A$5:$C$10,2)","v":0},{"$f":"VLOOKUP(A1743,'Correcties op staffel'!$A$5:$C$10,3)","v":0},22500,null,174000,22500,27225,null,174000,22500,27225]
[174100,22600,27346,{"$f":"VLOOKUP(A1744,'Correcties op staffel'!$A$5:$C$10,2)","v":0},{"$f":"VLOOKUP(A1744,'Correcties op staffel'!$A$5:$C$10,3)","v":0},22600,null,174100,22600,27346,null,174100,22600,27346]
[174200,22600,27346,{"$f":"VLOOKUP(A1745,'Correcties op staffel'!$A$5:$C$10,2)","v":0},{"$f":"VLOOKUP(A1745,'Correcties op staffel'!$A$5:$C$10,3)","v":0},22600,null,174200,22600,27346,null,174200,22600,27346]
[174300,22600,27346,{"$f":"VLOOKUP(A1746,'Correcties op staffel'!$A$5:$C$10,2)","v":0},{"$f":"VLOOKUP(A1746,'Correcties op staffel'!$A$5:$C$10,3)","v":0},22600,null,174300,22600,27346,null,174300,22600,27346]
[174400,22600,27346,{"$f":"VLOOKUP(A1747,'Correcties op staffel'!$A$5:$C$10,2)","v":0},{"$f":"VLOOKUP(A1747,'Correcties op staffel'!$A$5:$C$10,3)","v":0},22600,null,174400,22600,27346,null,174400,22600,27346]
[174500,22600,27346,{"$f":"VLOOKUP(A1748,'Correcties op staffel'!$A$5:$C$10,2)","v":0},{"$f":"VLOOKUP(A1748,'Correcties op staffel'!$A$5:$C$10,3)","v":0},22600,null,174500,22600,27346,null,174500,22600,27346]
[174600,22600,27346,{"$f":"VLOOKUP(A1749,'Correcties op staffel'!$A$5:$C$10,2)","v":0},{"$f":"VLOOKUP(A1749,'Correcties op staffel'!$A$5:$C$10,3)","v":0},22600,null,174600,22600,27346,null,174600,22600,27346]
[174700,22600,27346,{"$f":"VLOOKUP(A1750,'Correcties op staffel'!$A$5:$C$10,2)","v":0},{"$f":"VLOOKUP(A1750,'Correcties op staffel'!$A$5:$C$10,3)","v":0},22600,null,174700,22600,27346,null,174700,22600,27346]
[174800,22600,27346,{"$f":"VLOOKUP(A1751,'Correcties op staffel'!$A$5:$C$10,2)","v":0},{"$f":"VLOOKUP(A1751,'Correcties op staffel'!$A$5:$C$10,3)","v":0},22600,null,174800,22600,27346,null,174800,22600,27346]
[174900,22600,27346,{"$f":"VLOOKUP(A1752,'Correcties op staffel'!$A$5:$C$10,2)","v":0},{"$f":"VLOOKUP(A1752,'Correcties op staffel'!$A$5:$C$10,3)","v":0},22600,null,174900,22600,27346,null,174900,22600,27346]
[175000,22600,27346,{"$f":"VLOOKUP(A1753,'Correcties op staffel'!$A$5:$C$10,2)","v":0},{"$f":"VLOOKUP(A1753,'Correcties op staffel'!$A$5:$C$10,3)","v":0},22600,null,175000,22600,27346,null,175000,22600,27346]
[175100,22600,27346,{"$f":"VLOOKUP(A1754,'Correcties op staffel'!$A$5:$C$10,2)","v":0},{"$f":"VLOOKUP(A1754,'Correcties op staffel'!$A$5:$C$10,3)","v":0},22600,null,175100,22600,27346,null,175100,22600,27346]
[175200,22700,27467,{"$f":"VLOOKUP(A1755,'Correcties op staffel'!$A$5:$C$10,2)","v":0},{"$f":"VLOOKUP(A1755,'Correcties op staffel'!$A$5:$C$10,3)","v":0},22700,null,175200,22700,27467,null,175200,22700,27467]
[175300,22700,27467,{"$f":"VLOOKUP(A1756,'Correcties op staffel'!$A$5:$C$10,2)","v":0},{"$f":"VLOOKUP(A1756,'Correcties op staffel'!$A$5:$C$10,3)","v":0},22700,null,175300,22700,27467,null,175300,22700,27467]
[175400,22700,27467,{"$f":"VLOOKUP(A1757,'Correcties op staffel'!$A$5:$C$10,2)","v":0},{"$f":"VLOOKUP(A1757,'Correcties op staffel'!$A$5:$C$10,3)","v":0},22700,null,175400,22700,27467,null,175400,22700,27467]
[175500,22700,27467,{"$f":"VLOOKUP(A1758,'Correcties op staffel'!$A$5:$C$10,2)","v":0},{"$f":"VLOOKUP(A1758,'Correcties op staffel'!$A$5:$C$10,3)","v":0},22700,null,175500,22700,27467,null,175500,22700,27467]
[175600,22700,27467,{"$f":"VLOOKUP(A1759,'Correcties op staffel'!$A$5:$C$10,2)","v":0},{"$f":"VLOOKUP(A1759,'Correcties op staffel'!$A$5:$C$10,3)","v":0},22700,null,175600,22700,27467,null,175600,22700,27467]
[175700,22700,27467,{"$f":"VLOOKUP(A1760,'Correcties op staffel'!$A$5:$C$10,2)","v":0},{"$f":"VLOOKUP(A1760,'Correcties op staffel'!$A$5:$C$10,3)","v":0},22700,null,175700,22700,27467,null,175700,22700,27467]
[175800,22700,27467,{"$f":"VLOOKUP(A1761,'Correcties op staffel'!$A$5:$C$10,2)","v":0},{"$f":"VLOOKUP(A1761,'Correcties op staffel'!$A$5:$C$10,3)","v":0},22700,null,175800,22700,27467,null,175800,22700,27467]
[175900,22700,27467,{"$f":"VLOOKUP(A1762,'Correcties op staffel'!$A$5:$C$10,2)","v":0},{"$f":"VLOOKUP(A1762,'Correcties op staffel'!$A$5:$C$10,3)","v":0},22700,null,175900,22700,27467,null,175900,22700,27467]
[176000,22700,27467,{"$f":"VLOOKUP(A1763,'Correcties op staffel'!$A$5:$C$10,2)","v":0},{"$f":"VLOOKUP(A1763,'Correcties op staffel'!$A$5:$C$10,3)","v":0},22700,null,176000,22700,27467,null,176000,22700,27467]
[176100,22700,27467,{"$f":"VLOOKUP(A1764,'Correcties op staffel'!$A$5:$C$10,2)","v":0},{"$f":"VLOOKUP(A1764,'Correcties op staffel'!$A$5:$C$10,3)","v":0},22700,null,176100,22700,27467,null,176100,22700,27467]
[176200,22800,27588,{"$f":"VLOOKUP(A1765,'Correcties op staffel'!$A$5:$C$10,2)","v":0},{"$f":"VLOOKUP(A1765,'Correcties op staffel'!$A$5:$C$10,3)","v":0},22800,null,176200,22800,27588,null,176200,22800,27588]
[176300,22800,27588,{"$f":"VLOOKUP(A1766,'Correcties op staffel'!$A$5:$C$10,2)","v":0},{"$f":"VLOOKUP(A1766,'Correcties op staffel'!$A$5:$C$10,3)","v":0},22800,null,176300,22800,27588,null,176300,22800,27588]
[176400,22800,27588,{"$f":"VLOOKUP(A1767,'Correcties op staffel'!$A$5:$C$10,2)","v":0},{"$f":"VLOOKUP(A1767,'Correcties op staffel'!$A$5:$C$10,3)","v":0},22800,null,176400,22800,27588,null,176400,22800,27588]
[176500,22800,27588,{"$f":"VLOOKUP(A1768,'Correcties op staffel'!$A$5:$C$10,2)","v":0},{"$f":"VLOOKUP(A1768,'Correcties op staffel'!$A$5:$C$10,3)","v":0},22800,null,176500,22800,27588,null,176500,22800,27588]
[176600,22800,27588,{"$f":"VLOOKUP(A1769,'Correcties op staffel'!$A$5:$C$10,2)","v":0},{"$f":"VLOOKUP(A1769,'Correcties op staffel'!$A$5:$C$10,3)","v":0},22800,null,176600,22800,27588,null,176600,22800,27588]
[176700,22800,27588,{"$f":"VLOOKUP(A1770,'Correcties op staffel'!$A$5:$C$10,2)","v":0},{"$f":"VLOOKUP(A1770,'Correcties op staffel'!$A$5:$C$10,3)","v":0},22800,null,176700,22800,27588,null,176700,22800,27588]
[176800,22800,27588,{"$f":"VLOOKUP(A1771,'Correcties op staffel'!$A$5:$C$10,2)","v":0},{"$f":"VLOOKUP(A1771,'Correcties op staffel'!$A$5:$C$10,3)","v":0},22800,null,176800,22800,27588,null,176800,22800,27588]
[176900,22800,27588,{"$f":"VLOOKUP(A1772,'Correcties op staffel'!$A$5:$C$10,2)","v":0},{"$f":"VLOOKUP(A1772,'Correcties op staffel'!$A$5:$C$10,3)","v":0},22800,null,176900,22800,27588,null,176900,22800,27588]
[{"$f":"A1772+100","v":177000},22800,27588,{"$f":"VLOOKUP(A1773,'Correcties op staffel'!$A$5:$C$10,2)","v":0},{"$f":"VLOOKUP(A1773,'Correcties op staffel'!$A$5:$C$10,3)","v":0},22800,null,{"$f":"H1772+100","v":177000},22800,27588,null,177000,22800,27588]
[177100,22800,27588,{"$f":"VLOOKUP(A1774,'Correcties op staffel'!$A$5:$C$10,2)","v":0},{"$f":"VLOOKUP(A1774,'Correcties op staffel'!$A$5:$C$10,3)","v":0},22800,null,177100,22800,27588,null,177100,22800,27588]
[177200,22900,27709,{"$f":"VLOOKUP(A1775,'Correcties op staffel'!$A$5:$C$10,2)","v":0},{"$f":"VLOOKUP(A1775,'Correcties op staffel'!$A$5:$C$10,3)","v":0},22900,null,177200,22900,27709,null,177200,22900,27709]
[177300,22900,27709,{"$f":"VLOOKUP(A1776,'Correcties op staffel'!$A$5:$C$10,2)","v":0},{"$f":"VLOOKUP(A1776,'Correcties op staffel'!$A$5:$C$10,3)","v":0},22900,null,177300,22900,27709,null,177300,22900,27709]
[177400,22900,27709,{"$f":"VLOOKUP(A1777,'Correcties op staffel'!$A$5:$C$10,2)","v":0},{"$f":"VLOOKUP(A1777,'Correcties op staffel'!$A$5:$C$10,3)","v":0},22900,null,177400,22900,27709,null,177400,22900,27709]
[177500,22900,27709,{"$f":"VLOOKUP(A1778,'Correcties op staffel'!$A$5:$C$10,2)","v":0},{"$f":"VLOOKUP(A1778,'Correcties op staffel'!$A$5:$C$10,3)","v":0},22900,null,177500,22900,27709,null,177500,22900,27709]
[177600,22900,27709,{"$f":"VLOOKUP(A1779,'Correcties op staffel'!$A$5:$C$10,2)","v":0},{"$f":"VLOOKUP(A1779,'Correcties op staffel'!$A$5:$C$10,3)","v":0},22900,null,177600,22900,27709,null,177600,22900,27709]
[177700,22900,27709,{"$f":"VLOOKUP(A1780,'Correcties op staffel'!$A$5:$C$10,2)","v":0},{"$f":"VLOOKUP(A1780,'Correcties op staffel'!$A$5:$C$10,3)","v":0},22900,null,177700,22900,27709,null,177700,22900,27709]
[177800,22900,27709,{"$f":"VLOOKUP(A1781,'Correcties op staffel'!$A$5:$C$10,2)","v":0},{"$f":"VLOOKUP(A1781,'Correcties op staffel'!$A$5:$C$10,3)","v":0},22900,null,177800,22900,27709,null,177800,22900,27709]
[177900,22900,27709,{"$f":"VLOOKUP(A1782,'Correcties op staffel'!$A$5:$C$10,2)","v":0},{"$f":"VLOOKUP(A1782,'Correcties op staffel'!$A$5:$C$10,3)","v":0},22900,null,177900,22900,27709,null,177900,22900,27709]
[178000,22900,27709,{"$f":"VLOOKUP(A1783,'Correcties op staffel'!$A$5:$C$10,2)","v":0},{"$f":"VLOOKUP(A1783,'Correcties op staffel'!$A$5:$C$10,3)","v":0},22900,null,178000,22900,27709,null,178000,22900,27709]
[178100,22900,27709,{"$f":"VLOOKUP(A1784,'Correcties op staffel'!$A$5:$C$10,2)","v":0},{"$f":"VLOOKUP(A1784,'Correcties op staffel'!$A$5:$C$10,3)","v":0},22900,null,178100,22900,27709,null,178100,22900,27709]
[178200,23000,27830,{"$f":"VLOOKUP(A1785,'Correcties op staffel'!$A$5:$C$10,2)","v":0},{"$f":"VLOOKUP(A1785,'Correcties op staffel'!$A$5:$C$10,3)","v":0},23000,null,178200,23000,27830,null,178200,23000,27830]
[178300,23000,27830,{"$f":"VLOOKUP(A1786,'Correcties op staffel'!$A$5:$C$10,2)","v":0},{"$f":"VLOOKUP(A1786,'Correcties op staffel'!$A$5:$C$10,3)","v":0},23000,null,178300,23000,27830,null,178300,23000,27830]
[178400,23000,27830,{"$f":"VLOOKUP(A1787,'Correcties op staffel'!$A$5:$C$10,2)","v":0},{"$f":"VLOOKUP(A1787,'Correcties op staffel'!$A$5:$C$10,3)","v":0},23000,null,178400,23000,27830,null,178400,23000,27830]
[178500,23000,27830,{"$f":"VLOOKUP(A1788,'Correcties op staffel'!$A$5:$C$10,2)","v":0},{"$f":"VLOOKUP(A1788,'Correcties op staffel'!$A$5:$C$10,3)","v":0},23000,null,178500,23000,27830,null,178500,23000,27830]
[178600,23000,27830,{"$f":"VLOOKUP(A1789,'Correcties op staffel'!$A$5:$C$10,2)","v":0},{"$f":"VLOOKUP(A1789,'Correcties op staffel'!$A$5:$C$10,3)","v":0},23000,null,178600,23000,27830,null,178600,23000,27830]
[178700,23000,27830,{"$f":"VLOOKUP(A1790,'Correcties op staffel'!$A$5:$C$10,2)","v":0},{"$f":"VLOOKUP(A1790,'Correcties op staffel'!$A$5:$C$10,3)","v":0},23000,null,178700,23000,27830,null,178700,23000,27830]
[178800,23000,27830,{"$f":"VLOOKUP(A1791,'Correcties op staffel'!$A$5:$C$10,2)","v":0},{"$f":"VLOOKUP(A1791,'Correcties op staffel'!$A$5:$C$10,3)","v":0},23000,null,178800,23000,27830,null,178800,23000,27830]
[178900,23000,27830,{"$f":"VLOOKUP(A1792,'Correcties op staffel'!$A$5:$C$10,2)","v":0},{"$f":"VLOOKUP(A1792,'Correcties op staffel'!$A$5:$C$10,3)","v":0},23000,null,178900,23000,27830,null,178900,23000,27830]
[179000,23000,27830,{"$f":"VLOOKUP(A1793,'Correcties op staffel'!$A$5:$C$10,2)","v":0},{"$f":"VLOOKUP(A1793,'Correcties op staffel'!$A$5:$C$10,3)","v":0},23000,null,179000,23000,27830,null,179000,23000,27830]
[179100,23000,27830,{"$f":"VLOOKUP(A1794,'Correcties op staffel'!$A$5:$C$10,2)","v":0},{"$f":"VLOOKUP(A1794,'Correcties op staffel'!$A$5:$C$10,3)","v":0},23000,null,179100,23000,27830,null,179100,23000,27830]
[179200,23100,27951,{"$f":"VLOOKUP(A1795,'Correcties op staffel'!$A$5:$C$10,2)","v":0},{"$f":"VLOOKUP(A1795,'Correcties op staffel'!$A$5:$C$10,3)","v":0},23100,null,179200,23100,27951,null,179200,23100,27951]
[179300,23100,27951,{"$f":"VLOOKUP(A1796,'Correcties op staffel'!$A$5:$C$10,2)","v":0},{"$f":"VLOOKUP(A1796,'Correcties op staffel'!$A$5:$C$10,3)","v":0},{"$f":"B1796*(1+D1796)+E1796","v":23100},null,179300,{"$f":"ROUND(F1796,0)","v":23100},27951,null,179300,23100,27951]
[179400,23100,27951,{"$f":"VLOOKUP(A1797,'Correcties op staffel'!$A$5:$C$10,2)","v":0},{"$f":"VLOOKUP(A1797,'Correcties op staffel'!$A$5:$C$10,3)","v":0},23100,null,179400,23100,{"$f":"I1797*1.21","v":27951},null,179400,{"$f":"IF(ROUND(I1797/5,0)*5<I1797,ROUND(I1797/5,0)*5+5,ROUND(I1797/5,0)*5)","v":23100},{"$f":"M1797*1.21","v":27951}]
[179500,23100,27951,{"$f":"VLOOKUP(A1798,'Correcties op staffel'!$A$5:$C$10,2)","v":0},{"$f":"VLOOKUP(A1798,'Correcties op staffel'!$A$5:$C$10,3)","v":0},23100,null,179500,23100,27951,null,179500,23100,27951]
[179600,23100,27951,{"$f":"VLOOKUP(A1799,'Correcties op staffel'!$A$5:$C$10,2)","v":0},{"$f":"VLOOKUP(A1799,'Correcties op staffel'!$A$5:$C$10,3)","v":0},23100,null,179600,23100,27951,null,179600,23100,27951]
[179700,23100,27951,{"$f":"VLOOKUP(A1800,'Correcties op staffel'!$A$5:$C$10,2)","v":0},{"$f":"VLOOKUP(A1800,'Correcties op staffel'!$A$5:$C$10,3)","v":0},23100,null,179700,23100,27951,null,179700,23100,27951]
[179800,23100,27951,{"$f":"VLOOKUP(A1801,'Correcties op staffel'!$A$5:$C$10,2)","v":0},{"$f":"VLOOKUP(A1801,'Correcties op staffel'!$A$5:$C$10,3)","v":0},23100,null,179800,23100,27951,null,179800,23100,27951]
[179900,23100,27951,{"$f":"VLOOKUP(A1802,'Correcties op staffel'!$A$5:$C$10,2)","v":0},{"$f":"VLOOKUP(A1802,'Correcties op staffel'!$A$5:$C$10,3)","v":0},23100,null,179900,23100,27951,null,179900,23100,27951]
[180000,23100,27951,{"$f":"VLOOKUP(A1803,'Correcties op staffel'!$A$5:$C$10,2)","v":0},{"$f":"VLOOKUP(A1803,'Correcties op staffel'!$A$5:$C$10,3)","v":0},23100,null,180000,23100,27951,null,180000,23100,27951]
[180100,23100,27951,{"$f":"VLOOKUP(A1804,'Correcties op staffel'!$A$5:$C$10,2)","v":0},{"$f":"VLOOKUP(A1804,'Correcties op staffel'!$A$5:$C$10,3)","v":0},23100,null,180100,23100,27951,null,180100,23100,27951]
[180200,23200,28072,{"$f":"VLOOKUP(A1805,'Correcties op staffel'!$A$5:$C$10,2)","v":0},{"$f":"VLOOKUP(A1805,'Correcties op staffel'!$A$5:$C$10,3)","v":0},23200,null,180200,23200,28072,null,180200,23200,28072]
[180300,23200,28072,{"$f":"VLOOKUP(A1806,'Correcties op staffel'!$A$5:$C$10,2)","v":0},{"$f":"VLOOKUP(A1806,'Correcties op staffel'!$A$5:$C$10,3)","v":0},23200,null,180300,23200,28072,null,180300,23200,28072]
[180400,23200,28072,{"$f":"VLOOKUP(A1807,'Correcties op staffel'!$A$5:$C$10,2)","v":0},{"$f":"VLOOKUP(A1807,'Correcties op staffel'!$A$5:$C$10,3)","v":0},23200,null,180400,23200,28072,null,180400,23200,28072]
[180500,23200,28072,{"$f":"VLOOKUP(A1808,'Correcties op staffel'!$A$5:$C$10,2)","v":0},{"$f":"VLOOKUP(A1808,'Correcties op staffel'!$A$5:$C$10,3)","v":0},23200,null,180500,23200,28072,null,180500,23200,28072]
[180600,23200,28072,{"$f":"VLOOKUP(A1809,'Correcties op staffel'!$A$5:$C$10,2)","v":0},{"$f":"VLOOKUP(A1809,'Correcties op staffel'!$A$5:$C$10,3)","v":0},23200,null,180600,23200,28072,null,180600,23200,28072]
[180700,23200,28072,{"$f":"VLOOKUP(A1810,'Correcties op staffel'!$A$5:$C$10,2)","v":0},{"$f":"VLOOKUP(A1810,'Correcties op staffel'!$A$5:$C$10,3)","v":0},23200,null,180700,23200,28072,null,180700,23200,28072]
[180800,23200,28072,{"$f":"VLOOKUP(A1811,'Correcties op staffel'!$A$5:$C$10,2)","v":0},{"$f":"VLOOKUP(A1811,'Correcties op staffel'!$A$5:$C$10,3)","v":0},23200,null,180800,23200,28072,null,180800,23200,28072]
[180900,23200,28072,{"$f":"VLOOKUP(A1812,'Correcties op staffel'!$A$5:$C$10,2)","v":0},{"$f":"VLOOKUP(A1812,'Correcties op staffel'!$A$5:$C$10,3)","v":0},23200,null,180900,23200,28072,null,180900,23200,28072]
[181000,23200,28072,{"$f":"VLOOKUP(A1813,'Correcties op staffel'!$A$5:$C$10,2)","v":0},{"$f":"VLOOKUP(A1813,'Correcties op staffel'!$A$5:$C$10,3)","v":0},23200,null,181000,23200,28072,null,181000,23200,28072]
[181100,23200,28072,{"$f":"VLOOKUP(A1814,'Correcties op staffel'!$A$5:$C$10,2)","v":0},{"$f":"VLOOKUP(A1814,'Correcties op staffel'!$A$5:$C$10,3)","v":0},23200,null,181100,23200,28072,null,181100,23200,28072]
[181200,23300,28193,{"$f":"VLOOKUP(A1815,'Correcties op staffel'!$A$5:$C$10,2)","v":0},{"$f":"VLOOKUP(A1815,'Correcties op staffel'!$A$5:$C$10,3)","v":0},23300,null,181200,23300,28193,null,181200,23300,28193]
[181300,23300,28193,{"$f":"VLOOKUP(A1816,'Correcties op staffel'!$A$5:$C$10,2)","v":0},{"$f":"VLOOKUP(A1816,'Correcties op staffel'!$A$5:$C$10,3)","v":0},23300,null,181300,23300,28193,null,181300,23300,28193]
[181400,23300,28193,{"$f":"VLOOKUP(A1817,'Correcties op staffel'!$A$5:$C$10,2)","v":0},{"$f":"VLOOKUP(A1817,'Correcties op staffel'!$A$5:$C$10,3)","v":0},23300,null,181400,23300,28193,null,181400,23300,28193]
[181500,23300,28193,{"$f":"VLOOKUP(A1818,'Correcties op staffel'!$A$5:$C$10,2)","v":0},{"$f":"VLOOKUP(A1818,'Correcties op staffel'!$A$5:$C$10,3)","v":0},23300,null,181500,23300,28193,null,181500,23300,28193]
[181600,23300,28193,{"$f":"VLOOKUP(A1819,'Correcties op staffel'!$A$5:$C$10,2)","v":0},{"$f":"VLOOKUP(A1819,'Correcties op staffel'!$A$5:$C$10,3)","v":0},23300,null,181600,23300,28193,null,181600,23300,28193]
[181700,23300,28193,{"$f":"VLOOKUP(A1820,'Correcties op staffel'!$A$5:$C$10,2)","v":0},{"$f":"VLOOKUP(A1820,'Correcties op staffel'!$A$5:$C$10,3)","v":0},23300,null,181700,23300,28193,null,181700,23300,28193]
[181800,23300,28193,{"$f":"VLOOKUP(A1821,'Correcties op staffel'!$A$5:$C$10,2)","v":0},{"$f":"VLOOKUP(A1821,'Correcties op staffel'!$A$5:$C$10,3)","v":0},23300,null,181800,23300,28193,null,181800,23300,28193]
[181900,23300,28193,{"$f":"VLOOKUP(A1822,'Correcties op staffel'!$A$5:$C$10,2)","v":0},{"$f":"VLOOKUP(A1822,'Correcties op staffel'!$A$5:$C$10,3)","v":0},23300,null,181900,23300,28193,null,181900,23300,28193]
[182000,23300,28193,{"$f":"VLOOKUP(A1823,'Correcties op staffel'!$A$5:$C$10,2)","v":0},{"$f":"VLOOKUP(A1823,'Correcties op staffel'!$A$5:$C$10,3)","v":0},23300,null,182000,23300,28193,null,182000,23300,28193]
[182100,23300,28193,{"$f":"VLOOKUP(A1824,'Correcties op staffel'!$A$5:$C$10,2)","v":0},{"$f":"VLOOKUP(A1824,'Correcties op staffel'!$A$5:$C$10,3)","v":0},23300,null,182100,23300,28193,null,182100,23300,28193]
[182200,23300,28193,{"$f":"VLOOKUP(A1825,'Correcties op staffel'!$A$5:$C$10,2)","v":0},{"$f":"VLOOKUP(A1825,'Correcties op staffel'!$A$5:$C$10,3)","v":0},23300,null,182200,23300,28193,null,182200,23300,28193]
[182300,23400,28314,{"$f":"VLOOKUP(A1826,'Correcties op staffel'!$A$5:$C$10,2)","v":0},{"$f":"VLOOKUP(A1826,'Correcties op staffel'!$A$5:$C$10,3)","v":0},23400,null,182300,23400,28314,null,182300,23400,28314]
[182400,23400,28314,{"$f":"VLOOKUP(A1827,'Correcties op staffel'!$A$5:$C$10,2)","v":0},{"$f":"VLOOKUP(A1827,'Correcties op staffel'!$A$5:$C$10,3)","v":0},23400,null,182400,23400,28314,null,182400,23400,28314]
[182500,23400,28314,{"$f":"VLOOKUP(A1828,'Correcties op staffel'!$A$5:$C$10,2)","v":0},{"$f":"VLOOKUP(A1828,'Correcties op staffel'!$A$5:$C$10,3)","v":0},23400,null,182500,23400,28314,null,182500,23400,28314]
[182600,23400,28314,{"$f":"VLOOKUP(A1829,'Correcties op staffel'!$A$5:$C$10,2)","v":0},{"$f":"VLOOKUP(A1829,'Correcties op staffel'!$A$5:$C$10,3)","v":0},23400,null,182600,23400,28314,null,182600,23400,28314]
[182700,23400,28314,{"$f":"VLOOKUP(A1830,'Correcties op staffel'!$A$5:$C$10,2)","v":0},{"$f":"VLOOKUP(A1830,'Correcties op staffel'!$A$5:$C$10,3)","v":0},23400,null,182700,23400,28314,null,182700,23400,28314]
[182800,23400,28314,{"$f":"VLOOKUP(A1831,'Correcties op staffel'!$A$5:$C$10,2)","v":0},{"$f":"VLOOKUP(A1831,'Correcties op staffel'!$A$5:$C$10,3)","v":0},23400,null,182800,23400,28314,null,182800,23400,28314]
[182900,23400,28314,{"$f":"VLOOKUP(A1832,'Correcties op staffel'!$A$5:$C$10,2)","v":0},{"$f":"VLOOKUP(A1832,'Correcties op staffel'!$A$5:$C$10,3)","v":0},23400,null,182900,23400,28314,null,182900,23400,28314]
[183000,23400,28314,{"$f":"VLOOKUP(A1833,'Correcties op staffel'!$A$5:$C$10,2)","v":0},{"$f":"VLOOKUP(A1833,'Correcties op staffel'!$A$5:$C$10,3)","v":0},23400,null,183000,23400,28314,null,183000,23400,28314]
[183100,23400,28314,{"$f":"VLOOKUP(A1834,'Correcties op staffel'!$A$5:$C$10,2)","v":0},{"$f":"VLOOKUP(A1834,'Correcties op staffel'!$A$5:$C$10,3)","v":0},23400,null,183100,23400,28314,null,183100,23400,28314]
[183200,23400,28314,{"$f":"VLOOKUP(A1835,'Correcties op staffel'!$A$5:$C$10,2)","v":0},{"$f":"VLOOKUP(A1835,'Correcties op staffel'!$A$5:$C$10,3)","v":0},23400,null,183200,23400,28314,null,183200,23400,28314]
[183300,23500,28435,{"$f":"VLOOKUP(A1836,'Correcties op staffel'!$A$5:$C$10,2)","v":0},{"$f":"VLOOKUP(A1836,'Correcties op staffel'!$A$5:$C$10,3)","v":0},23500,null,183300,23500,28435,null,183300,23500,28435]
[{"$f":"A1836+100","v":183400},23500,28435,{"$f":"VLOOKUP(A1837,'Correcties op staffel'!$A$5:$C$10,2)","v":0},{"$f":"VLOOKUP(A1837,'Correcties op staffel'!$A$5:$C$10,3)","v":0},23500,null,{"$f":"H1836+100","v":183400},23500,28435,null,183400,23500,28435]
[183500,23500,28435,{"$f":"VLOOKUP(A1838,'Correcties op staffel'!$A$5:$C$10,2)","v":0},{"$f":"VLOOKUP(A1838,'Correcties op staffel'!$A$5:$C$10,3)","v":0},23500,null,183500,23500,28435,null,183500,23500,28435]
[183600,23500,28435,{"$f":"VLOOKUP(A1839,'Correcties op staffel'!$A$5:$C$10,2)","v":0},{"$f":"VLOOKUP(A1839,'Correcties op staffel'!$A$5:$C$10,3)","v":0},23500,null,183600,23500,28435,null,183600,23500,28435]
[183700,23500,28435,{"$f":"VLOOKUP(A1840,'Correcties op staffel'!$A$5:$C$10,2)","v":0},{"$f":"VLOOKUP(A1840,'Correcties op staffel'!$A$5:$C$10,3)","v":0},23500,null,183700,23500,28435,null,183700,23500,28435]
[183800,23500,28435,{"$f":"VLOOKUP(A1841,'Correcties op staffel'!$A$5:$C$10,2)","v":0},{"$f":"VLOOKUP(A1841,'Correcties op staffel'!$A$5:$C$10,3)","v":0},23500,null,183800,23500,28435,null,183800,23500,28435]
[183900,23500,28435,{"$f":"VLOOKUP(A1842,'Correcties op staffel'!$A$5:$C$10,2)","v":0},{"$f":"VLOOKUP(A1842,'Correcties op staffel'!$A$5:$C$10,3)","v":0},23500,null,183900,23500,28435,null,183900,23500,28435]
[184000,23500,28435,{"$f":"VLOOKUP(A1843,'Correcties op staffel'!$A$5:$C$10,2)","v":0},{"$f":"VLOOKUP(A1843,'Correcties op staffel'!$A$5:$C$10,3)","v":0},23500,null,184000,23500,28435,null,184000,23500,28435]
[184100,23500,28435,{"$f":"VLOOKUP(A1844,'Correcties op staffel'!$A$5:$C$10,2)","v":0},{"$f":"VLOOKUP(A1844,'Correcties op staffel'!$A$5:$C$10,3)","v":0},23500,null,184100,23500,28435,null,184100,23500,28435]
[184200,23500,28435,{"$f":"VLOOKUP(A1845,'Correcties op staffel'!$A$5:$C$10,2)","v":0},{"$f":"VLOOKUP(A1845,'Correcties op staffel'!$A$5:$C$10,3)","v":0},23500,null,184200,23500,28435,null,184200,23500,28435]
[184300,23600,28556,{"$f":"VLOOKUP(A1846,'Correcties op staffel'!$A$5:$C$10,2)","v":0},{"$f":"VLOOKUP(A1846,'Correcties op staffel'!$A$5:$C$10,3)","v":0},23600,null,184300,23600,28556,null,184300,23600,28556]
[184400,23600,28556,{"$f":"VLOOKUP(A1847,'Correcties op staffel'!$A$5:$C$10,2)","v":0},{"$f":"VLOOKUP(A1847,'Correcties op staffel'!$A$5:$C$10,3)","v":0},23600,null,184400,23600,28556,null,184400,23600,28556]
[184500,23600,28556,{"$f":"VLOOKUP(A1848,'Correcties op staffel'!$A$5:$C$10,2)","v":0},{"$f":"VLOOKUP(A1848,'Correcties op staffel'!$A$5:$C$10,3)","v":0},23600,null,184500,23600,28556,null,184500,23600,28556]
[184600,23600,28556,{"$f":"VLOOKUP(A1849,'Correcties op staffel'!$A$5:$C$10,2)","v":0},{"$f":"VLOOKUP(A1849,'Correcties op staffel'!$A$5:$C$10,3)","v":0},23600,null,184600,23600,28556,null,184600,23600,28556]
[184700,23600,28556,{"$f":"VLOOKUP(A1850,'Correcties op staffel'!$A$5:$C$10,2)","v":0},{"$f":"VLOOKUP(A1850,'Correcties op staffel'!$A$5:$C$10,3)","v":0},23600,null,184700,23600,28556,null,184700,23600,28556]
[184800,23600,28556,{"$f":"VLOOKUP(A1851,'Correcties op staffel'!$A$5:$C$10,2)","v":0},{"$f":"VLOOKUP(A1851,'Correcties op staffel'!$A$5:$C$10,3)","v":0},23600,null,184800,23600,28556,null,184800,23600,28556]
[184900,23600,28556,{"$f":"VLOOKUP(A1852,'Correcties op staffel'!$A$5:$C$10,2)","v":0},{"$f":"VLOOKUP(A1852,'Correcties op staffel'!$A$5:$C$10,3)","v":0},23600,null,184900,23600,28556,null,184900,23600,28556]
[185000,23600,28556,{"$f":"VLOOKUP(A1853,'Correcties op staffel'!$A$5:$C$10,2)","v":0},{"$f":"VLOOKUP(A1853,'Correcties op staffel'!$A$5:$C$10,3)","v":0},23600,null,185000,23600,28556,null,185000,23600,28556]
[185100,23600,28556,{"$f":"VLOOKUP(A1854,'Correcties op staffel'!$A$5:$C$10,2)","v":0},{"$f":"VLOOKUP(A1854,'Correcties op staffel'!$A$5:$C$10,3)","v":0},23600,null,185100,23600,28556,null,185100,23600,28556]
[185200,23600,28556,{"$f":"VLOOKUP(A1855,'Correcties op staffel'!$A$5:$C$10,2)","v":0},{"$f":"VLOOKUP(A1855,'Correcties op staffel'!$A$5:$C$10,3)","v":0},23600,null,185200,23600,28556,null,185200,23600,28556]
[185300,23700,28677,{"$f":"VLOOKUP(A1856,'Correcties op staffel'!$A$5:$C$10,2)","v":0},{"$f":"VLOOKUP(A1856,'Correcties op staffel'!$A$5:$C$10,3)","v":0},23700,null,185300,23700,28677,null,185300,23700,28677]
[185400,23700,28677,{"$f":"VLOOKUP(A1857,'Correcties op staffel'!$A$5:$C$10,2)","v":0},{"$f":"VLOOKUP(A1857,'Correcties op staffel'!$A$5:$C$10,3)","v":0},23700,null,185400,23700,28677,null,185400,23700,28677]
[185500,23700,28677,{"$f":"VLOOKUP(A1858,'Correcties op staffel'!$A$5:$C$10,2)","v":0},{"$f":"VLOOKUP(A1858,'Correcties op staffel'!$A$5:$C$10,3)","v":0},23700,null,185500,23700,28677,null,185500,23700,28677]
[185600,23700,28677,{"$f":"VLOOKUP(A1859,'Correcties op staffel'!$A$5:$C$10,2)","v":0},{"$f":"VLOOKUP(A1859,'Correcties op staffel'!$A$5:$C$10,3)","v":0},23700,null,185600,23700,28677,null,185600,23700,28677]
[185700,23700,28677,{"$f":"VLOOKUP(A1860,'Correcties op staffel'!$A$5:$C$10,2)","v":0},{"$f":"VLOOKUP(A1860,'Correcties op staffel'!$A$5:$C$10,3)","v":0},{"$f":"B1860*(1+D1860)+E1860","v":23700},null,185700,{"$f":"ROUND(F1860,0)","v":23700},28677,null,185700,23700,28677]
[185800,23700,28677,{"$f":"VLOOKUP(A1861,'Correcties op staffel'!$A$5:$C$10,2)","v":0},{"$f":"VLOOKUP(A1861,'Correcties op staffel'!$A$5:$C$10,3)","v":0},23700,null,185800,23700,{"$f":"I1861*1.21","v":28677},null,185800,{"$f":"IF(ROUND(I1861/5,0)*5<I1861,ROUND(I1861/5,0)*5+5,ROUND(I1861/5,0)*5)","v":23700},{"$f":"M1861*1.21","v":28677}]
[185900,23700,28677,{"$f":"VLOOKUP(A1862,'Correcties op staffel'!$A$5:$C$10,2)","v":0},{"$f":"VLOOKUP(A1862,'Correcties op staffel'!$A$5:$C$10,3)","v":0},23700,null,185900,23700,28677,null,185900,23700,28677]
[186000,23700,28677,{"$f":"VLOOKUP(A1863,'Correcties op staffel'!$A$5:$C$10,2)","v":0},{"$f":"VLOOKUP(A1863,'Correcties op staffel'!$A$5:$C$10,3)","v":0},23700,null,186000,23700,28677,null,186000,23700,28677]
[186100,23700,28677,{"$f":"VLOOKUP(A1864,'Correcties op staffel'!$A$5:$C$10,2)","v":0},{"$f":"VLOOKUP(A1864,'Correcties op staffel'!$A$5:$C$10,3)","v":0},23700,null,186100,23700,28677,null,186100,23700,28677]
[186200,23700,28677,{"$f":"VLOOKUP(A1865,'Correcties op staffel'!$A$5:$C$10,2)","v":0},{"$f":"VLOOKUP(A1865,'Correcties op staffel'!$A$5:$C$10,3)","v":0},23700,null,186200,23700,28677,null,186200,23700,28677]
[186300,23800,28798,{"$f":"VLOOKUP(A1866,'Correcties op staffel'!$A$5:$C$10,2)","v":0},{"$f":"VLOOKUP(A1866,'Correcties op staffel'!$A$5:$C$10,3)","v":0},23800,null,186300,23800,28798,null,186300,23800,28798]
[186400,23800,28798,{"$f":"VLOOKUP(A1867,'Correcties op staffel'!$A$5:$C$10,2)","v":0},{"$f":"VLOOKUP(A1867,'Correcties op staffel'!$A$5:$C$10,3)","v":0},23800,null,186400,23800,28798,null,186400,23800,28798]
[186500,23800,28798,{"$f":"VLOOKUP(A1868,'Correcties op staffel'!$A$5:$C$10,2)","v":0},{"$f":"VLOOKUP(A1868,'Correcties op staffel'!$A$5:$C$10,3)","v":0},23800,null,186500,23800,28798,null,186500,23800,28798]
[186600,23800,28798,{"$f":"VLOOKUP(A1869,'Correcties op staffel'!$A$5:$C$10,2)","v":0},{"$f":"VLOOKUP(A1869,'Correcties op staffel'!$A$5:$C$10,3)","v":0},23800,null,186600,23800,28798,null,186600,23800,28798]
[186700,23800,28798,{"$f":"VLOOKUP(A1870,'Correcties op staffel'!$A$5:$C$10,2)","v":0},{"$f":"VLOOKUP(A1870,'Correcties op staffel'!$A$5:$C$10,3)","v":0},23800,null,186700,23800,28798,null,186700,23800,28798]
[186800,23800,28798,{"$f":"VLOOKUP(A1871,'Correcties op staffel'!$A$5:$C$10,2)","v":0},{"$f":"VLOOKUP(A1871,'Correcties op staffel'!$A$5:$C$10,3)","v":0},23800,null,186800,23800,28798,null,186800,23800,28798]
[186900,23800,28798,{"$f":"VLOOKUP(A1872,'Correcties op staffel'!$A$5:$C$10,2)","v":0},{"$f":"VLOOKUP(A1872,'Correcties op staffel'!$A$5:$C$10,3)","v":0},23800,null,186900,23800,28798,null,186900,23800,28798]
[187000,23800,28798,{"$f":"VLOOKUP(A1873,'Correcties op staffel'!$A$5:$C$10,2)","v":0},{"$f":"VLOOKUP(A1873,'Correcties op staffel'!$A$5:$C$10,3)","v":0},23800,null,187000,23800,28798,null,187000,23800,28798]
[187100,23800,28798,{"$f":"VLOOKUP(A1874,'Correcties op staffel'!$A$5:$C$10,2)","v":0},{"$f":"VLOOKUP(A1874,'Correcties op staffel'!$A$5:$C$10,3)","v":0},23800,null,187100,23800,28798,null,187100,23800,28798]
[187200,23800,28798,{"$f":"VLOOKUP(A1875,'Correcties op staffel'!$A$5:$C$10,2)","v":0},{"$f":"VLOOKUP(A1875,'Correcties op staffel'!$A$5:$C$10,3)","v":0},23800,null,187200,23800,28798,null,187200,23800,28798]
[187300,23900,28919,{"$f":"VLOOKUP(A1876,'Correcties op staffel'!$A$5:$C$10,2)","v":0},{"$f":"VLOOKUP(A1876,'Correcties op staffel'!$A$5:$C$10,3)","v":0},23900,null,187300,23900,28919,null,187300,23900,28919]
[187400,23900,28919,{"$f":"VLOOKUP(A1877,'Correcties op staffel'!$A$5:$C$10,2)","v":0},{"$f":"VLOOKUP(A1877,'Correcties op staffel'!$A$5:$C$10,3)","v":0},23900,null,187400,23900,28919,null,187400,23900,28919]
[187500,23900,28919,{"$f":"VLOOKUP(A1878,'Correcties op staffel'!$A$5:$C$10,2)","v":0},{"$f":"VLOOKUP(A1878,'Correcties op staffel'!$A$5:$C$10,3)","v":0},23900,null,187500,23900,28919,null,187500,23900,28919]
[187600,23900,28919,{"$f":"VLOOKUP(A1879,'Correcties op staffel'!$A$5:$C$10,2)","v":0},{"$f":"VLOOKUP(A1879,'Correcties op staffel'!$A$5:$C$10,3)","v":0},23900,null,187600,23900,28919,null,187600,23900,28919]
[187700,23900,28919,{"$f":"VLOOKUP(A1880,'Correcties op staffel'!$A$5:$C$10,2)","v":0},{"$f":"VLOOKUP(A1880,'Correcties op staffel'!$A$5:$C$10,3)","v":0},23900,null,187700,23900,28919,null,187700,23900,28919]
[187800,23900,28919,{"$f":"VLOOKUP(A1881,'Correcties op staffel'!$A$5:$C$10,2)","v":0},{"$f":"VLOOKUP(A1881,'Correcties op staffel'!$A$5:$C$10,3)","v":0},23900,null,187800,23900,28919,null,187800,23900,28919]
[187900,23900,28919,{"$f":"VLOOKUP(A1882,'Correcties op staffel'!$A$5:$C$10,2)","v":0},{"$f":"VLOOKUP(A1882,'Correcties op staffel'!$A$5:$C$10,3)","v":0},23900,null,187900,23900,28919,null,187900,23900,28919]
[188000,23900,28919,{"$f":"VLOOKUP(A1883,'Correcties op staffel'!$A$5:$C$10,2)","v":0},{"$f":"VLOOKUP(A1883,'Correcties op staffel'!$A$5:$C$10,3)","v":0},23900,null,188000,23900,28919,null,188000,23900,28919]
[188100,23900,28919,{"$f":"VLOOKUP(A1884,'Correcties op staffel'!$A$5:$C$10,2)","v":0},{"$f":"VLOOKUP(A1884,'Correcties op staffel'!$A$5:$C$10,3)","v":0},23900,null,188100,23900,28919,null,188100,23900,28919]
[188200,23900,28919,{"$f":"VLOOKUP(A1885,'Correcties op staffel'!$A$5:$C$10,2)","v":0},{"$f":"VLOOKUP(A1885,'Correcties op staffel'!$A$5:$C$10,3)","v":0},23900,null,188200,23900,28919,null,188200,23900,28919]
[188300,23900,28919,{"$f":"VLOOKUP(A1886,'Correcties op staffel'!$A$5:$C$10,2)","v":0},{"$f":"VLOOKUP(A1886,'Correcties op staffel'!$A$5:$C$10,3)","v":0},23900,null,188300,23900,28919,null,188300,23900,28919]
[188400,24000,29040,{"$f":"VLOOKUP(A1887,'Correcties op staffel'!$A$5:$C$10,2)","v":0},{"$f":"VLOOKUP(A1887,'Correcties op staffel'!$A$5:$C$10,3)","v":0},24000,null,188400,24000,29040,null,188400,24000,29040]
[188500,24000,29040,{"$f":"VLOOKUP(A1888,'Correcties op staffel'!$A$5:$C$10,2)","v":0},{"$f":"VLOOKUP(A1888,'Correcties op staffel'!$A$5:$C$10,3)","v":0},24000,null,188500,24000,29040,null,188500,24000,29040]
[188600,24000,29040,{"$f":"VLOOKUP(A1889,'Correcties op staffel'!$A$5:$C$10,2)","v":0},{"$f":"VLOOKUP(A1889,'Correcties op staffel'!$A$5:$C$10,3)","v":0},24000,null,188600,24000,29040,null,188600,24000,29040]
[188700,24000,29040,{"$f":"VLOOKUP(A1890,'Correcties op staffel'!$A$5:$C$10,2)","v":0},{"$f":"VLOOKUP(A1890,'Correcties op staffel'!$A$5:$C$10,3)","v":0},24000,null,188700,24000,29040,null,188700,24000,29040]
[188800,24000,29040,{"$f":"VLOOKUP(A1891,'Correcties op staffel'!$A$5:$C$10,2)","v":0},{"$f":"VLOOKUP(A1891,'Correcties op staffel'!$A$5:$C$10,3)","v":0},24000,null,188800,24000,29040,null,188800,24000,29040]
[188900,24000,29040,{"$f":"VLOOKUP(A1892,'Correcties op staffel'!$A$5:$C$10,2)","v":0},{"$f":"VLOOKUP(A1892,'Correcties op staffel'!$A$5:$C$10,3)","v":0},24000,null,188900,24000,29040,null,188900,24000,29040]
[189000,24000,29040,{"$f":"VLOOKUP(A1893,'Correcties op staffel'!$A$5:$C$10,2)","v":0},{"$f":"VLOOKUP(A1893,'Correcties op staffel'!$A$5:$C$10,3)","v":0},24000,null,189000,24000,29040,null,189000,24000,29040]
[189100,24000,29040,{"$f":"VLOOKUP(A1894,'Correcties op staffel'!$A$5:$C$10,2)","v":0},{"$f":"VLOOKUP(A1894,'Correcties op staffel'!$A$5:$C$10,3)","v":0},24000,null,189100,24000,29040,null,189100,24000,29040]
[189200,24000,29040,{"$f":"VLOOKUP(A1895,'Correcties op staffel'!$A$5:$C$10,2)","v":0},{"$f":"VLOOKUP(A1895,'Correcties op staffel'!$A$5:$C$10,3)","v":0},24000,null,189200,24000,29040,null,189200,24000,29040]
[189300,24000,29040,{"$f":"VLOOKUP(A1896,'Correcties op staffel'!$A$5:$C$10,2)","v":0},{"$f":"VLOOKUP(A1896,'Correcties op staffel'!$A$5:$C$10,3)","v":0},24000,null,189300,24000,29040,null,189300,24000,29040]
[189400,24100,29161,{"$f":"VLOOKUP(A1897,'Correcties op staffel'!$A$5:$C$10,2)","v":0},{"$f":"VLOOKUP(A1897,'Correcties op staffel'!$A$5:$C$10,3)","v":0},24100,null,189400,24100,29161,null,189400,24100,29161]
[189500,24100,29161,{"$f":"VLOOKUP(A1898,'Correcties op staffel'!$A$5:$C$10,2)","v":0},{"$f":"VLOOKUP(A1898,'Correcties op staffel'!$A$5:$C$10,3)","v":0},24100,null,189500,24100,29161,null,189500,24100,29161]
[189600,24100,29161,{"$f":"VLOOKUP(A1899,'Correcties op staffel'!$A$5:$C$10,2)","v":0},{"$f":"VLOOKUP(A1899,'Correcties op staffel'!$A$5:$C$10,3)","v":0},24100,null,189600,24100,29161,null,189600,24100,29161]
[189700,24100,29161,{"$f":"VLOOKUP(A1900,'Correcties op staffel'!$A$5:$C$10,2)","v":0},{"$f":"VLOOKUP(A1900,'Correcties op staffel'!$A$5:$C$10,3)","v":0},24100,null,189700,24100,29161,null,189700,24100,29161]
[{"$f":"A1900+100","v":189800},24100,29161,{"$f":"VLOOKUP(A1901,'Correcties op staffel'!$A$5:$C$10,2)","v":0},{"$f":"VLOOKUP(A1901,'Correcties op staffel'!$A$5:$C$10,3)","v":0},24100,null,{"$f":"H1900+100","v":189800},24100,29161,null,189800,24100,29161]
[189900,24100,29161,{"$f":"VLOOKUP(A1902,'Correcties op staffel'!$A$5:$C$10,2)","v":0},{"$f":"VLOOKUP(A1902,'Correcties op staffel'!$A$5:$C$10,3)","v":0},24100,null,189900,24100,29161,null,189900,24100,29161]
[190000,24100,29161,{"$f":"VLOOKUP(A1903,'Correcties op staffel'!$A$5:$C$10,2)","v":0},{"$f":"VLOOKUP(A1903,'Correcties op staffel'!$A$5:$C$10,3)","v":0},24100,null,190000,24100,29161,null,190000,24100,29161]
[190100,24100,29161,{"$f":"VLOOKUP(A1904,'Correcties op staffel'!$A$5:$C$10,2)","v":0},{"$f":"VLOOKUP(A1904,'Correcties op staffel'!$A$5:$C$10,3)","v":0},24100,null,190100,24100,29161,null,190100,24100,29161]
[190200,24100,29161,{"$f":"VLOOKUP(A1905,'Correcties op staffel'!$A$5:$C$10,2)","v":0},{"$f":"VLOOKUP(A1905,'Correcties op staffel'!$A$5:$C$10,3)","v":0},24100,null,190200,24100,29161,null,190200,24100,29161]
[190300,24100,29161,{"$f":"VLOOKUP(A1906,'Correcties op staffel'!$A$5:$C$10,2)","v":0},{"$f":"VLOOKUP(A1906,'Correcties op staffel'!$A$5:$C$10,3)","v":0},24100,null,190300,24100,29161,null,190300,24100,29161]
[190400,24200,29282,{"$f":"VLOOKUP(A1907,'Correcties op staffel'!$A$5:$C$10,2)","v":0},{"$f":"VLOOKUP(A1907,'Correcties op staffel'!$A$5:$C$10,3)","v":0},24200,null,190400,24200,29282,null,190400,24200,29282]
[190500,24200,29282,{"$f":"VLOOKUP(A1908,'Correcties op staffel'!$A$5:$C$10,2)","v":0},{"$f":"VLOOKUP(A1908,'Correcties op staffel'!$A$5:$C$10,3)","v":0},24200,null,190500,24200,29282,null,190500,24200,29282]
[190600,24200,29282,{"$f":"VLOOKUP(A1909,'Correcties op staffel'!$A$5:$C$10,2)","v":0},{"$f":"VLOOKUP(A1909,'Correcties op staffel'!$A$5:$C$10,3)","v":0},24200,null,190600,24200,29282,null,190600,24200,29282]
[190700,24200,29282,{"$f":"VLOOKUP(A1910,'Correcties op staffel'!$A$5:$C$10,2)","v":0},{"$f":"VLOOKUP(A1910,'Correcties op staffel'!$A$5:$C$10,3)","v":0},24200,null,190700,24200,29282,null,190700,24200,29282]
[190800,24200,29282,{"$f":"VLOOKUP(A1911,'Correcties op staffel'!$A$5:$C$10,2)","v":0},{"$f":"VLOOKUP(A1911,'Correcties op staffel'!$A$5:$C$10,3)","v":0},24200,null,190800,24200,29282,null,190800,24200,29282]
[190900,24200,29282,{"$f":"VLOOKUP(A1912,'Correcties op staffel'!$A$5:$C$10,2)","v":0},{"$f":"VLOOKUP(A1912,'Correcties op staffel'!$A$5:$C$10,3)","v":0},24200,null,190900,24200,29282,null,190900,24200,29282]
[191000,24200,29282,{"$f":"VLOOKUP(A1913,'Correcties op staffel'!$A$5:$C$10,2)","v":0},{"$f":"VLOOKUP(A1913,'Correcties op staffel'!$A$5:$C$10,3)","v":0},24200,null,191000,24200,29282,null,191000,24200,29282]
[191100,24200,29282,{"$f":"VLOOKUP(A1914,'Correcties op staffel'!$A$5:$C$10,2)","v":0},{"$f":"VLOOKUP(A1914,'Correcties op staffel'!$A$5:$C$10,3)","v":0},24200,null,191100,24200,29282,null,191100,24200,29282]
[191200,24200,29282,{"$f":"VLOOKUP(A1915,'Correcties op staffel'!$A$5:$C$10,2)","v":0},{"$f":"VLOOKUP(A1915,'Correcties op staffel'!$A$5:$C$10,3)","v":0},24200,null,191200,24200,29282,null,191200,24200,29282]
[191300,24200,29282,{"$f":"VLOOKUP(A1916,'Correcties op staffel'!$A$5:$C$10,2)","v":0},{"$f":"VLOOKUP(A1916,'Correcties op staffel'!$A$5:$C$10,3)","v":0},24200,null,191300,24200,29282,null,191300,24200,29282]
[191400,24300,29403,{"$f":"VLOOKUP(A1917,'Correcties op staffel'!$A$5:$C$10,2)","v":0},{"$f":"VLOOKUP(A1917,'Correcties op staffel'!$A$5:$C$10,3)","v":0},24300,null,191400,24300,29403,null,191400,24300,29403]
[191500,24300,29403,{"$f":"VLOOKUP(A1918,'Correcties op staffel'!$A$5:$C$10,2)","v":0},{"$f":"VLOOKUP(A1918,'Correcties op staffel'!$A$5:$C$10,3)","v":0},24300,null,191500,24300,29403,null,191500,24300,29403]
[191600,24300,29403,{"$f":"VLOOKUP(A1919,'Correcties op staffel'!$A$5:$C$10,2)","v":0},{"$f":"VLOOKUP(A1919,'Correcties op staffel'!$A$5:$C$10,3)","v":0},24300,null,191600,24300,29403,null,191600,24300,29403]
[191700,24300,29403,{"$f":"VLOOKUP(A1920,'Correcties op staffel'!$A$5:$C$10,2)","v":0},{"$f":"VLOOKUP(A1920,'Correcties op staffel'!$A$5:$C$10,3)","v":0},24300,null,191700,24300,29403,null,191700,24300,29403]
[191800,24300,29403,{"$f":"VLOOKUP(A1921,'Correcties op staffel'!$A$5:$C$10,2)","v":0},{"$f":"VLOOKUP(A1921,'Correcties op staffel'!$A$5:$C$10,3)","v":0},24300,null,191800,24300,29403,null,191800,24300,29403]
[191900,24300,29403,{"$f":"VLOOKUP(A1922,'Correcties op staffel'!$A$5:$C$10,2)","v":0},{"$f":"VLOOKUP(A1922,'Correcties op staffel'!$A$5:$C$10,3)","v":0},24300,null,191900,24300,29403,null,191900,24300,29403]
[192000,24300,29403,{"$f":"VLOOKUP(A1923,'Correcties op staffel'!$A$5:$C$10,2)","v":0},{"$f":"VLOOKUP(A1923,'Correcties op staffel'!$A$5:$C$10,3)","v":0},24300,null,192000,24300,29403,null,192000,24300,29403]
[192100,24300,29403,{"$f":"VLOOKUP(A1924,'Correcties op staffel'!$A$5:$C$10,2)","v":0},{"$f":"VLOOKUP(A1924,'Correcties op staffel'!$A$5:$C$10,3)","v":0},{"$f":"B1924*(1+D1924)+E1924","v":24300},null,192100,{"$f":"ROUND(F1924,0)","v":24300},29403,null,192100,24300,29403]
[192200,24300,29403,{"$f":"VLOOKUP(A1925,'Correcties op staffel'!$A$5:$C$10,2)","v":0},{"$f":"VLOOKUP(A1925,'Correcties op staffel'!$A$5:$C$10,3)","v":0},24300,null,192200,24300,{"$f":"I1925*1.21","v":29403},null,192200,{"$f":"IF(ROUND(I1925/5,0)*5<I1925,ROUND(I1925/5,0)*5+5,ROUND(I1925/5,0)*5)","v":24300},{"$f":"M1925*1.21","v":29403}]
[192300,24300,29403,{"$f":"VLOOKUP(A1926,'Correcties op staffel'!$A$5:$C$10,2)","v":0},{"$f":"VLOOKUP(A1926,'Correcties op staffel'!$A$5:$C$10,3)","v":0},24300,null,192300,24300,29403,null,192300,24300,29403]
[192400,24400,29524,{"$f":"VLOOKUP(A1927,'Correcties op staffel'!$A$5:$C$10,2)","v":0},{"$f":"VLOOKUP(A1927,'Correcties op staffel'!$A$5:$C$10,3)","v":0},24400,null,192400,24400,29524,null,192400,24400,29524]
[192500,24400,29524,{"$f":"VLOOKUP(A1928,'Correcties op staffel'!$A$5:$C$10,2)","v":0},{"$f":"VLOOKUP(A1928,'Correcties op staffel'!$A$5:$C$10,3)","v":0},24400,null,192500,24400,29524,null,192500,24400,29524]
[192600,24400,29524,{"$f":"VLOOKUP(A1929,'Correcties op staffel'!$A$5:$C$10,2)","v":0},{"$f":"VLOOKUP(A1929,'Correcties op staffel'!$A$5:$C$10,3)","v":0},24400,null,192600,24400,29524,null,192600,24400,29524]
[192700,24400,29524,{"$f":"VLOOKUP(A1930,'Correcties op staffel'!$A$5:$C$10,2)","v":0},{"$f":"VLOOKUP(A1930,'Correcties op staffel'!$A$5:$C$10,3)","v":0},24400,null,192700,24400,29524,null,192700,24400,29524]
[192800,24400,29524,{"$f":"VLOOKUP(A1931,'Correcties op staffel'!$A$5:$C$10,2)","v":0},{"$f":"VLOOKUP(A1931,'Correcties op staffel'!$A$5:$C$10,3)","v":0},24400,null,192800,24400,29524,null,192800,24400,29524]
[192900,24400,29524,{"$f":"VLOOKUP(A1932,'Correcties op staffel'!$A$5:$C$10,2)","v":0},{"$f":"VLOOKUP(A1932,'Correcties op staffel'!$A$5:$C$10,3)","v":0},24400,null,192900,24400,29524,null,192900,24400,29524]
[193000,24400,29524,{"$f":"VLOOKUP(A1933,'Correcties op staffel'!$A$5:$C$10,2)","v":0},{"$f":"VLOOKUP(A1933,'Correcties op staffel'!$A$5:$C$10,3)","v":0},24400,null,193000,24400,29524,null,193000,24400,29524]
[193100,24400,29524,{"$f":"VLOOKUP(A1934,'Correcties op staffel'!$A$5:$C$10,2)","v":0},{"$f":"VLOOKUP(A1934,'Correcties op staffel'!$A$5:$C$10,3)","v":0},24400,null,193100,24400,29524,null,193100,24400,29524]
[193200,24400,29524,{"$f":"VLOOKUP(A1935,'Correcties op staffel'!$A$5:$C$10,2)","v":0},{"$f":"VLOOKUP(A1935,'Correcties op staffel'!$A$5:$C$10,3)","v":0},24400,null,193200,24400,29524,null,193200,24400,29524]
[193300,24400,29524,{"$f":"VLOOKUP(A1936,'Correcties op staffel'!$A$5:$C$10,2)","v":0},{"$f":"VLOOKUP(A1936,'Correcties op staffel'!$A$5:$C$10,3)","v":0},24400,null,193300,24400,29524,null,193300,24400,29524]
[193400,24500,29645,{"$f":"VLOOKUP(A1937,'Correcties op staffel'!$A$5:$C$10,2)","v":0},{"$f":"VLOOKUP(A1937,'Correcties op staffel'!$A$5:$C$10,3)","v":0},24500,null,193400,24500,29645,null,193400,24500,29645]
[193500,24500,29645,{"$f":"VLOOKUP(A1938,'Correcties op staffel'!$A$5:$C$10,2)","v":0},{"$f":"VLOOKUP(A1938,'Correcties op staffel'!$A$5:$C$10,3)","v":0},24500,null,193500,24500,29645,null,193500,24500,29645]
[193600,24500,29645,{"$f":"VLOOKUP(A1939,'Correcties op staffel'!$A$5:$C$10,2)","v":0},{"$f":"VLOOKUP(A1939,'Correcties op staffel'!$A$5:$C$10,3)","v":0},24500,null,193600,24500,29645,null,193600,24500,29645]
[193700,24500,29645,{"$f":"VLOOKUP(A1940,'Correcties op staffel'!$A$5:$C$10,2)","v":0},{"$f":"VLOOKUP(A1940,'Correcties op staffel'!$A$5:$C$10,3)","v":0},24500,null,193700,24500,29645,null,193700,24500,29645]
[193800,24500,29645,{"$f":"VLOOKUP(A1941,'Correcties op staffel'!$A$5:$C$10,2)","v":0},{"$f":"VLOOKUP(A1941,'Correcties op staffel'!$A$5:$C$10,3)","v":0},24500,null,193800,24500,29645,null,193800,24500,29645]
[193900,24500,29645,{"$f":"VLOOKUP(A1942,'Correcties op staffel'!$A$5:$C$10,2)","v":0},{"$f":"VLOOKUP(A1942,'Correcties op staffel'!$A$5:$C$10,3)","v":0},24500,null,193900,24500,29645,null,193900,24500,29645]
[194000,24500,29645,{"$f":"VLOOKUP(A1943,'Correcties op staffel'!$A$5:$C$10,2)","v":0},{"$f":"VLOOKUP(A1943,'Correcties op staffel'!$A$5:$C$10,3)","v":0},24500,null,194000,24500,29645,null,194000,24500,29645]
[194100,24500,29645,{"$f":"VLOOKUP(A1944,'Correcties op staffel'!$A$5:$C$10,2)","v":0},{"$f":"VLOOKUP(A1944,'Correcties op staffel'!$A$5:$C$10,3)","v":0},24500,null,194100,24500,29645,null,194100,24500,29645]
[194200,24500,29645,{"$f":"VLOOKUP(A1945,'Correcties op staffel'!$A$5:$C$10,2)","v":0},{"$f":"VLOOKUP(A1945,'Correcties op staffel'!$A$5:$C$10,3)","v":0},24500,null,194200,24500,29645,null,194200,24500,29645]
[194300,24500,29645,{"$f":"VLOOKUP(A1946,'Correcties op staffel'!$A$5:$C$10,2)","v":0},{"$f":"VLOOKUP(A1946,'Correcties op staffel'!$A$5:$C$10,3)","v":0},24500,null,194300,24500,29645,null,194300,24500,29645]
[194400,24600,29766,{"$f":"VLOOKUP(A1947,'Correcties op staffel'!$A$5:$C$10,2)","v":0},{"$f":"VLOOKUP(A1947,'Correcties op staffel'!$A$5:$C$10,3)","v":0},24600,null,194400,24600,29766,null,194400,24600,29766]
[194500,24600,29766,{"$f":"VLOOKUP(A1948,'Correcties op staffel'!$A$5:$C$10,2)","v":0},{"$f":"VLOOKUP(A1948,'Correcties op staffel'!$A$5:$C$10,3)","v":0},24600,null,194500,24600,29766,null,194500,24600,29766]
[194600,24600,29766,{"$f":"VLOOKUP(A1949,'Correcties op staffel'!$A$5:$C$10,2)","v":0},{"$f":"VLOOKUP(A1949,'Correcties op staffel'!$A$5:$C$10,3)","v":0},24600,null,194600,24600,29766,null,194600,24600,29766]
[194700,24600,29766,{"$f":"VLOOKUP(A1950,'Correcties op staffel'!$A$5:$C$10,2)","v":0},{"$f":"VLOOKUP(A1950,'Correcties op staffel'!$A$5:$C$10,3)","v":0},24600,null,194700,24600,29766,null,194700,24600,29766]
[194800,24600,29766,{"$f":"VLOOKUP(A1951,'Correcties op staffel'!$A$5:$C$10,2)","v":0},{"$f":"VLOOKUP(A1951,'Correcties op staffel'!$A$5:$C$10,3)","v":0},24600,null,194800,24600,29766,null,194800,24600,29766]
[194900,24600,29766,{"$f":"VLOOKUP(A1952,'Correcties op staffel'!$A$5:$C$10,2)","v":0},{"$f":"VLOOKUP(A1952,'Correcties op staffel'!$A$5:$C$10,3)","v":0},24600,null,194900,24600,29766,null,194900,24600,29766]
[195000,24600,29766,{"$f":"VLOOKUP(A1953,'Correcties op staffel'!$A$5:$C$10,2)","v":0},{"$f":"VLOOKUP(A1953,'Correcties op staffel'!$A$5:$C$10,3)","v":0},24600,null,195000,24600,29766,null,195000,24600,29766]
[195100,24600,29766,{"$f":"VLOOKUP(A1954,'Correcties op staffel'!$A$5:$C$10,2)","v":0},{"$f":"VLOOKUP(A1954,'Correcties op staffel'!$A$5:$C$10,3)","v":0},24600,null,195100,24600,29766,null,195100,24600,29766]
[195200,24600,29766,{"$f":"VLOOKUP(A1955,'Correcties op staffel'!$A$5:$C$10,2)","v":0},{"$f":"VLOOKUP(A1955,'Correcties op staffel'!$A$5:$C$10,3)","v":0},24600,null,195200,24600,29766,null,195200,24600,29766]
[195300,24600,29766,{"$f":"VLOOKUP(A1956,'Correcties op staffel'!$A$5:$C$10,2)","v":0},{"$f":"VLOOKUP(A1956,'Correcties op staffel'!$A$5:$C$10,3)","v":0},24600,null,195300,24600,29766,null,195300,24600,29766]
[195400,24600,29766,{"$f":"VLOOKUP(A1957,'Correcties op staffel'!$A$5:$C$10,2)","v":0},{"$f":"VLOOKUP(A1957,'Correcties op staffel'!$A$5:$C$10,3)","v":0},24600,null,195400,24600,29766,null,195400,24600,29766]
[195500,24700,29887,{"$f":"VLOOKUP(A1958,'Correcties op staffel'!$A$5:$C$10,2)","v":0},{"$f":"VLOOKUP(A1958,'Correcties op staffel'!$A$5:$C$10,3)","v":0},24700,null,195500,24700,29887,null,195500,24700,29887]
[195600,24700,29887,{"$f":"VLOOKUP(A1959,'Correcties op staffel'!$A$5:$C$10,2)","v":0},{"$f":"VLOOKUP(A1959,'Correcties op staffel'!$A$5:$C$10,3)","v":0},24700,null,195600,24700,29887,null,195600,24700,29887]
[195700,24700,29887,{"$f":"VLOOKUP(A1960,'Correcties op staffel'!$A$5:$C$10,2)","v":0},{"$f":"VLOOKUP(A1960,'Correcties op staffel'!$A$5:$C$10,3)","v":0},24700,null,195700,24700,29887,null,195700,24700,29887]
[195800,24700,29887,{"$f":"VLOOKUP(A1961,'Correcties op staffel'!$A$5:$C$10,2)","v":0},{"$f":"VLOOKUP(A1961,'Correcties op staffel'!$A$5:$C$10,3)","v":0},24700,null,195800,24700,29887,null,195800,24700,29887]
[195900,24700,29887,{"$f":"VLOOKUP(A1962,'Correcties op staffel'!$A$5:$C$10,2)","v":0},{"$f":"VLOOKUP(A1962,'Correcties op staffel'!$A$5:$C$10,3)","v":0},24700,null,195900,24700,29887,null,195900,24700,29887]
[196000,24700,29887,{"$f":"VLOOKUP(A1963,'Correcties op staffel'!$A$5:$C$10,2)","v":0},{"$f":"VLOOKUP(A1963,'Correcties op staffel'!$A$5:$C$10,3)","v":0},24700,null,196000,24700,29887,null,196000,24700,29887]
[196100,24700,29887,{"$f":"VLOOKUP(A1964,'Correcties op staffel'!$A$5:$C$10,2)","v":0},{"$f":"VLOOKUP(A1964,'Correcties op staffel'!$A$5:$C$10,3)","v":0},24700,null,196100,24700,29887,null,196100,24700,29887]
[{"$f":"A1964+100","v":196200},24700,29887,{"$f":"VLOOKUP(A1965,'Correcties op staffel'!$A$5:$C$10,2)","v":0},{"$f":"VLOOKUP(A1965,'Correcties op staffel'!$A$5:$C$10,3)","v":0},24700,null,{"$f":"H1964+100","v":196200},24700,29887,null,196200,24700,29887]
[196300,24700,29887,{"$f":"VLOOKUP(A1966,'Correcties op staffel'!$A$5:$C$10,2)","v":0},{"$f":"VLOOKUP(A1966,'Correcties op staffel'!$A$5:$C$10,3)","v":0},24700,null,196300,24700,29887,null,196300,24700,29887]
[196400,24700,29887,{"$f":"VLOOKUP(A1967,'Correcties op staffel'!$A$5:$C$10,2)","v":0},{"$f":"VLOOKUP(A1967,'Correcties op staffel'!$A$5:$C$10,3)","v":0},24700,null,196400,24700,29887,null,196400,24700,29887]
[196500,24800,30008,{"$f":"VLOOKUP(A1968,'Correcties op staffel'!$A$5:$C$10,2)","v":0},{"$f":"VLOOKUP(A1968,'Correcties op staffel'!$A$5:$C$10,3)","v":0},24800,null,196500,24800,30008,null,196500,24800,30008]
[196600,24800,30008,{"$f":"VLOOKUP(A1969,'Correcties op staffel'!$A$5:$C$10,2)","v":0},{"$f":"VLOOKUP(A1969,'Correcties op staffel'!$A$5:$C$10,3)","v":0},24800,null,196600,24800,30008,null,196600,24800,30008]
[196700,24800,30008,{"$f":"VLOOKUP(A1970,'Correcties op staffel'!$A$5:$C$10,2)","v":0},{"$f":"VLOOKUP(A1970,'Correcties op staffel'!$A$5:$C$10,3)","v":0},24800,null,196700,24800,30008,null,196700,24800,30008]
[196800,24800,30008,{"$f":"VLOOKUP(A1971,'Correcties op staffel'!$A$5:$C$10,2)","v":0},{"$f":"VLOOKUP(A1971,'Correcties op staffel'!$A$5:$C$10,3)","v":0},24800,null,196800,24800,30008,null,196800,24800,30008]
[196900,24800,30008,{"$f":"VLOOKUP(A1972,'Correcties op staffel'!$A$5:$C$10,2)","v":0},{"$f":"VLOOKUP(A1972,'Correcties op staffel'!$A$5:$C$10,3)","v":0},24800,null,196900,24800,30008,null,196900,24800,30008]
[197000,24800,30008,{"$f":"VLOOKUP(A1973,'Correcties op staffel'!$A$5:$C$10,2)","v":0},{"$f":"VLOOKUP(A1973,'Correcties op staffel'!$A$5:$C$10,3)","v":0},24800,null,197000,24800,30008,null,197000,24800,30008]
[197100,24800,30008,{"$f":"VLOOKUP(A1974,'Correcties op staffel'!$A$5:$C$10,2)","v":0},{"$f":"VLOOKUP(A1974,'Correcties op staffel'!$A$5:$C$10,3)","v":0},24800,null,197100,24800,30008,null,197100,24800,30008]
[197200,24800,30008,{"$f":"VLOOKUP(A1975,'Correcties op staffel'!$A$5:$C$10,2)","v":0},{"$f":"VLOOKUP(A1975,'Correcties op staffel'!$A$5:$C$10,3)","v":0},24800,null,197200,24800,30008,null,197200,24800,30008]
[197300,24800,30008,{"$f":"VLOOKUP(A1976,'Correcties op staffel'!$A$5:$C$10,2)","v":0},{"$f":"VLOOKUP(A1976,'Correcties op staffel'!$A$5:$C$10,3)","v":0},24800,null,197300,24800,30008,null,197300,24800,30008]
[197400,24800,30008,{"$f":"VLOOKUP(A1977,'Correcties op staffel'!$A$5:$C$10,2)","v":0},{"$f":"VLOOKUP(A1977,'Correcties op staffel'!$A$5:$C$10,3)","v":0},24800,null,197400,24800,30008,null,197400,24800,30008]
[197500,24900,30129,{"$f":"VLOOKUP(A1978,'Correcties op staffel'!$A$5:$C$10,2)","v":0},{"$f":"VLOOKUP(A1978,'Correcties op staffel'!$A$5:$C$10,3)","v":0},24900,null,197500,24900,30129,null,197500,24900,30129]
[197600,24900,30129,{"$f":"VLOOKUP(A1979,'Correcties op staffel'!$A$5:$C$10,2)","v":0},{"$f":"VLOOKUP(A1979,'Correcties op staffel'!$A$5:$C$10,3)","v":0},24900,null,197600,24900,30129,null,197600,24900,30129]
[197700,24900,30129,{"$f":"VLOOKUP(A1980,'Correcties op staffel'!$A$5:$C$10,2)","v":0},{"$f":"VLOOKUP(A1980,'Correcties op staffel'!$A$5:$C$10,3)","v":0},24900,null,197700,24900,30129,null,197700,24900,30129]
[197800,24900,30129,{"$f":"VLOOKUP(A1981,'Correcties op staffel'!$A$5:$C$10,2)","v":0},{"$f":"VLOOKUP(A1981,'Correcties op staffel'!$A$5:$C$10,3)","v":0},24900,null,197800,24900,30129,null,197800,24900,30129]
[197900,24900,30129,{"$f":"VLOOKUP(A1982,'Correcties op staffel'!$A$5:$C$10,2)","v":0},{"$f":"VLOOKUP(A1982,'Correcties op staffel'!$A$5:$C$10,3)","v":0},24900,null,197900,24900,30129,null,197900,24900,30129]
[198000,24900,30129,{"$f":"VLOOKUP(A1983,'Correcties op staffel'!$A$5:$C$10,2)","v":0},{"$f":"VLOOKUP(A1983,'Correcties op staffel'!$A$5:$C$10,3)","v":0},24900,null,198000,24900,30129,null,198000,24900,30129]
[198100,24900,30129,{"$f":"VLOOKUP(A1984,'Correcties op staffel'!$A$5:$C$10,2)","v":0},{"$f":"VLOOKUP(A1984,'Correcties op staffel'!$A$5:$C$10,3)","v":0},24900,null,198100,24900,30129,null,198100,24900,30129]
[198200,24900,30129,{"$f":"VLOOKUP(A1985,'Correcties op staffel'!$A$5:$C$10,2)","v":0},{"$f":"VLOOKUP(A1985,'Correcties op staffel'!$A$5:$C$10,3)","v":0},24900,null,198200,24900,30129,null,198200,24900,30129]
[198300,24900,30129,{"$f":"VLOOKUP(A1986,'Correcties op staffel'!$A$5:$C$10,2)","v":0},{"$f":"VLOOKUP(A1986,'Correcties op staffel'!$A$5:$C$10,3)","v":0},24900,null,198300,24900,30129,null,198300,24900,30129]
[198400,24900,30129,{"$f":"VLOOKUP(A1987,'Correcties op staffel'!$A$5:$C$10,2)","v":0},{"$f":"VLOOKUP(A1987,'Correcties op staffel'!$A$5:$C$10,3)","v":0},24900,null,198400,24900,30129,null,198400,24900,30129]
[198500,25000,30250,{"$f":"VLOOKUP(A1988,'Correcties op staffel'!$A$5:$C$10,2)","v":0},{"$f":"VLOOKUP(A1988,'Correcties op staffel'!$A$5:$C$10,3)","v":0},{"$f":"B1988*(1+D1988)+E1988","v":25000},null,198500,{"$f":"ROUND(F1988,0)","v":25000},30250,null,198500,25000,30250]
[198600,25000,30250,{"$f":"VLOOKUP(A1989,'Correcties op staffel'!$A$5:$C$10,2)","v":0},{"$f":"VLOOKUP(A1989,'Correcties op staffel'!$A$5:$C$10,3)","v":0},25000,null,198600,25000,{"$f":"I1989*1.21","v":30250},null,198600,{"$f":"IF(ROUND(I1989/5,0)*5<I1989,ROUND(I1989/5,0)*5+5,ROUND(I1989/5,0)*5)","v":25000},{"$f":"M1989*1.21","v":30250}]
[198700,25000,30250,{"$f":"VLOOKUP(A1990,'Correcties op staffel'!$A$5:$C$10,2)","v":0},{"$f":"VLOOKUP(A1990,'Correcties op staffel'!$A$5:$C$10,3)","v":0},25000,null,198700,25000,30250,null,198700,25000,30250]
[198800,25000,30250,{"$f":"VLOOKUP(A1991,'Correcties op staffel'!$A$5:$C$10,2)","v":0},{"$f":"VLOOKUP(A1991,'Correcties op staffel'!$A$5:$C$10,3)","v":0},25000,null,198800,25000,30250,null,198800,25000,30250]
[198900,25000,30250,{"$f":"VLOOKUP(A1992,'Correcties op staffel'!$A$5:$C$10,2)","v":0},{"$f":"VLOOKUP(A1992,'Correcties op staffel'!$A$5:$C$10,3)","v":0},25000,null,198900,25000,30250,null,198900,25000,30250]
[199000,25000,30250,{"$f":"VLOOKUP(A1993,'Correcties op staffel'!$A$5:$C$10,2)","v":0},{"$f":"VLOOKUP(A1993,'Correcties op staffel'!$A$5:$C$10,3)","v":0},25000,null,199000,25000,30250,null,199000,25000,30250]
[199100,25000,30250,{"$f":"VLOOKUP(A1994,'Correcties op staffel'!$A$5:$C$10,2)","v":0},{"$f":"VLOOKUP(A1994,'Correcties op staffel'!$A$5:$C$10,3)","v":0},25000,null,199100,25000,30250,null,199100,25000,30250]
[199200,25000,30250,{"$f":"VLOOKUP(A1995,'Correcties op staffel'!$A$5:$C$10,2)","v":0},{"$f":"VLOOKUP(A1995,'Correcties op staffel'!$A$5:$C$10,3)","v":0},25000,null,199200,25000,30250,null,199200,25000,30250]
[199300,25000,30250,{"$f":"VLOOKUP(A1996,'Correcties op staffel'!$A$5:$C$10,2)","v":0},{"$f":"VLOOKUP(A1996,'Correcties op staffel'!$A$5:$C$10,3)","v":0},25000,null,199300,25000,30250,null,199300,25000,30250]
[199400,25000,30250,{"$f":"VLOOKUP(A1997,'Correcties op staffel'!$A$5:$C$10,2)","v":0},{"$f":"VLOOKUP(A1997,'Correcties op staffel'!$A$5:$C$10,3)","v":0},25000,null,199400,25000,30250,null,199400,25000,30250]
[199500,25100,30371,{"$f":"VLOOKUP(A1998,'Correcties op staffel'!$A$5:$C$10,2)","v":0},{"$f":"VLOOKUP(A1998,'Correcties op staffel'!$A$5:$C$10,3)","v":0},25100,null,199500,25100,30371,null,199500,25100,30371]
[199600,25100,30371,{"$f":"VLOOKUP(A1999,'Correcties op staffel'!$A$5:$C$10,2)","v":0},{"$f":"VLOOKUP(A1999,'Correcties op staffel'!$A$5:$C$10,3)","v":0},25100,null,199600,25100,30371,null,199600,25100,30371]
[199700,25100,30371,{"$f":"VLOOKUP(A2000,'Correcties op staffel'!$A$5:$C$10,2)","v":0},{"$f":"VLOOKUP(A2000,'Correcties op staffel'!$A$5:$C$10,3)","v":0},25100,null,199700,25100,30371,null,199700,25100,30371]
[199800,25100,30371,{"$f":"VLOOKUP(A2001,'Correcties op staffel'!$A$5:$C$10,2)","v":0},{"$f":"VLOOKUP(A2001,'Correcties op staffel'!$A$5:$C$10,3)","v":0},25100,null,199800,25100,30371,null,199800,25100,30371]
[200300,25100,30371,{"$f":"VLOOKUP(A2006,'Correcties op staffel'!$A$5:$C$10,2)","v":0},{"$f":"VLOOKUP(A2006,'Correcties op staffel'!$A$5:$C$10,3)","v":0},25100,null,200300,25100,30371,null,200300,25100,30371]
[200800,25200,30492,{"$f":"VLOOKUP(A2011,'Correcties op staffel'!$A$5:$C$10,2)","v":0},{"$f":"VLOOKUP(A2011,'Correcties op staffel'!$A$5:$C$10,3)","v":0},25200,null,200800,25200,30492,null,200800,25200,30492]
[200900,25200,30492,{"$f":"VLOOKUP(A2012,'Correcties op staffel'!$A$5:$C$10,2)","v":0},{"$f":"VLOOKUP(A2012,'Correcties op staffel'!$A$5:$C$10,3)","v":0},25200,null,200900,25200,30492,null,200900,25200,30492]
[201500,25300,30613,{"$f":"VLOOKUP(A2018,'Correcties op staffel'!$A$5:$C$10,2)","v":0},{"$f":"VLOOKUP(A2018,'Correcties op staffel'!$A$5:$C$10,3)","v":0},25300,null,201500,25300,30613,null,201500,25300,30613]
[201800,25300,30613,{"$f":"VLOOKUP(A2021,'Correcties op staffel'!$A$5:$C$10,2)","v":0},{"$f":"VLOOKUP(A2021,'Correcties op staffel'!$A$5:$C$10,3)","v":0},25300,null,201800,25300,30613,null,201800,25300,30613]
[202300,25300,30613,{"$f":"VLOOKUP(A2026,'Correcties op staffel'!$A$5:$C$10,2)","v":0},{"$f":"VLOOKUP(A2026,'Correcties op staffel'!$A$5:$C$10,3)","v":0},25300,null,202300,25300,30613,null,202300,25300,30613]
[202400,25300,30613,{"$f":"VLOOKUP(A2027,'Correcties op staffel'!$A$5:$C$10,2)","v":0},{"$f":"VLOOKUP(A2027,'Correcties op staffel'!$A$5:$C$10,3)","v":0},25300,null,202400,25300,30613,null,202400,25300,30613]
[202900,25400,30734,{"$f":"VLOOKUP(A2032,'Correcties op staffel'!$A$5:$C$10,2)","v":0},{"$f":"VLOOKUP(A2032,'Correcties op staffel'!$A$5:$C$10,3)","v":0},25400,null,202900,25400,30734,null,202900,25400,30734]
[203300,25400,30734,{"$f":"VLOOKUP(A2036,'Correcties op staffel'!$A$5:$C$10,2)","v":0},{"$f":"VLOOKUP(A2036,'Correcties op staffel'!$A$5:$C$10,3)","v":0},25400,null,203300,25400,30734,null,203300,25400,30734]
[203800,25500,30855,{"$f":"VLOOKUP(A2041,'Correcties op staffel'!$A$5:$C$10,2)","v":0},{"$f":"VLOOKUP(A2041,'Correcties op staffel'!$A$5:$C$10,3)","v":0},25500,null,203800,25500,30855,null,203800,25500,30855]
[203900,25500,30855,{"$f":"VLOOKUP(A2042,'Correcties op staffel'!$A$5:$C$10,2)","v":0},{"$f":"VLOOKUP(A2042,'Correcties op staffel'!$A$5:$C$10,3)","v":0},25500,null,203900,25500,30855,null,203900,25500,30855]
[204500,25500,30855,{"$f":"VLOOKUP(A2048,'Correcties op staffel'!$A$5:$C$10,2)","v":0},{"$f":"VLOOKUP(A2048,'Correcties op staffel'!$A$5:$C$10,3)","v":0},25500,null,204500,25500,30855,null,204500,25500,30855]
[204800,25600,30976,{"$f":"VLOOKUP(A2051,'Correcties op staffel'!$A$5:$C$10,2)","v":0},{"$f":"VLOOKUP(A2051,'Correcties op staffel'!$A$5:$C$10,3)","v":0},25600,null,204800,25600,30976,null,204800,25600,30976]
[205300,25600,30976,{"$f":"VLOOKUP(A2056,'Correcties op staffel'!$A$5:$C$10,2)","v":0},{"$f":"VLOOKUP(A2056,'Correcties op staffel'!$A$5:$C$10,3)","v":0},25600,null,205300,25600,30976,null,205300,25600,30976]
[205400,25600,30976,{"$f":"VLOOKUP(A2057,'Correcties op staffel'!$A$5:$C$10,2)","v":0},{"$f":"VLOOKUP(A2057,'Correcties op staffel'!$A$5:$C$10,3)","v":0},25600,null,205400,25600,30976,null,205400,25600,30976]
[205900,25700,31097,{"$f":"VLOOKUP(A2062,'Correcties op staffel'!$A$5:$C$10,2)","v":0},{"$f":"VLOOKUP(A2062,'Correcties op staffel'!$A$5:$C$10,3)","v":0},25700,null,205900,25700,31097,null,205900,25700,31097]
[206300,25700,31097,{"$f":"VLOOKUP(A2066,'Correcties op staffel'!$A$5:$C$10,2)","v":0},{"$f":"VLOOKUP(A2066,'Correcties op staffel'!$A$5:$C$10,3)","v":0},25700,null,206300,25700,31097,null,206300,25700,31097]
[206800,25800,31218,{"$f":"VLOOKUP(A2071,'Correcties op staffel'!$A$5:$C$10,2)","v":0},{"$f":"VLOOKUP(A2071,'Correcties op staffel'!$A$5:$C$10,3)","v":0},25800,null,206800,25800,31218,null,206800,25800,31218]
[206900,25800,31218,{"$f":"VLOOKUP(A2072,'Correcties op staffel'!$A$5:$C$10,2)","v":0},{"$f":"VLOOKUP(A2072,'Correcties op staffel'!$A$5:$C$10,3)","v":0},25800,null,206900,25800,31218,null,206900,25800,31218]
[207500,25800,31218,{"$f":"VLOOKUP(A2078,'Correcties op staffel'!$A$5:$C$10,2)","v":0},{"$f":"VLOOKUP(A2078,'Correcties op staffel'!$A$5:$C$10,3)","v":0},25800,null,207500,25800,31218,null,207500,25800,31218]
[207800,25900,31339,{"$f":"VLOOKUP(A2081,'Correcties op staffel'!$A$5:$C$10,2)","v":0},{"$f":"VLOOKUP(A2081,'Correcties op staffel'!$A$5:$C$10,3)","v":0},25900,null,207800,25900,31339,null,207800,25900,31339]
[208300,25900,31339,{"$f":"VLOOKUP(A2086,'Correcties op staffel'!$A$5:$C$10,2)","v":0},{"$f":"VLOOKUP(A2086,'Correcties op staffel'!$A$5:$C$10,3)","v":0},25900,null,208300,25900,31339,null,208300,25900,31339]
[208400,25900,31339,{"$f":"VLOOKUP(A2087,'Correcties op staffel'!$A$5:$C$10,2)","v":0},{"$f":"VLOOKUP(A2087,'Correcties op staffel'!$A$5:$C$10,3)","v":0},25900,null,208400,25900,31339,null,208400,25900,31339]
[208900,26000,31460,{"$f":"VLOOKUP(A2092,'Correcties op staffel'!$A$5:$C$10,2)","v":0},{"$f":"VLOOKUP(A2092,'Correcties op staffel'!$A$5:$C$10,3)","v":0},26000,null,208900,26000,31460,null,208900,26000,31460]
[209300,26000,31460,{"$f":"VLOOKUP(A2096,'Correcties op staffel'!$A$5:$C$10,2)","v":0},{"$f":"VLOOKUP(A2096,'Correcties op staffel'!$A$5:$C$10,3)","v":0},26000,null,209300,26000,31460,null,209300,26000,31460]
[209800,26100,31581,{"$f":"VLOOKUP(A2101,'Correcties op staffel'!$A$5:$C$10,2)","v":0},{"$f":"VLOOKUP(A2101,'Correcties op staffel'!$A$5:$C$10,3)","v":0},26100,null,209800,26100,31581,null,209800,26100,31581]
[209900,26100,31581,{"$f":"VLOOKUP(A2102,'Correcties op staffel'!$A$5:$C$10,2)","v":0},{"$f":"VLOOKUP(A2102,'Correcties op staffel'!$A$5:$C$10,3)","v":0},26100,null,209900,26100,31581,null,209900,26100,31581]
[210500,26100,31581,{"$f":"VLOOKUP(A2108,'Correcties op staffel'!$A$5:$C$10,2)","v":0},{"$f":"VLOOKUP(A2108,'Correcties op staffel'!$A$5:$C$10,3)","v":0},26100,null,210500,26100,31581,null,210500,26100,31581]
[210800,26200,31702,{"$f":"VLOOKUP(A2111,'Correcties op staffel'!$A$5:$C$10,2)","v":0},{"$f":"VLOOKUP(A2111,'Correcties op staffel'!$A$5:$C$10,3)","v":0},26200,null,210800,26200,31702,null,210800,26200,31702]
[211300,26200,31702,{"$f":"VLOOKUP(A2116,'Correcties op staffel'!$A$5:$C$10,2)","v":0},{"$f":"VLOOKUP(A2116,'Correcties op staffel'!$A$5:$C$10,3)","v":0},{"$f":"B2116*(1+D2116)+E2116","v":26200},null,211300,{"$f":"ROUND(F2116,0)","v":26200},31702,null,211300,26200,31702]
[211400,26200,31702,{"$f":"VLOOKUP(A2117,'Correcties op staffel'!$A$5:$C$10,2)","v":0},{"$f":"VLOOKUP(A2117,'Correcties op staffel'!$A$5:$C$10,3)","v":0},26200,null,211400,26200,{"$f":"I2117*1.21","v":31702},null,211400,{"$f":"IF(ROUND(I2117/5,0)*5<I2117,ROUND(I2117/5,0)*5+5,ROUND(I2117/5,0)*5)","v":26200},{"$f":"M2117*1.21","v":31702}]
[211900,26300,31823,{"$f":"VLOOKUP(A2122,'Correcties op staffel'!$A$5:$C$10,2)","v":0},{"$f":"VLOOKUP(A2122,'Correcties op staffel'!$A$5:$C$10,3)","v":0},26300,null,211900,26300,31823,null,211900,26300,31823]
[212300,26300,31823,{"$f":"VLOOKUP(A2126,'Correcties op staffel'!$A$5:$C$10,2)","v":0},{"$f":"VLOOKUP(A2126,'Correcties op staffel'!$A$5:$C$10,3)","v":0},26300,null,212300,26300,31823,null,212300,26300,31823]
[212800,26400,31944,{"$f":"VLOOKUP(A2131,'Correcties op staffel'!$A$5:$C$10,2)","v":0},{"$f":"VLOOKUP(A2131,'Correcties op staffel'!$A$5:$C$10,3)","v":0},26400,null,212800,26400,31944,null,212800,26400,31944]
[212900,26400,31944,{"$f":"VLOOKUP(A2132,'Correcties op staffel'!$A$5:$C$10,2)","v":0},{"$f":"VLOOKUP(A2132,'Correcties op staffel'!$A$5:$C$10,3)","v":0},26400,null,212900,26400,31944,null,212900,26400,31944]
[213500,26400,31944,{"$f":"VLOOKUP(A2138,'Correcties op staffel'!$A$5:$C$10,2)","v":0},{"$f":"VLOOKUP(A2138,'Correcties op staffel'!$A$5:$C$10,3)","v":0},26400,null,213500,26400,31944,null,213500,26400,31944]
[213800,26500,32065,{"$f":"VLOOKUP(A2141,'Correcties op staffel'!$A$5:$C$10,2)","v":0},{"$f":"VLOOKUP(A2141,'Correcties op staffel'!$A$5:$C$10,3)","v":0},26500,null,213800,26500,32065,null,213800,26500,32065]
[214300,26500,32065,{"$f":"VLOOKUP(A2146,'Correcties op staffel'!$A$5:$C$10,2)","v":0},{"$f":"VLOOKUP(A2146,'Correcties op staffel'!$A$5:$C$10,3)","v":0},26500,null,214300,26500,32065,null,214300,26500,32065]
[214400,26500,32065,{"$f":"VLOOKUP(A2147,'Correcties op staffel'!$A$5:$C$10,2)","v":0},{"$f":"VLOOKUP(A2147,'Correcties op staffel'!$A$5:$C$10,3)","v":0},26500,null,214400,26500,32065,null,214400,26500,32065]
[214900,26600,32186,{"$f":"VLOOKUP(A2152,'Correcties op staffel'!$A$5:$C$10,2)","v":0},{"$f":"VLOOKUP(A2152,'Correcties op staffel'!$A$5:$C$10,3)","v":0},26600,null,214900,26600,32186,null,214900,26600,32186]
[215300,26600,32186,{"$f":"VLOOKUP(A2156,'Correcties op staffel'!$A$5:$C$10,2)","v":0},{"$f":"VLOOKUP(A2156,'Correcties op staffel'!$A$5:$C$10,3)","v":0},26600,null,215300,26600,32186,null,215300,26600,32186]
[215800,26700,32307,{"$f":"VLOOKUP(A2161,'Correcties op staffel'!$A$5:$C$10,2)","v":0},{"$f":"VLOOKUP(A2161,'Correcties op staffel'!$A$5:$C$10,3)","v":0},26700,null,215800,26700,32307,null,215800,26700,32307]
[215900,26700,32307,{"$f":"VLOOKUP(A2162,'Correcties op staffel'!$A$5:$C$10,2)","v":0},{"$f":"VLOOKUP(A2162,'Correcties op staffel'!$A$5:$C$10,3)","v":0},26700,null,215900,26700,32307,null,215900,26700,32307]
[216500,26700,32307,{"$f":"VLOOKUP(A2168,'Correcties op staffel'!$A$5:$C$10,2)","v":0},{"$f":"VLOOKUP(A2168,'Correcties op staffel'!$A$5:$C$10,3)","v":0},26700,null,216500,26700,32307,null,216500,26700,32307]
[216800,26800,32428,{"$f":"VLOOKUP(A2171,'Correcties op staffel'!$A$5:$C$10,2)","v":0},{"$f":"VLOOKUP(A2171,'Correcties op staffel'!$A$5:$C$10,3)","v":0},26800,null,216800,26800,32428,null,216800,26800,32428]
[217300,26800,32428,{"$f":"VLOOKUP(A2176,'Correcties op staffel'!$A$5:$C$10,2)","v":0},{"$f":"VLOOKUP(A2176,'Correcties op staffel'!$A$5:$C$10,3)","v":0},26800,null,217300,26800,32428,null,217300,26800,32428]
[217400,26800,32428,{"$f":"VLOOKUP(A2177,'Correcties op staffel'!$A$5:$C$10,2)","v":0},{"$f":"VLOOKUP(A2177,'Correcties op staffel'!$A$5:$C$10,3)","v":0},26800,null,217400,26800,32428,null,217400,26800,32428]
[217900,26900,32549,{"$f":"VLOOKUP(A2182,'Correcties op staffel'!$A$5:$C$10,2)","v":0},{"$f":"VLOOKUP(A2182,'Correcties op staffel'!$A$5:$C$10,3)","v":0},26900,null,217900,26900,32549,null,217900,26900,32549]
[218300,26900,32549,{"$f":"VLOOKUP(A2186,'Correcties op staffel'!$A$5:$C$10,2)","v":0},{"$f":"VLOOKUP(A2186,'Correcties op staffel'!$A$5:$C$10,3)","v":0},26900,null,218300,26900,32549,null,218300,26900,32549]
[218800,27000,32670,{"$f":"VLOOKUP(A2191,'Correcties op staffel'!$A$5:$C$10,2)","v":0},{"$f":"VLOOKUP(A2191,'Correcties op staffel'!$A$5:$C$10,3)","v":0},27000,null,218800,27000,32670,null,218800,27000,32670]
[218900,27000,32670,{"$f":"VLOOKUP(A2192,'Correcties op staffel'!$A$5:$C$10,2)","v":0},{"$f":"VLOOKUP(A2192,'Correcties op staffel'!$A$5:$C$10,3)","v":0},27000,null,218900,27000,32670,null,218900,27000,32670]
[219500,27000,32670,{"$f":"VLOOKUP(A2198,'Correcties op staffel'!$A$5:$C$10,2)","v":0},{"$f":"VLOOKUP(A2198,'Correcties op staffel'!$A$5:$C$10,3)","v":0},27000,null,219500,27000,32670,null,219500,27000,32670]
[219800,27100,32791,{"$f":"VLOOKUP(A2201,'Correcties op staffel'!$A$5:$C$10,2)","v":0},{"$f":"VLOOKUP(A2201,'Correcties op staffel'!$A$5:$C$10,3)","v":0},27100,null,219800,27100,32791,null,219800,27100,32791]
[220300,27100,32791,{"$f":"VLOOKUP(A2206,'Correcties op staffel'!$A$5:$C$10,2)","v":0},{"$f":"VLOOKUP(A2206,'Correcties op staffel'!$A$5:$C$10,3)","v":0},27100,null,220300,27100,32791,null,220300,27100,32791]
[220400,27100,32791,{"$f":"VLOOKUP(A2207,'Correcties op staffel'!$A$5:$C$10,2)","v":0},{"$f":"VLOOKUP(A2207,'Correcties op staffel'!$A$5:$C$10,3)","v":0},27100,null,220400,27100,32791,null,220400,27100,32791]
[220900,27200,32912,{"$f":"VLOOKUP(A2212,'Correcties op staffel'!$A$5:$C$10,2)","v":0},{"$f":"VLOOKUP(A2212,'Correcties op staffel'!$A$5:$C$10,3)","v":0},27200,null,220900,27200,32912,null,220900,27200,32912]
[221300,27200,32912,{"$f":"VLOOKUP(A2216,'Correcties op staffel'!$A$5:$C$10,2)","v":0},{"$f":"VLOOKUP(A2216,'Correcties op staffel'!$A$5:$C$10,3)","v":0},27200,null,221300,27200,32912,null,221300,27200,32912]
[{"$f":"A2220+100","v":221800},27300,33033,{"$f":"VLOOKUP(A2221,'Correcties op staffel'!$A$5:$C$10,2)","v":0},{"$f":"VLOOKUP(A2221,'Correcties op staffel'!$A$5:$C$10,3)","v":0},27300,null,{"$f":"H2220+100","v":221800},27300,33033,null,221800,27300,33033]
[221900,27300,33033,{"$f":"VLOOKUP(A2222,'Correcties op staffel'!$A$5:$C$10,2)","v":0},{"$f":"VLOOKUP(A2222,'Correcties op staffel'!$A$5:$C$10,3)","v":0},27300,null,221900,27300,33033,null,221900,27300,33033]
[222500,27300,33033,{"$f":"VLOOKUP(A2228,'Correcties op staffel'!$A$5:$C$10,2)","v":0},{"$f":"VLOOKUP(A2228,'Correcties op staffel'!$A$5:$C$10,3)","v":0},27300,null,222500,27300,33033,null,222500,27300,33033]
[222800,27300,33033,{"$f":"VLOOKUP(A2231,'Correcties op staffel'!$A$5:$C$10,2)","v":0},{"$f":"VLOOKUP(A2231,'Correcties op staffel'!$A$5:$C$10,3)","v":0},27300,null,222800,27300,33033,null,222800,27300,33033]
[223300,27400,33154,{"$f":"VLOOKUP(A2236,'Correcties op staffel'!$A$5:$C$10,2)","v":0},{"$f":"VLOOKUP(A2236,'Correcties op staffel'!$A$5:$C$10,3)","v":0},27400,null,223300,27400,33154,null,223300,27400,33154]
[223400,27400,33154,{"$f":"VLOOKUP(A2237,'Correcties op staffel'!$A$5:$C$10,2)","v":0},{"$f":"VLOOKUP(A2237,'Correcties op staffel'!$A$5:$C$10,3)","v":0},27400,null,223400,27400,33154,null,223400,27400,33154]
[223900,27500,33275,{"$f":"VLOOKUP(A2242,'Correcties op staffel'!$A$5:$C$10,2)","v":0},{"$f":"VLOOKUP(A2242,'Correcties op staffel'!$A$5:$C$10,3)","v":0},27500,null,223900,27500,33275,null,223900,27500,33275]
[224300,27500,33275,{"$f":"VLOOKUP(A2246,'Correcties op staffel'!$A$5:$C$10,2)","v":0},{"$f":"VLOOKUP(A2246,'Correcties op staffel'!$A$5:$C$10,3)","v":0},27500,null,224300,27500,33275,null,224300,27500,33275]
[224800,27500,33275,{"$f":"VLOOKUP(A2251,'Correcties op staffel'!$A$5:$C$10,2)","v":0},{"$f":"VLOOKUP(A2251,'Correcties op staffel'!$A$5:$C$10,3)","v":0},27500,null,224800,27500,33275,null,224800,27500,33275]
[224900,27600,33396,{"$f":"VLOOKUP(A2252,'Correcties op staffel'!$A$5:$C$10,2)","v":0},{"$f":"VLOOKUP(A2252,'Correcties op staffel'!$A$5:$C$10,3)","v":0},27600,null,224900,27600,33396,null,224900,27600,33396]
[225500,27600,33396,{"$f":"VLOOKUP(A2258,'Correcties op staffel'!$A$5:$C$10,2)","v":0},{"$f":"VLOOKUP(A2258,'Correcties op staffel'!$A$5:$C$10,3)","v":0},27600,null,225500,27600,33396,null,225500,27600,33396]
[225800,27600,33396,{"$f":"VLOOKUP(A2261,'Correcties op staffel'!$A$5:$C$10,2)","v":0},{"$f":"VLOOKUP(A2261,'Correcties op staffel'!$A$5:$C$10,3)","v":0},27600,null,225800,27600,33396,null,225800,27600,33396]
[226300,27700,33517,{"$f":"VLOOKUP(A2266,'Correcties op staffel'!$A$5:$C$10,2)","v":0},{"$f":"VLOOKUP(A2266,'Correcties op staffel'!$A$5:$C$10,3)","v":0},27700,null,226300,27700,33517,null,226300,27700,33517]
[226400,27700,33517,{"$f":"VLOOKUP(A2267,'Correcties op staffel'!$A$5:$C$10,2)","v":0},{"$f":"VLOOKUP(A2267,'Correcties op staffel'!$A$5:$C$10,3)","v":0},27700,null,226400,27700,33517,null,226400,27700,33517]
[226900,27800,33638,{"$f":"VLOOKUP(A2272,'Correcties op staffel'!$A$5:$C$10,2)","v":0},{"$f":"VLOOKUP(A2272,'Correcties op staffel'!$A$5:$C$10,3)","v":0},27800,null,226900,27800,33638,null,226900,27800,33638]
[227300,27800,33638,{"$f":"VLOOKUP(A2276,'Correcties op staffel'!$A$5:$C$10,2)","v":0},{"$f":"VLOOKUP(A2276,'Correcties op staffel'!$A$5:$C$10,3)","v":0},27800,null,227300,27800,33638,null,227300,27800,33638]
[227800,27800,33638,{"$f":"VLOOKUP(A2281,'Correcties op staffel'!$A$5:$C$10,2)","v":0},{"$f":"VLOOKUP(A2281,'Correcties op staffel'!$A$5:$C$10,3)","v":0},27800,null,227800,27800,33638,null,227800,27800,33638]
[227900,27900,33759,{"$f":"VLOOKUP(A2282,'Correcties op staffel'!$A$5:$C$10,2)","v":0},{"$f":"VLOOKUP(A2282,'Correcties op staffel'!$A$5:$C$10,3)","v":0},27900,null,227900,27900,33759,null,227900,27900,33759]
[228300,27900,33759,{"$f":"VLOOKUP(A2286,'Correcties op staffel'!$A$5:$C$10,2)","v":0},{"$f":"VLOOKUP(A2286,'Correcties op staffel'!$A$5:$C$10,3)","v":0},27900,null,228300,27900,33759,null,228300,27900,33759]
[228800,27900,33759,{"$f":"VLOOKUP(A2291,'Correcties op staffel'!$A$5:$C$10,2)","v":0},{"$f":"VLOOKUP(A2291,'Correcties op staffel'!$A$5:$C$10,3)","v":0},27900,null,228800,27900,33759,null,228800,27900,33759]
[229300,28000,33880,{"$f":"VLOOKUP(A2296,'Correcties op staffel'!$A$5:$C$10,2)","v":0},{"$f":"VLOOKUP(A2296,'Correcties op staffel'!$A$5:$C$10,3)","v":0},28000,null,229300,28000,33880,null,229300,28000,33880]
[229400,28000,33880,{"$f":"VLOOKUP(A2297,'Correcties op staffel'!$A$5:$C$10,2)","v":0},{"$f":"VLOOKUP(A2297,'Correcties op staffel'!$A$5:$C$10,3)","v":0},28000,null,229400,28000,33880,null,229400,28000,33880]
[229900,28000,33880,{"$f":"VLOOKUP(A2302,'Correcties op staffel'!$A$5:$C$10,2)","v":0},{"$f":"VLOOKUP(A2302,'Correcties op staffel'!$A$5:$C$10,3)","v":0},28000,null,229900,28000,33880,null,229900,28000,33880]
[230300,28100,34001,{"$f":"VLOOKUP(A2306,'Correcties op staffel'!$A$5:$C$10,2)","v":0},{"$f":"VLOOKUP(A2306,'Correcties op staffel'!$A$5:$C$10,3)","v":0},28100,null,230300,28100,34001,null,230300,28100,34001]
[230800,28100,34001,{"$f":"VLOOKUP(A2311,'Correcties op staffel'!$A$5:$C$10,2)","v":0},{"$f":"VLOOKUP(A2311,'Correcties op staffel'!$A$5:$C$10,3)","v":0},28100,null,230800,28100,34001,null,230800,28100,34001]
[230900,28100,34001,{"$f":"VLOOKUP(A2312,'Correcties op staffel'!$A$5:$C$10,2)","v":0},{"$f":"VLOOKUP(A2312,'Correcties op staffel'!$A$5:$C$10,3)","v":0},28100,null,230900,28100,34001,null,230900,28100,34001]
[231300,28200,34122,{"$f":"VLOOKUP(A2316,'Correcties op staffel'!$A$5:$C$10,2)","v":0},{"$f":"VLOOKUP(A2316,'Correcties op staffel'!$A$5:$C$10,3)","v":0},28200,null,231300,28200,34122,null,231300,28200,34122]
[231800,28200,34122,{"$f":"VLOOKUP(A2321,'Correcties op staffel'!$A$5:$C$10,2)","v":0},{"$f":"VLOOKUP(A2321,'Correcties op staffel'!$A$5:$C$10,3)","v":0},28200,null,231800,28200,34122,null,231800,28200,34122]
[232300,28300,34243,{"$f":"VLOOKUP(A2326,'Correcties op staffel'!$A$5:$C$10,2)","v":0},{"$f":"VLOOKUP(A2326,'Correcties op staffel'!$A$5:$C$10,3)","v":0},28300,null,232300,28300,34243,null,232300,28300,34243]
[232400,28300,34243,{"$f":"VLOOKUP(A2327,'Correcties op staffel'!$A$5:$C$10,2)","v":0},{"$f":"VLOOKUP(A2327,'Correcties op staffel'!$A$5:$C$10,3)","v":0},28300,null,232400,28300,34243,null,232400,28300,34243]
[232900,28300,34243,{"$f":"VLOOKUP(A2332,'Correcties op staffel'!$A$5:$C$10,2)","v":0},{"$f":"VLOOKUP(A2332,'Correcties op staffel'!$A$5:$C$10,3)","v":0},28300,null,232900,28300,34243,null,232900,28300,34243]
[233300,28400,34364,{"$f":"VLOOKUP(A2336,'Correcties op staffel'!$A$5:$C$10,2)","v":0},{"$f":"VLOOKUP(A2336,'Correcties op staffel'!$A$5:$C$10,3)","v":0},28400,null,233300,28400,34364,null,233300,28400,34364]
[233800,28400,34364,{"$f":"VLOOKUP(A2341,'Correcties op staffel'!$A$5:$C$10,2)","v":0},{"$f":"VLOOKUP(A2341,'Correcties op staffel'!$A$5:$C$10,3)","v":0},28400,null,233800,28400,34364,null,233800,28400,34364]
[233900,28400,34364,{"$f":"VLOOKUP(A2342,'Correcties op staffel'!$A$5:$C$10,2)","v":0},{"$f":"VLOOKUP(A2342,'Correcties op staffel'!$A$5:$C$10,3)","v":0},28400,null,233900,28400,34364,null,233900,28400,34364]
[234300,28500,34485,{"$f":"VLOOKUP(A2346,'Correcties op staffel'!$A$5:$C$10,2)","v":0},{"$f":"VLOOKUP(A2346,'Correcties op staffel'!$A$5:$C$10,3)","v":0},28500,null,234300,28500,34485,null,234300,28500,34485]
[234800,28500,34485,{"$f":"VLOOKUP(A2351,'Correcties op staffel'!$A$5:$C$10,2)","v":0},{"$f":"VLOOKUP(A2351,'Correcties op staffel'!$A$5:$C$10,3)","v":0},28500,null,234800,28500,34485,null,234800,28500,34485]
[235300,28600,34606,{"$f":"VLOOKUP(A2356,'Correcties op staffel'!$A$5:$C$10,2)","v":0},{"$f":"VLOOKUP(A2356,'Correcties op staffel'!$A$5:$C$10,3)","v":0},28600,null,235300,28600,34606,null,235300,28600,34606]
[235400,28600,34606,{"$f":"VLOOKUP(A2357,'Correcties op staffel'!$A$5:$C$10,2)","v":0},{"$f":"VLOOKUP(A2357,'Correcties op staffel'!$A$5:$C$10,3)","v":0},28600,null,235400,28600,34606,null,235400,28600,34606]
[235900,28600,34606,{"$f":"VLOOKUP(A2362,'Correcties op staffel'!$A$5:$C$10,2)","v":0},{"$f":"VLOOKUP(A2362,'Correcties op staffel'!$A$5:$C$10,3)","v":0},28600,null,235900,28600,34606,null,235900,28600,34606]
[236300,28700,34727,{"$f":"VLOOKUP(A2366,'Correcties op staffel'!$A$5:$C$10,2)","v":0},{"$f":"VLOOKUP(A2366,'Correcties op staffel'!$A$5:$C$10,3)","v":0},28700,null,236300,28700,34727,null,236300,28700,34727]
[236800,28700,34727,{"$f":"VLOOKUP(A2371,'Correcties op staffel'!$A$5:$C$10,2)","v":0},{"$f":"VLOOKUP(A2371,'Correcties op staffel'!$A$5:$C$10,3)","v":0},28700,null,236800,28700,34727,null,236800,28700,34727]
[236900,28700,34727,{"$f":"VLOOKUP(A2372,'Correcties op staffel'!$A$5:$C$10,2)","v":0},{"$f":"VLOOKUP(A2372,'Correcties op staffel'!$A$5:$C$10,3)","v":0},{"$f":"B2372*(1+D2372)+E2372","v":28700},null,236900,{"$f":"ROUND(F2372,0)","v":28700},34727,null,236900,28700,34727]
[237300,28800,34848,{"$f":"VLOOKUP(A2376,'Correcties op staffel'!$A$5:$C$10,2)","v":0},{"$f":"VLOOKUP(A2376,'Correcties op staffel'!$A$5:$C$10,3)","v":0},28800,null,237300,28800,34848,null,237300,28800,34848]
[237800,28800,34848,{"$f":"VLOOKUP(A2381,'Correcties op staffel'!$A$5:$C$10,2)","v":0},{"$f":"VLOOKUP(A2381,'Correcties op staffel'!$A$5:$C$10,3)","v":0},28800,null,237800,28800,34848,null,237800,28800,34848]
[238300,28900,34969,{"$f":"VLOOKUP(A2386,'Correcties op staffel'!$A$5:$C$10,2)","v":0},{"$f":"VLOOKUP(A2386,'Correcties op staffel'!$A$5:$C$10,3)","v":0},28900,null,238300,28900,34969,null,238300,28900,34969]
[238400,28900,34969,{"$f":"VLOOKUP(A2387,'Correcties op staffel'!$A$5:$C$10,2)","v":0},{"$f":"VLOOKUP(A2387,'Correcties op staffel'!$A$5:$C$10,3)","v":0},28900,null,238400,28900,34969,null,238400,28900,34969]
[238900,28900,34969,{"$f":"VLOOKUP(A2392,'Correcties op staffel'!$A$5:$C$10,2)","v":0},{"$f":"VLOOKUP(A2392,'Correcties op staffel'!$A$5:$C$10,3)","v":0},28900,null,238900,28900,34969,null,238900,28900,34969]
[239300,29000,35090,{"$f":"VLOOKUP(A2396,'Correcties op staffel'!$A$5:$C$10,2)","v":0},{"$f":"VLOOKUP(A2396,'Correcties op staffel'!$A$5:$C$10,3)","v":0},29000,null,239300,29000,35090,null,239300,29000,35090]
[239800,29000,35090,{"$f":"VLOOKUP(A2401,'Correcties op staffel'!$A$5:$C$10,2)","v":0},{"$f":"VLOOKUP(A2401,'Correcties op staffel'!$A$5:$C$10,3)","v":0},29000,null,239800,29000,35090,null,239800,29000,35090]
[239900,29000,35090,{"$f":"VLOOKUP(A2402,'Correcties op staffel'!$A$5:$C$10,2)","v":0},{"$f":"VLOOKUP(A2402,'Correcties op staffel'!$A$5:$C$10,3)","v":0},29000,null,239900,29000,35090,null,239900,29000,35090]
[240300,29100,35211,{"$f":"VLOOKUP(A2406,'Correcties op staffel'!$A$5:$C$10,2)","v":0},{"$f":"VLOOKUP(A2406,'Correcties op staffel'!$A$5:$C$10,3)","v":0},29100,null,240300,29100,35211,null,240300,29100,35211]
[240800,29100,35211,{"$f":"VLOOKUP(A2411,'Correcties op staffel'!$A$5:$C$10,2)","v":0},{"$f":"VLOOKUP(A2411,'Correcties op staffel'!$A$5:$C$10,3)","v":0},29100,null,240800,29100,35211,null,240800,29100,35211]
[241300,29200,35332,{"$f":"VLOOKUP(A2416,'Correcties op staffel'!$A$5:$C$10,2)","v":0},{"$f":"VLOOKUP(A2416,'Correcties op staffel'!$A$5:$C$10,3)","v":0},29200,null,241300,29200,35332,null,241300,29200,35332]
[241400,29200,35332,{"$f":"VLOOKUP(A2417,'Correcties op staffel'!$A$5:$C$10,2)","v":0},{"$f":"VLOOKUP(A2417,'Correcties op staffel'!$A$5:$C$10,3)","v":0},29200,null,241400,29200,35332,null,241400,29200,35332]
[241900,29200,35332,{"$f":"VLOOKUP(A2422,'Correcties op staffel'!$A$5:$C$10,2)","v":0},{"$f":"VLOOKUP(A2422,'Correcties op staffel'!$A$5:$C$10,3)","v":0},29200,null,241900,29200,35332,null,241900,29200,35332]
[242300,29300,35453,{"$f":"VLOOKUP(A2426,'Correcties op staffel'!$A$5:$C$10,2)","v":0},{"$f":"VLOOKUP(A2426,'Correcties op staffel'!$A$5:$C$10,3)","v":0},29300,null,242300,29300,35453,null,242300,29300,35453]
[242800,29300,35453,{"$f":"VLOOKUP(A2431,'Correcties op staffel'!$A$5:$C$10,2)","v":0},{"$f":"VLOOKUP(A2431,'Correcties op staffel'!$A$5:$C$10,3)","v":0},29300,null,242800,29300,35453,null,242800,29300,35453]
[242900,29300,35453,{"$f":"VLOOKUP(A2432,'Correcties op staffel'!$A$5:$C$10,2)","v":0},{"$f":"VLOOKUP(A2432,'Correcties op staffel'!$A$5:$C$10,3)","v":0},29300,null,242900,29300,35453,null,242900,29300,35453]
[243300,29400,35574,{"$f":"VLOOKUP(A2436,'Correcties op staffel'!$A$5:$C$10,2)","v":0},{"$f":"VLOOKUP(A2436,'Correcties op staffel'!$A$5:$C$10,3)","v":0},{"$f":"B2436*(1+D2436)+E2436","v":29400},null,243300,{"$f":"ROUND(F2436,0)","v":29400},35574,null,243300,29400,35574]
[243800,29400,35574,{"$f":"VLOOKUP(A2441,'Correcties op staffel'!$A$5:$C$10,2)","v":0},{"$f":"VLOOKUP(A2441,'Correcties op staffel'!$A$5:$C$10,3)","v":0},29400,null,243800,29400,35574,null,243800,29400,35574]
[244300,29500,35695,{"$f":"VLOOKUP(A2446,'Correcties op staffel'!$A$5:$C$10,2)","v":0},{"$f":"VLOOKUP(A2446,'Correcties op staffel'!$A$5:$C$10,3)","v":0},29500,null,244300,29500,35695,null,244300,29500,35695]
[244400,29500,35695,{"$f":"VLOOKUP(A2447,'Correcties op staffel'!$A$5:$C$10,2)","v":0},{"$f":"VLOOKUP(A2447,'Correcties op staffel'!$A$5:$C$10,3)","v":0},29500,null,244400,29500,35695,null,244400,29500,35695]
[244900,29500,35695,{"$f":"VLOOKUP(A2452,'Correcties op staffel'!$A$5:$C$10,2)","v":0},{"$f":"VLOOKUP(A2452,'Correcties op staffel'!$A$5:$C$10,3)","v":0},29500,null,244900,29500,35695,null,244900,29500,35695]
[245300,29600,35816,{"$f":"VLOOKUP(A2456,'Correcties op staffel'!$A$5:$C$10,2)","v":0},{"$f":"VLOOKUP(A2456,'Correcties op staffel'!$A$5:$C$10,3)","v":0},29600,null,245300,29600,35816,null,245300,29600,35816]
[245800,29600,35816,{"$f":"VLOOKUP(A2461,'Correcties op staffel'!$A$5:$C$10,2)","v":0},{"$f":"VLOOKUP(A2461,'Correcties op staffel'!$A$5:$C$10,3)","v":0},29600,null,245800,29600,35816,null,245800,29600,35816]
[245900,29600,35816,{"$f":"VLOOKUP(A2462,'Correcties op staffel'!$A$5:$C$10,2)","v":0},{"$f":"VLOOKUP(A2462,'Correcties op staffel'!$A$5:$C$10,3)","v":0},29600,null,245900,29600,35816,null,245900,29600,35816]
[246300,29700,35937,{"$f":"VLOOKUP(A2466,'Correcties op staffel'!$A$5:$C$10,2)","v":0},{"$f":"VLOOKUP(A2466,'Correcties op staffel'!$A$5:$C$10,3)","v":0},29700,null,246300,29700,35937,null,246300,29700,35937]
[246800,29700,35937,{"$f":"VLOOKUP(A2471,'Correcties op staffel'!$A$5:$C$10,2)","v":0},{"$f":"VLOOKUP(A2471,'Correcties op staffel'!$A$5:$C$10,3)","v":0},29700,null,246800,29700,35937,null,246800,29700,35937]
[247300,29800,36058,{"$f":"VLOOKUP(A2476,'Correcties op staffel'!$A$5:$C$10,2)","v":0},{"$f":"VLOOKUP(A2476,'Correcties op staffel'!$A$5:$C$10,3)","v":0},29800,null,247300,29800,36058,null,247300,29800,36058]
[{"$f":"A2476+100","v":247400},29800,36058,{"$f":"VLOOKUP(A2477,'Correcties op staffel'!$A$5:$C$10,2)","v":0},{"$f":"VLOOKUP(A2477,'Correcties op staffel'!$A$5:$C$10,3)","v":0},29800,null,{"$f":"H2476+100","v":247400},29800,36058,null,247400,29800,36058]
[247900,29800,36058,{"$f":"VLOOKUP(A2482,'Correcties op staffel'!$A$5:$C$10,2)","v":0},{"$f":"VLOOKUP(A2482,'Correcties op staffel'!$A$5:$C$10,3)","v":0},29800,null,247900,29800,36058,null,247900,29800,36058]
[248300,29900,36179,{"$f":"VLOOKUP(A2486,'Correcties op staffel'!$A$5:$C$10,2)","v":0},{"$f":"VLOOKUP(A2486,'Correcties op staffel'!$A$5:$C$10,3)","v":0},29900,null,248300,29900,36179,null,248300,29900,36179]
[248800,29900,36179,{"$f":"VLOOKUP(A2491,'Correcties op staffel'!$A$5:$C$10,2)","v":0},{"$f":"VLOOKUP(A2491,'Correcties op staffel'!$A$5:$C$10,3)","v":0},29900,null,248800,29900,36179,null,248800,29900,36179]
[248900,29900,36179,{"$f":"VLOOKUP(A2492,'Correcties op staffel'!$A$5:$C$10,2)","v":0},{"$f":"VLOOKUP(A2492,'Correcties op staffel'!$A$5:$C$10,3)","v":0},29900,null,248900,29900,36179,null,248900,29900,36179]
[249300,30000,36300,{"$f":"VLOOKUP(A2496,'Correcties op staffel'!$A$5:$C$10,2)","v":0},{"$f":"VLOOKUP(A2496,'Correcties op staffel'!$A$5:$C$10,3)","v":0},30000,null,249300,30000,36300,null,249300,30000,36300]
[249800,30000,36300,{"$f":"VLOOKUP(A2501,'Correcties op staffel'!$A$5:$C$10,2)","v":0},{"$f":"VLOOKUP(A2501,'Correcties op staffel'!$A$5:$C$10,3)","v":0},30000,null,249800,30000,{"$f":"I2501*1.21","v":36300},null,249800,{"$f":"IF(ROUND(I2501/5,0)*5<I2501,ROUND(I2501/5,0)*5+5,ROUND(I2501/5,0)*5)","v":30000},{"$f":"M2501*1.21","v":36300}]
[null,null,null,null,null,null,null,null,null,null,null,250300,31100,37631,"buiten overeenkomst"]
[null,null,null,null,null,null,null,null,null,null,null,250400,31100,37631,"buiten overeenkomst"]
[null,null,null,null,null,null,null,null,null,null,null,250900,31100,37631,"buiten overeenkomst"]
[null,null,null,null,null,null,null,null,null,null,null,251300,31200,37752,"buiten overeenkomst"]
[null,null,null,null,null,null,null,null,null,null,null,251800,31200,37752,"buiten overeenkomst"]
[null,null,null,null,null,null,null,null,null,null,null,251900,31200,37752,"buiten overeenkomst"]
[null,null,null,null,null,null,null,null,null,null,null,252300,31200,37752,"buiten overeenkomst"]
[null,null,null,null,null,null,null,null,null,null,null,252800,31300,37873,"buiten overeenkomst"]
[null,null,null,null,null,null,null,null,null,null,null,253300,31300,37873,"buiten overeenkomst"]
[null,null,null,null,null,null,null,null,null,null,null,253400,31300,37873,"buiten overeenkomst"]
[null,null,null,null,null,null,null,null,null,null,null,254000,31400,37994,"buiten overeenkomst"]
[null,null,null,null,null,null,null,null,null,null,null,254300,31400,37994,"buiten overeenkomst"]
[null,null,null,null,null,null,null,null,null,null,null,254800,31400,37994,"buiten overeenkomst"]
[null,null,null,null,null,null,null,null,null,null,null,254900,31400,37994,"buiten overeenkomst"]
[null,null,null,null,null,null,null,null,null,null,null,255300,31500,38115,"buiten overeenkomst"]
[null,null,null,null,null,null,null,null,null,null,null,255800,31500,38115,"buiten overeenkomst"]
[null,null,null,null,null,null,null,null,null,null,null,256300,31600,38236,"buiten overeenkomst"]
[null,null,null,null,null,null,null,null,null,null,null,256400,31600,38236,"buiten overeenkomst"]
[null,null,null,null,null,null,null,null,null,null,null,257000,31600,38236,"buiten overeenkomst"]
[null,null,null,null,null,null,null,null,null,null,null,257300,31600,38236,"buiten overeenkomst"]
[null,null,null,null,null,null,null,null,null,null,null,257800,31700,38357,"buiten overeenkomst"]
[null,null,null,null,null,null,null,null,null,null,null,257900,31700,38357,"buiten overeenkomst"]
[null,null,null,null,null,null,null,null,null,null,null,258300,31700,38357,"buiten overeenkomst"]
[null,null,null,null,null,null,null,null,null,null,null,258800,31800,38478,"buiten overeenkomst"]
[null,null,null,null,null,null,null,null,null,null,null,259300,31800,38478,"buiten overeenkomst"]
[null,null,null,null,null,null,null,null,null,null,null,259400,31800,38478,"buiten overeenkomst"]
[null,null,null,null,null,null,null,null,null,null,null,260000,31800,38478,"buiten overeenkomst"]
[null,null,null,null,null,null,null,null,null,null,null,260300,31900,38599,"buiten overeenkomst"]
[null,null,null,null,null,null,null,null,null,null,null,260800,31900,38599,"buiten overeenkomst"]
[null,null,null,null,null,null,null,null,null,null,null,260900,31900,38599,"buiten overeenkomst"]
[null,null,null,null,null,null,null,null,null,null,null,261300,32000,38720,"buiten overeenkomst"]
[null,null,null,null,null,null,null,null,null,null,null,261800,32000,38720,"buiten overeenkomst"]
[null,null,null,null,null,null,null,null,null,null,null,262300,32000,38720,"buiten overeenkomst"]
[null,null,null,null,null,null,null,null,null,null,null,262400,32000,38720,"buiten overeenkomst"]
[null,null,null,null,null,null,null,null,null,null,null,262900,32100,38841,"buiten overeenkomst"]
[null,null,null,null,null,null,null,null,null,null,null,263400,32100,38841,"buiten overeenkomst"]
[null,null,null,null,null,null,null,null,null,null,null,263800,32200,38962,"buiten overeenkomst"]
[null,null,null,null,null,null,null,null,null,null,null,263900,32200,38962,"buiten overeenkomst"]
[null,null,null,null,null,null,null,null,null,null,null,264400,32200,38962,"buiten overeenkomst"]
[null,null,null,null,null,null,null,null,null,null,null,264800,32200,38962,"buiten overeenkomst"]
[null,null,null,null,null,null,null,null,null,null,null,265300,32300,39083,"buiten overeenkomst"]
[null,null,null,null,null,null,null,null,null,null,null,265400,32300,39083,"buiten overeenkomst"]
[null,null,null,null,null,null,null,null,null,null,null,265900,32300,39083,"buiten overeenkomst"]
[null,null,null,null,null,null,null,null,null,null,null,266400,32400,39204,"buiten overeenkomst"]
[null,null,null,null,null,null,null,null,null,null,null,266800,32400,39204,"buiten overeenkomst"]
[null,null,null,null,null,null,null,null,null,null,null,266900,32400,39204,"buiten overeenkomst"]
[null,null,null,null,null,null,null,null,null,null,null,267400,32400,39204,"buiten overeenkomst"]
[null,null,null,null,null,null,null,null,null,null,null,267800,32500,39325,"buiten overeenkomst"]
[null,null,null,null,null,null,null,null,null,null,null,268300,32500,39325,"buiten overeenkomst"]
[null,null,null,null,null,null,null,null,null,null,null,268400,32500,39325,"buiten overeenkomst"]
[null,null,null,null,null,null,null,null,null,null,null,268900,32600,39446,"buiten overeenkomst"]
[null,null,null,null,null,null,null,null,null,null,null,269400,32600,39446,"buiten overeenkomst"]
[null,null,null,null,null,null,null,null,null,null,null,269800,32600,39446,"buiten overeenkomst"]
[null,null,null,null,null,null,null,null,null,null,null,269900,32600,39446,"buiten overeenkomst"]
[null,null,null,null,null,null,null,null,null,null,null,270400,32700,39567,"buiten overeenkomst"]
[null,null,null,null,null,null,null,null,null,null,null,270800,32700,39567,"buiten overeenkomst"]
[null,null,null,null,null,null,null,null,null,null,null,271300,32800,39688,"buiten overeenkomst"]
[null,null,null,null,null,null,null,null,null,null,null,271400,32800,39688,"buiten overeenkomst"]
[null,null,null,null,null,null,null,null,null,null,null,271900,32800,39688,"buiten overeenkomst"]
[null,null,null,null,null,null,null,null,null,null,null,272400,32800,39688,"buiten overeenkomst"]
[null,null,null,null,null,null,null,null,null,null,null,272800,32900,39809,"buiten overeenkomst"]
[null,null,null,null,null,null,null,null,null,null,null,272900,32900,39809,"buiten overeenkomst"]
[null,null,null,null,null,null,null,null,null,null,null,273400,32900,39809,"buiten overeenkomst"]
[null,null,null,null,null,null,null,null,null,null,null,273800,33000,39930,"buiten overeenkomst"]
[null,null,null,null,null,null,null,null,null,null,null,274300,33000,39930,"buiten overeenkomst"]
[null,null,null,null,null,null,null,null,null,null,null,274400,33000,39930,"buiten overeenkomst"]
[null,null,null,null,null,null,null,null,null,null,null,274900,33000,39930,"buiten overeenkomst"]
[null,null,null,null,null,null,null,null,null,null,null,275400,33100,40051,"buiten overeenkomst"]
[null,null,null,null,null,null,null,null,null,null,null,275800,33100,40051,"buiten overeenkomst"]
[null,null,null,null,null,null,null,null,null,null,null,275900,33100,40051,"buiten overeenkomst"]
[null,null,null,null,null,null,null,null,null,null,null,276400,33200,40172,"buiten overeenkomst"]
[null,null,null,null,null,null,null,null,null,null,null,276800,33200,40172,"buiten overeenkomst"]
[null,null,null,null,null,null,null,null,null,null,null,277300,33200,40172,"buiten overeenkomst"]
[null,null,null,null,null,null,null,null,null,null,null,277400,33200,40172,"buiten overeenkomst"]
[null,null,null,null,null,null,null,null,null,null,null,277900,33300,40293,"buiten overeenkomst"]
[null,null,null,null,null,null,null,null,null,null,null,278400,33300,40293,"buiten overeenkomst"]
[null,null,null,null,null,null,null,null,null,null,null,278800,33400,40414,"buiten overeenkomst"]
[null,null,null,null,null,null,null,null,null,null,null,278900,33400,40414,"buiten overeenkomst"]
[null,null,null,null,null,null,null,null,null,null,null,279400,33400,40414,"buiten overeenkomst"]
[null,null,null,null,null,null,null,null,null,null,null,279800,33400,40414,"buiten overeenkomst"]
[null,null,null,null,null,null,null,null,null,null,null,280300,33500,40535,"buiten overeenkomst"]
[null,null,null,null,null,null,null,null,null,null,null,280400,33500,40535,"buiten overeenkomst"]
[null,null,null,null,null,null,null,null,null,null,null,280900,33500,40535,"buiten overeenkomst"]
[null,null,null,null,null,null,null,null,null,null,null,281400,33600,40656,"buiten overeenkomst"]
[null,null,null,null,null,null,null,null,null,null,null,281800,33600,40656,"buiten overeenkomst"]
[null,null,null,null,null,null,null,null,null,null,null,281900,33600,40656,"buiten overeenkomst"]
[null,null,null,null,null,null,null,null,null,null,null,282400,33600,40656,"buiten overeenkomst"]
[null,null,null,null,null,null,null,null,null,null,null,282800,33700,40777,"buiten overeenkomst"]
[null,null,null,null,null,null,null,null,null,null,null,283300,33700,40777,"buiten overeenkomst"]
[null,null,null,null,null,null,null,null,null,null,null,283400,33700,40777,"buiten overeenkomst"]
[null,null,null,null,null,null,null,null,null,null,null,283900,33800,40898,"buiten overeenkomst"]
[null,null,null,null,null,null,null,null,null,null,null,284400,33800,40898,"buiten overeenkomst"]
[null,null,null,null,null,null,null,null,null,null,null,284800,33800,40898,"buiten overeenkomst"]
[null,null,null,null,null,null,null,null,null,null,null,284900,33800,40898,"buiten overeenkomst"]
[null,null,null,null,null,null,null,null,null,null,null,285400,33900,41019,"buiten overeenkomst"]
[null,null,null,null,null,null,null,null,null,null,null,285800,33900,41019,"buiten overeenkomst"]
[null,null,null,null,null,null,null,null,null,null,null,286300,34000,41140,"buiten overeenkomst"]
[null,null,null,null,null,null,null,null,null,null,null,286400,34000,41140,"buiten overeenkomst"]
[null,null,null,null,null,null,null,null,null,null,null,286900,34000,41140,"buiten overeenkomst"]
[null,null,null,null,null,null,null,null,null,null,null,287400,34000,41140,"buiten overeenkomst"]
[null,null,null,null,null,null,null,null,null,null,null,287800,34100,41261,"buiten overeenkomst"]
[null,null,null,null,null,null,null,null,null,null,null,287900,34100,41261,"buiten overeenkomst"]
[null,null,null,null,null,null,null,null,null,null,null,288400,34100,41261,"buiten overeenkomst"]
[null,null,null,null,null,null,null,null,null,null,null,288800,34200,41382,"buiten overeenkomst"]
[null,null,null,null,null,null,null,null,null,null,null,289300,34200,41382,"buiten overeenkomst"]
[null,null,null,null,null,null,null,null,null,null,null,289400,34200,41382,"buiten overeenkomst"]
[null,null,null,null,null,null,null,null,null,null,null,289900,34200,41382,"buiten overeenkomst"]
[null,null,null,null,null,null,null,null,null,null,null,290200,34300,41503,"buiten overeenkomst"]
[null,null,null,null,null,null,null,null,null,null,null,290800,34300,41503,"buiten overeenkomst"]
[null,null,null,null,null,null,null,null,null,null,null,290900,34300,41503,"buiten overeenkomst"]
[null,null,null,null,null,null,null,null,null,null,null,291400,34400,41624,"buiten overeenkomst"]
[null,null,null,null,null,null,null,null,null,null,null,291800,34400,41624,"buiten overeenkomst"]
[null,null,null,null,null,null,null,null,null,null,null,292300,34400,41624,"buiten overeenkomst"]
[null,null,null,null,null,null,null,null,null,null,null,292400,34400,41624,"buiten overeenkomst"]
[null,null,null,null,null,null,null,null,null,null,null,292900,34500,41745,"buiten overeenkomst"]
[null,null,null,null,null,null,null,null,null,null,null,293200,34500,41745,"buiten overeenkomst"]
[null,null,null,null,null,null,null,null,null,null,null,293800,34600,41866,"buiten overeenkomst"]
[null,null,null,null,null,null,null,null,null,null,null,293900,34600,41866,"buiten overeenkomst"]
[null,null,null,null,null,null,null,null,null,null,null,294400,34600,41866,"buiten overeenkomst"]
[null,null,null,null,null,null,null,null,null,null,null,294800,34600,41866,"buiten overeenkomst"]
[null,null,null,null,null,null,null,null,null,null,null,295300,34700,41987,"buiten overeenkomst"]
[null,null,null,null,null,null,null,null,null,null,null,295400,34700,41987,"buiten overeenkomst"]
[null,null,null,null,null,null,null,null,null,null,null,295900,34700,41987,"buiten overeenkomst"]
[null,null,null,null,null,null,null,null,null,null,null,296200,34700,41987,"buiten overeenkomst"]
[null,null,null,null,null,null,null,null,null,null,null,296800,34800,42108,"buiten overeenkomst"]
[null,null,null,null,null,null,null,null,null,null,null,296900,34800,42108,"buiten overeenkomst"]
[null,null,null,null,null,null,null,null,null,null,null,297400,34800,42108,"buiten overeenkomst"]
[null,null,null,null,null,null,null,null,null,null,null,297800,34900,42229,"buiten overeenkomst"]
[null,null,null,null,null,null,null,null,null,null,null,298300,34900,42229,"buiten overeenkomst"]
[null,null,null,null,null,null,null,null,null,null,null,298400,34900,42229,"buiten overeenkomst"]
[null,null,null,null,null,null,null,null,null,null,null,298900,35000,42350,"buiten overeenkomst"]
[null,null,null,null,null,null,null,null,null,null,null,299200,35000,42350,"buiten overeenkomst"]
[null,null,null,null,null,null,null,null,null,null,null,299800,35000,42350,"buiten overeenkomst"]
[null,null,null,null,null,null,null,null,null,null,null,299900,35000,42350,"buiten overeenkomst"]
[null,null,null,null,null,null,null,null,null,null,null,300400,35100,42471,"buiten overeenkomst"]
[null,null,null,null,null,null,null,null,null,null,null,300800,35100,42471,"buiten overeenkomst"]
[null,null,null,null,null,null,null,null,null,null,null,301300,35100,42471,"buiten overeenkomst"]
[null,null,null,null,null,null,null,null,null,null,null,301400,35100,42471,"buiten overeenkomst"]
[null,null,null,null,null,null,null,null,null,null,null,301900,35100,42471,"buiten overeenkomst"]
[null,null,null,null,null,null,null,null,null,null,null,302200,35200,42592,"buiten overeenkomst"]
[null,null,null,null,null,null,null,null,null,null,null,302800,35200,42592,"buiten overeenkomst"]
[null,null,null,null,null,null,null,null,null,null,null,302900,35200,42592,"buiten overeenkomst"]
[null,null,null,null,null,null,null,null,null,null,null,303400,35200,42592,"buiten overeenkomst"]
[null,null,null,null,null,null,null,null,null,null,null,303800,35200,42592,"buiten overeenkomst"]
[null,null,null,null,null,null,null,null,null,null,null,304300,35300,42713,"buiten overeenkomst"]
[null,null,null,null,null,null,null,null,null,null,null,304400,35300,42713,"buiten overeenkomst"]
[null,null,null,null,null,null,null,null,null,null,null,304900,35300,42713,"buiten overeenkomst"]
[null,null,null,null,null,null,null,null,null,null,null,305200,35300,42713,"buiten overeenkomst"]
[null,null,null,null,null,null,null,null,null,null,null,305800,35300,42713,"buiten overeenkomst"]
[null,null,null,null,null,null,null,null,null,null,null,305900,35300,42713,"buiten overeenkomst"]
[null,null,null,null,null,null,null,null,null,null,null,306400,35400,42834,"buiten overeenkomst"]
[null,null,null,null,null,null,null,null,null,null,null,306800,35400,42834,"buiten overeenkomst"]
[null,null,null,null,null,null,null,null,null,null,null,307300,35400,42834,"buiten overeenkomst"]
[null,null,null,null,null,null,null,null,null,null,null,307400,35400,42834,"buiten overeenkomst"]
[null,null,null,null,null,null,null,null,null,null,null,307900,35400,42834,"buiten overeenkomst"]
[null,null,null,null,null,null,null,null,null,null,null,308200,35500,42955,"buiten overeenkomst"]
[null,null,null,null,null,null,null,null,null,null,null,308800,35500,42955,"buiten overeenkomst"]
[null,null,null,null,null,null,null,null,null,null,null,308900,35500,42955,"buiten overeenkomst"]
[null,null,null,null,null,null,null,null,null,null,null,309400,35500,42955,"buiten overeenkomst"]
[null,null,null,null,null,null,null,null,null,null,null,309800,35500,42955,"buiten overeenkomst"]
[null,null,null,null,null,null,null,null,null,null,null,310300,35600,43076,"buiten overeenkomst"]
[null,null,null,null,null,null,null,null,null,null,null,310400,35600,43076,"buiten overeenkomst"]
[null,null,null,null,null,null,null,null,null,null,null,310900,35600,43076,"buiten overeenkomst"]
[null,null,null,null,null,null,null,null,null,null,null,311200,35600,43076,"buiten overeenkomst"]
[null,null,null,null,null,null,null,null,null,null,null,311800,35600,43076,"buiten overeenkomst"]
[null,null,null,null,null,null,null,null,null,null,null,311900,35600,43076,"buiten overeenkomst"]
[null,null,null,null,null,null,null,null,null,null,null,312400,35700,43197,"buiten overeenkomst"]
[null,null,null,null,null,null,null,null,null,null,null,312800,35700,43197,"buiten overeenkomst"]
[null,null,null,null,null,null,null,null,null,null,null,313300,35700,43197,"buiten overeenkomst"]
[null,null,null,null,null,null,null,null,null,null,null,313400,35700,43197,"buiten overeenkomst"]
[null,null,null,null,null,null,null,null,null,null,null,313900,35700,43197,"buiten overeenkomst"]
[null,null,null,null,null,null,null,null,null,null,null,314200,35800,43318,"buiten overeenkomst"]
[null,null,null,null,null,null,null,null,null,null,null,314800,35800,43318,"buiten overeenkomst"]
[null,null,null,null,null,null,null,null,null,null,null,314900,35800,43318,"buiten overeenkomst"]
[null,null,null,null,null,null,null,null,null,null,null,315400,35800,43318,"buiten overeenkomst"]
[null,null,null,null,null,null,null,null,null,null,null,315900,35800,43318,"buiten overeenkomst"]
[null,null,null,null,null,null,null,null,null,null,null,316300,35900,43439,"buiten overeenkomst"]
[null,null,null,null,null,null,null,null,null,null,null,316400,35900,43439,"buiten overeenkomst"]
[null,null,null,null,null,null,null,null,null,null,null,316900,35900,43439,"buiten overeenkomst"]
[null,null,null,null,null,null,null,null,null,null,null,317200,35900,43439,"buiten overeenkomst"]
[null,null,null,null,null,null,null,null,null,null,null,317800,35900,43439,"buiten overeenkomst"]
[null,null,null,null,null,null,null,null,null,null,null,317900,35900,43439,"buiten overeenkomst"]
[null,null,null,null,null,null,null,null,null,null,null,318400,36000,43560,"buiten overeenkomst"]
[null,null,null,null,null,null,null,null,null,null,null,318900,36000,43560,"buiten overeenkomst"]
[null,null,null,null,null,null,null,null,null,null,null,319300,36000,43560,"buiten overeenkomst"]
[null,null,null,null,null,null,null,null,null,null,null,319400,36000,43560,"buiten overeenkomst"]
[null,null,null,null,null,null,null,null,null,null,null,319900,36000,43560,"buiten overeenkomst"]
[null,null,null,null,null,null,null,null,null,null,null,320200,36100,43681,"buiten overeenkomst"]
[null,null,null,null,null,null,null,null,null,null,null,320800,36100,43681,"buiten overeenkomst"]
[null,null,null,null,null,null,null,null,null,null,null,320900,36100,43681,"buiten overeenkomst"]
[null,null,null,null,null,null,null,null,null,null,null,321400,36100,43681,"buiten overeenkomst"]
[null,null,null,null,null,null,null,null,null,null,null,321900,36100,43681,"buiten overeenkomst"]
[null,null,null,null,null,null,null,null,null,null,null,322300,36200,43802,"buiten overeenkomst"]
[null,null,null,null,null,null,null,null,null,null,null,322400,36200,43802,"buiten overeenkomst"]
[null,null,null,null,null,null,null,null,null,null,null,322900,36200,43802,"buiten overeenkomst"]
[null,null,null,null,null,null,null,null,null,null,null,323200,36200,43802,"buiten overeenkomst"]
[null,null,null,null,null,null,null,null,null,null,null,323800,36200,43802,"buiten overeenkomst"]
[null,null,null,null,null,null,null,null,null,null,null,323900,36200,43802,"buiten overeenkomst"]
[null,null,null,null,null,null,null,null,null,null,null,324400,36300,43923,"buiten overeenkomst"]
[null,null,null,null,null,null,null,null,null,null,null,324900,36300,43923,"buiten overeenkomst"]
[null,null,null,null,null,null,null,null,null,null,null,325300,36300,43923,"buiten overeenkomst"]
[null,null,null,null,null,null,null,null,null,null,null,325400,36300,43923,"buiten overeenkomst"]
[null,null,null,null,null,null,null,null,null,null,null,325900,36300,43923,"buiten overeenkomst"]
[null,null,null,null,null,null,null,null,null,null,null,326400,36400,44044,"buiten overeenkomst"]
[null,null,null,null,null,null,null,null,null,null,null,326700,36400,44044,"buiten overeenkomst"]
[null,null,null,null,null,null,null,null,null,null,null,326900,36400,44044,"buiten overeenkomst"]
[null,null,null,null,null,null,null,null,null,null,null,327400,36400,44044,"buiten overeenkomst"]
[null,null,null,null,null,null,null,null,null,null,null,327900,36400,44044,"buiten overeenkomst"]
[null,null,null,null,null,null,null,null,null,null,null,328300,36500,44165,"buiten overeenkomst"]
[null,null,null,null,null,null,null,null,null,null,null,328400,36500,44165,"buiten overeenkomst"]
[null,null,null,null,null,null,null,null,null,null,null,328900,36500,44165,"buiten overeenkomst"]
[null,null,null,null,null,null,null,null,null,null,null,329400,36500,44165,"buiten overeenkomst"]
[null,null,null,null,null,null,null,null,null,null,null,329700,36500,44165,"buiten overeenkomst"]
[null,null,null,null,null,null,null,null,null,null,null,329900,36500,44165,"buiten overeenkomst"]
[null,null,null,null,null,null,null,null,null,null,null,330400,36600,44286,"buiten overeenkomst"]
[null,null,null,null,null,null,null,null,null,null,null,330900,36600,44286,"buiten overeenkomst"]
[null,null,null,null,null,null,null,null,null,null,null,331300,36600,44286,"buiten overeenkomst"]
[null,null,null,null,null,null,null,null,null,null,null,331400,36600,44286,"buiten overeenkomst"]
[null,null,null,null,null,null,null,null,null,null,null,331900,36600,44286,"buiten overeenkomst"]
[null,null,null,null,null,null,null,null,null,null,null,332400,36700,44407,"buiten overeenkomst"]
[null,null,null,null,null,null,null,null,null,null,null,332700,36700,44407,"buiten overeenkomst"]
[null,null,null,null,null,null,null,null,null,null,null,332900,36700,44407,"buiten overeenkomst"]
[null,null,null,null,null,null,null,null,null,null,null,333400,36700,44407,"buiten overeenkomst"]
[null,null,null,null,null,null,null,null,null,null,null,333900,36700,44407,"buiten overeenkomst"]
[null,null,null,null,null,null,null,null,null,null,null,334300,36800,44528,"buiten overeenkomst"]
[null,null,null,null,null,null,null,null,null,null,null,334400,36800,44528,"buiten overeenkomst"]
[null,null,null,null,null,null,null,null,null,null,null,334900,36800,44528,"buiten overeenkomst"]
[null,null,null,null,null,null,null,null,null,null,null,335400,36800,44528,"buiten overeenkomst"]
[null,null,null,null,null,null,null,null,null,null,null,335700,36800,44528,"buiten overeenkomst"]
[null,null,null,null,null,null,null,null,null,null,null,335900,36800,44528,"buiten overeenkomst"]
[null,null,null,null,null,null,null,null,null,null,null,336400,36900,44649,"buiten overeenkomst"]
[null,null,null,null,null,null,null,null,null,null,null,336900,36900,44649,"buiten overeenkomst"]
[null,null,null,null,null,null,null,null,null,null,null,337300,36900,44649,"buiten overeenkomst"]
[null,null,null,null,null,null,null,null,null,null,null,337400,36900,44649,"buiten overeenkomst"]
[null,null,null,null,null,null,null,null,null,null,null,337900,36900,44649,"buiten overeenkomst"]
[null,null,null,null,null,null,null,null,null,null,null,338400,37000,44770,"buiten overeenkomst"]
[null,null,null,null,null,null,null,null,null,null,null,338700,37000,44770,"buiten overeenkomst"]
[null,null,null,null,null,null,null,null,null,null,null,338900,37000,44770,"buiten overeenkomst"]
[null,null,null,null,null,null,null,null,null,null,null,339400,37000,44770,"buiten overeenkomst"]
[null,null,null,null,null,null,null,null,null,null,null,339900,37000,44770,"buiten overeenkomst"]
[null,null,null,null,null,null,null,null,null,null,null,340300,37100,44891,"buiten overeenkomst"]
[null,null,null,null,null,null,null,null,null,null,null,340400,37100,44891,"buiten overeenkomst"]
[null,null,null,null,null,null,null,null,null,null,null,340900,37100,44891,"buiten overeenkomst"]
[null,null,null,null,null,null,null,null,null,null,null,341400,37100,44891,"buiten overeenkomst"]
[null,null,null,null,null,null,null,null,null,null,null,341700,37100,44891,"buiten overeenkomst"]
[null,null,null,null,null,null,null,null,null,null,null,341900,37100,44891,"buiten overeenkomst"]
[null,null,null,null,null,null,null,null,null,null,null,342400,37200,45012,"buiten overeenkomst"]
[null,null,null,null,null,null,null,null,null,null,null,342900,37200,45012,"buiten overeenkomst"]
[null,null,null,null,null,null,null,null,null,null,null,343300,37200,45012,"buiten overeenkomst"]
[null,null,null,null,null,null,null,null,null,null,null,343400,37200,45012,"buiten overeenkomst"]
[null,null,null,null,null,null,null,null,null,null,null,343900,37200,45012,"buiten overeenkomst"]
[null,null,null,null,null,null,null,null,null,null,null,344400,37300,45133,"buiten overeenkomst"]
[null,null,null,null,null,null,null,null,null,null,null,344700,37300,45133,"buiten overeenkomst"]
[null,null,null,null,null,null,null,null,null,null,null,344900,37300,45133,"buiten overeenkomst"]
[null,null,null,null,null,null,null,null,null,null,null,345400,37300,45133,"buiten overeenkomst"]
[null,null,null,null,null,null,null,null,null,null,null,345900,37300,45133,"buiten overeenkomst"]
[null,null,null,null,null,null,null,null,null,null,null,346300,37400,45254,"buiten overeenkomst"]
[null,null,null,null,null,null,null,null,null,null,null,346400,37400,45254,"buiten overeenkomst"]
[null,null,null,null,null,null,null,null,null,null,null,346900,37400,45254,"buiten overeenkomst"]
[null,null,null,null,null,null,null,null,null,null,null,347400,37400,45254,"buiten overeenkomst"]
[null,null,null,null,null,null,null,null,null,null,null,347700,37400,45254,"buiten overeenkomst"]
[null,null,null,null,null,null,null,null,null,null,null,347900,37400,45254,"buiten overeenkomst"]
[null,null,null,null,null,null,null,null,null,null,null,348400,37500,45375,"buiten overeenkomst"]
[null,null,null,null,null,null,null,null,null,null,null,348900,37500,45375,"buiten overeenkomst"]
[null,null,null,null,null,null,null,null,null,null,null,349100,37500,45375,"buiten overeenkomst"]
[null,null,null,null,null,null,null,null,null,null,null,349400,37500,45375,"buiten overeenkomst"]
[null,null,null,null,null,null,null,null,null,null,null,349900,37500,45375,"buiten overeenkomst"]
[null,null,null,null,null,null,null,null,null,null,null,350400,37600,45496,"buiten overeenkomst"]
[null,null,null,null,null,null,null,null,null,null,null,350700,37600,45496,"buiten overeenkomst"]
[null,null,null,null,null,null,null,null,null,null,null,350900,37600,45496,"buiten overeenkomst"]
[null,null,null,null,null,null,null,null,null,null,null,351400,37600,45496,"buiten overeenkomst"]
[null,null,null,null,null,null,null,null,null,null,null,351900,37600,45496,"buiten overeenkomst"]
[null,null,null,null,null,null,null,null,null,null,null,352100,37700,45617,"buiten overeenkomst"]
[null,null,null,null,null,null,null,null,null,null,null,352400,37700,45617,"buiten overeenkomst"]
[null,null,null,null,null,null,null,null,null,null,null,352900,37700,45617,"buiten overeenkomst"]
[null,null,null,null,null,null,null,null,null,null,null,353400,37700,45617,"buiten overeenkomst"]
[null,null,null,null,null,null,null,null,null,null,null,353700,37700,45617,"buiten overeenkomst"]
[null,null,null,null,null,null,null,null,null,null,null,353900,37700,45617,"buiten overeenkomst"]
[null,null,null,null,null,null,null,null,null,null,null,354400,37800,45738,"buiten overeenkomst"]
[null,null,null,null,null,null,null,null,null,null,null,354900,37800,45738,"buiten overeenkomst"]
[null,null,null,null,null,null,null,null,null,null,null,355100,37800,45738,"buiten overeenkomst"]
[null,null,null,null,null,null,null,null,null,null,null,355400,37800,45738,"buiten overeenkomst"]
[null,null,null,null,null,null,null,null,null,null,null,355900,37800,45738,"buiten overeenkomst"]
[null,null,null,null,null,null,null,null,null,null,null,356400,37900,45859,"buiten overeenkomst"]
[null,null,null,null,null,null,null,null,null,null,null,356700,37900,45859,"buiten overeenkomst"]
[null,null,null,null,null,null,null,null,null,null,null,356900,37900,45859,"buiten overeenkomst"]
[null,null,null,null,null,null,null,null,null,null,null,357400,37900,45859,"buiten overeenkomst"]
[null,null,null,null,null,null,null,null,null,null,null,357900,37900,45859,"buiten overeenkomst"]
[null,null,null,null,null,null,null,null,null,null,null,358100,38000,45980,"buiten overeenkomst"]
[null,null,null,null,null,null,null,null,null,null,null,358400,38000,45980,"buiten overeenkomst"]
[null,null,null,null,null,null,null,null,null,null,null,358900,38000,45980,"buiten overeenkomst"]
[null,null,null,null,null,null,null,null,null,null,null,359400,38000,45980,"buiten overeenkomst"]
[null,null,null,null,null,null,null,null,null,null,null,359700,38000,45980,"buiten overeenkomst"]
[null,null,null,null,null,null,null,null,null,null,null,359900,38000,45980,"buiten overeenkomst"]
[null,null,null,null,null,null,null,null,null,null,null,360400,38100,46101,"buiten overeenkomst"]
[null,null,null,null,null,null,null,null,null,null,null,360900,38100,46101,"buiten overeenkomst"]
[null,null,null,null,null,null,null,null,null,null,null,361100,38100,46101,"buiten overeenkomst"]
[null,null,null,null,null,null,null,null,null,null,null,361400,38100,46101,"buiten overeenkomst"]
[null,null,null,null,null,null,null,null,null,null,null,361900,38100,46101,"buiten overeenkomst"]
[null,null,null,null,null,null,null,null,null,null,null,362400,38200,46222,"buiten overeenkomst"]
[null,null,null,null,null,null,null,null,null,null,null,362700,38200,46222,"buiten overeenkomst"]
[null,null,null,null,null,null,null,null,null,null,null,362900,38200,46222,"buiten overeenkomst"]
[null,null,null,null,null,null,null,null,null,null,null,363400,38200,46222,"buiten overeenkomst"]
[null,null,null,null,null,null,null,null,null,null,null,363900,38200,46222,"buiten overeenkomst"]
[null,null,null,null,null,null,null,null,null,null,null,364100,38300,46343,"buiten overeenkomst"]
[null,null,null,null,null,null,null,null,null,null,null,364400,38300,46343,"buiten overeenkomst"]
[null,null,null,null,null,null,null,null,null,null,null,364900,38300,46343,"buiten overeenkomst"]
[null,null,null,null,null,null,null,null,null,null,null,365400,38300,46343,"buiten overeenkomst"]
[null,null,null,null,null,null,null,null,null,null,null,365700,38300,46343,"buiten overeenkomst"]
[null,null,null,null,null,null,null,null,null,null,null,365900,38300,46343,"buiten overeenkomst"]
[null,null,null,null,null,null,null,null,null,null,null,366400,38400,46464,"buiten overeenkomst"]
[null,null,null,null,null,null,null,null,null,null,null,366900,38400,46464,"buiten overeenkomst"]
[null,null,null,null,null,null,null,null,null,null,null,367100,38400,46464,"buiten overeenkomst"]
[null,null,null,null,null,null,null,null,null,null,null,367400,38400,46464,"buiten overeenkomst"]
[null,null,null,null,null,null,null,null,null,null,null,367900,38400,46464,"buiten overeenkomst"]
[null,null,null,null,null,null,null,null,null,null,null,368400,38500,46585,"buiten overeenkomst"]
[null,null,null,null,null,null,null,null,null,null,null,368700,38500,46585,"buiten overeenkomst"]
[null,null,null,null,null,null,null,null,null,null,null,368900,38500,46585,"buiten overeenkomst"]
[null,null,null,null,null,null,null,null,null,null,null,369400,38500,46585,"buiten overeenkomst"]
[null,null,null,null,null,null,null,null,null,null,null,369900,38500,46585,"buiten overeenkomst"]
[null,null,null,null,null,null,null,null,null,null,null,370100,38600,46706,"buiten overeenkomst"]
[null,null,null,null,null,null,null,null,null,null,null,370400,38600,46706,"buiten overeenkomst"]
[null,null,null,null,null,null,null,null,null,null,null,370900,38600,46706,"buiten overeenkomst"]
[null,null,null,null,null,null,null,null,null,null,null,371400,38600,46706,"buiten overeenkomst"]
[null,null,null,null,null,null,null,null,null,null,null,371700,38600,46706,"buiten overeenkomst"]
[null,null,null,null,null,null,null,null,null,null,null,371900,38600,46706,"buiten overeenkomst"]
[null,null,null,null,null,null,null,null,null,null,null,372400,38700,46827,"buiten overeenkomst"]
[null,null,null,null,null,null,null,null,null,null,null,372900,38700,46827,"buiten overeenkomst"]
[null,null,null,null,null,null,null,null,null,null,null,373100,38700,46827,"buiten overeenkomst"]
[null,null,null,null,null,null,null,null,null,null,null,373400,38700,46827,"buiten overeenkomst"]
[null,null,null,null,null,null,null,null,null,null,null,373900,38700,46827,"buiten overeenkomst"]
[null,null,null,null,null,null,null,null,null,null,null,374400,38800,46948,"buiten overeenkomst"]
[null,null,null,null,null,null,null,null,null,null,null,374700,38800,46948,"buiten overeenkomst"]
[null,null,null,null,null,null,null,null,null,null,null,374900,38800,46948,"buiten overeenkomst"]
[null,null,null,null,null,null,null,null,null,null,null,375400,38800,46948,"buiten overeenkomst"]
[null,null,null,null,null,null,null,null,null,null,null,375900,38800,46948,"buiten overeenkomst"]
[null,null,null,null,null,null,null,null,null,null,null,376100,38900,47069,"buiten overeenkomst"]
[null,null,null,null,null,null,null,null,null,null,null,376400,38900,47069,"buiten overeenkomst"]
[null,null,null,null,null,null,null,null,null,null,null,376900,38900,47069,"buiten overeenkomst"]
[null,null,null,null,null,null,null,null,null,null,null,377400,38900,47069,"buiten overeenkomst"]
[null,null,null,null,null,null,null,null,null,null,null,377800,38900,47069,"buiten overeenkomst"]
[null,null,null,null,null,null,null,null,null,null,null,377900,38900,47069,"buiten overeenkomst"]
[null,null,null,null,null,null,null,null,null,null,null,378400,39000,47190,"buiten overeenkomst"]
[null,null,null,null,null,null,null,null,null,null,null,378900,39000,47190,"buiten overeenkomst"]
[null,null,null,null,null,null,null,null,null,null,null,379100,39000,47190,"buiten overeenkomst"]
[null,null,null,null,null,null,null,null,null,null,null,379400,39000,47190,"buiten overeenkomst"]
[null,null,null,null,null,null,null,null,null,null,null,379900,39000,47190,"buiten overeenkomst"]
[null,null,null,null,null,null,null,null,null,null,null,380400,39100,47311,"buiten overeenkomst"]
[null,null,null,null,null,null,null,null,null,null,null,380800,39100,47311,"buiten overeenkomst"]
[null,null,null,null,null,null,null,null,null,null,null,380900,39100,47311,"buiten overeenkomst"]
[null,null,null,null,null,null,null,null,null,null,null,381400,39100,47311,"buiten overeenkomst"]
[null,null,null,null,null,null,null,null,null,null,null,381900,39100,47311,"buiten overeenkomst"]
[null,null,null,null,null,null,null,null,null,null,null,382100,39200,47432,"buiten overeenkomst"]
[null,null,null,null,null,null,null,null,null,null,null,382400,39200,47432,"buiten overeenkomst"]
[null,null,null,null,null,null,null,null,null,null,null,382900,39200,47432,"buiten overeenkomst"]
[null,null,null,null,null,null,null,null,null,null,null,383400,39200,47432,"buiten overeenkomst"]
[null,null,null,null,null,null,null,null,null,null,null,383800,39200,47432,"buiten overeenkomst"]
[null,null,null,null,null,null,null,null,null,null,null,383900,39200,47432,"buiten overeenkomst"]
[null,null,null,null,null,null,null,null,null,null,null,384400,39300,47553,"buiten overeenkomst"]
[null,null,null,null,null,null,null,null,null,null,null,384900,39300,47553,"buiten overeenkomst"]
[null,null,null,null,null,null,null,null,null,null,null,385100,39300,47553,"buiten overeenkomst"]
[null,null,null,null,null,null,null,null,null,null,null,385400,39300,47553,"buiten overeenkomst"]
[null,null,null,null,null,null,null,null,null,null,null,385900,39300,47553,"buiten overeenkomst"]
[null,null,null,null,null,null,null,null,null,null,null,386400,39400,47674,"buiten overeenkomst"]
[null,null,null,null,null,null,null,null,null,null,null,386800,39400,47674,"buiten overeenkomst"]
[null,null,null,null,null,null,null,null,null,null,null,386900,39400,47674,"buiten overeenkomst"]
[null,null,null,null,null,null,null,null,null,null,null,387400,39400,47674,"buiten overeenkomst"]
[null,null,null,null,null,null,null,null,null,null,null,387900,39400,47674,"buiten overeenkomst"]
[null,null,null,null,null,null,null,null,null,null,null,388400,39500,47795,"buiten overeenkomst"]
[null,null,null,null,null,null,null,null,null,null,null,388600,39500,47795,"buiten overeenkomst"]
[null,null,null,null,null,null,null,null,null,null,null,388900,39500,47795,"buiten overeenkomst"]
[null,null,null,null,null,null,null,null,null,null,null,389400,39500,47795,"buiten overeenkomst"]
[null,null,null,null,null,null,null,null,null,null,null,389900,39500,47795,"buiten overeenkomst"]
[null,null,null,null,null,null,null,null,null,null,null,390200,39600,47916,"buiten overeenkomst"]
[null,null,null,null,null,null,null,null,null,null,null,390400,39600,47916,"buiten overeenkomst"]
[null,null,null,null,null,null,null,null,null,null,null,390900,39600,47916,"buiten overeenkomst"]
[null,null,null,null,null,null,null,null,null,null,null,391400,39600,47916,"buiten overeenkomst"]
[null,null,null,null,null,null,null,null,null,null,null,391600,39600,47916,"buiten overeenkomst"]
[null,null,null,null,null,null,null,null,null,null,null,391900,39600,47916,"buiten overeenkomst"]
[null,null,null,null,null,null,null,null,null,null,null,392400,39700,48037,"buiten overeenkomst"]
[null,null,null,null,null,null,null,null,null,null,null,392900,39700,48037,"buiten overeenkomst"]
[null,null,null,null,null,null,null,null,null,null,null,393200,39700,48037,"buiten overeenkomst"]
[null,null,null,null,null,null,null,null,null,null,null,393400,39700,48037,"buiten overeenkomst"]
[null,null,null,null,null,null,null,null,null,null,null,393900,39700,48037,"buiten overeenkomst"]
[null,null,null,null,null,null,null,null,null,null,null,394400,39800,48158,"buiten overeenkomst"]
[null,null,null,null,null,null,null,null,null,null,null,394600,39800,48158,"buiten overeenkomst"]
[null,null,null,null,null,null,null,null,null,null,null,394900,39800,48158,"buiten overeenkomst"]
[null,null,null,null,null,null,null,null,null,null,null,395400,39800,48158,"buiten overeenkomst"]
[null,null,null,null,null,null,null,null,null,null,null,395900,39800,48158,"buiten overeenkomst"]
[null,null,null,null,null,null,null,null,null,null,null,396200,39900,48279,"buiten overeenkomst"]
[null,null,null,null,null,null,null,null,null,null,null,396400,39900,48279,"buiten overeenkomst"]
[null,null,null,null,null,null,null,null,null,null,null,396900,39900,48279,"buiten overeenkomst"]
[null,null,null,null,null,null,null,null,null,null,null,397400,39900,48279,"buiten overeenkomst"]
[null,null,null,null,null,null,null,null,null,null,null,397600,39900,48279,"buiten overeenkomst"]
[null,null,null,null,null,null,null,null,null,null,null,397900,39900,48279,"buiten overeenkomst"]
[null,null,null,null,null,null,null,null,null,null,null,398400,40000,48400,"buiten overeenkomst"]
[null,null,null,null,null,null,null,null,null,null,null,398900,40000,48400,"buiten overeenkomst"]
[null,null,null,null,null,null,null,null,null,null,null,399200,40000,48400,"buiten overeenkomst"]
[null,null,null,null,null,null,null,null,null,null,null,399400,40000,48400,"buiten overeenkomst"]
[null,null,null,null,null,null,null,null,null,null,null,399900,40000,48400,"buiten overeenkomst"]
[null,null,null,null,null,null,null,null,null,null,null,400400,40100,48521,"buiten overeenkomst"]
[null,null,null,null,null,null,null,null,null,null,null,400600,40100,48521,"buiten overeenkomst"]
[null,null,null,null,null,null,null,null,null,null,null,400900,40100,48521,"buiten overeenkomst"]
[null,null,null,null,null,null,null,null,null,null,null,401400,40100,48521,"buiten overeenkomst"]
[null,null,null,null,null,null,null,null,null,null,null,401900,40100,48521,"buiten overeenkomst"]
[null,null,null,null,null,null,null,null,null,null,null,402200,40100,48521,"buiten overeenkomst"]
[null,null,null,null,null,null,null,null,null,null,null,402400,40100,48521,"buiten overeenkomst"]
[null,null,null,null,null,null,null,null,null,null,null,402900,40100,48521,"buiten overeenkomst"]
[null,null,null,null,null,null,null,null,null,null,null,403400,40100,48521,"buiten overeenkomst"]
[null,null,null,null,null,null,null,null,null,null,null,403600,40100,48521,"buiten overeenkomst"]
[null,null,null,null,null,null,null,null,null,null,null,403900,40100,48521,"buiten overeenkomst"]
[null,null,null,null,null,null,null,null,null,null,null,404400,40200,48642,"buiten overeenkomst"]
[null,null,null,null,null,null,null,null,null,null,null,404900,40200,48642,"buiten overeenkomst"]
[null,null,null,null,null,null,null,null,null,null,null,405200,40200,48642,"buiten overeenkomst"]
[null,null,null,null,null,null,null,null,null,null,null,405400,40200,48642,"buiten overeenkomst"]
[null,null,null,null,null,null,null,null,null,null,null,405900,40200,48642,"buiten overeenkomst"]
[null,null,null,null,null,null,null,null,null,null,null,406400,40200,48642,"buiten overeenkomst"]
[null,null,null,null,null,null,null,null,null,null,null,406600,40200,48642,"buiten overeenkomst"]
[null,null,null,null,null,null,null,null,null,null,null,406900,40200,48642,"buiten overeenkomst"]
[null,null,null,null,null,null,null,null,null,null,null,407400,40200,48642,"buiten overeenkomst"]
[null,null,null,null,null,null,null,null,null,null,null,407900,40200,48642,"buiten overeenkomst"]
[null,null,null,null,null,null,null,null,null,null,null,408200,40300,48763,"buiten overeenkomst"]
[null,null,null,null,null,null,null,null,null,null,null,408400,40300,48763,"buiten overeenkomst"]
[null,null,null,null,null,null,null,null,null,null,null,408900,40300,48763,"buiten overeenkomst"]
[null,null,null,null,null,null,null,null,null,null,null,409400,40300,48763,"buiten overeenkomst"]
[null,null,null,null,null,null,null,null,null,null,null,409600,40300,48763,"buiten overeenkomst"]
[null,null,null,null,null,null,null,null,null,null,null,409900,40300,48763,"buiten overeenkomst"]
[null,null,null,null,null,null,null,null,null,null,null,410400,40300,48763,"buiten overeenkomst"]
[null,null,null,null,null,null,null,null,null,null,null,410900,40300,48763,"buiten overeenkomst"]
[null,null,null,null,null,null,null,null,null,null,null,411000,40300,48763,"buiten overeenkomst"]
[null,null,null,null,null,null,null,null,null,null,null,411400,40300,48763,"buiten overeenkomst"]
[null,null,null,null,null,null,null,null,null,null,null,411900,40300,48763,"buiten overeenkomst"]
[null,null,null,null,null,null,null,null,null,null,null,412400,40400,48884,"buiten overeenkomst"]
[null,null,null,null,null,null,null,null,null,null,null,412600,40400,48884,"buiten overeenkomst"]
[null,null,null,null,null,null,null,null,null,null,null,412900,40400,48884,"buiten overeenkomst"]
[null,null,null,null,null,null,null,null,null,null,null,413400,40400,48884,"buiten overeenkomst"]
[null,null,null,null,null,null,null,null,null,null,null,413900,40400,48884,"buiten overeenkomst"]
[null,null,null,null,null,null,null,null,null,null,null,414000,40400,48884,"buiten overeenkomst"]
[null,null,null,null,null,null,null,null,null,null,null,414400,40400,48884,"buiten overeenkomst"]
[null,null,null,null,null,null,null,null,null,null,null,414900,40400,48884,"buiten overeenkomst"]
[null,null,null,null,null,null,null,null,null,null,null,415400,40400,48884,"buiten overeenkomst"]
[null,null,null,null,null,null,null,null,null,null,null,415600,40400,48884,"buiten overeenkomst"]
[null,null,null,null,null,null,null,null,null,null,null,415900,40400,48884,"buiten overeenkomst"]
[null,null,null,null,null,null,null,null,null,null,null,416400,40500,49005,"buiten overeenkomst"]
[null,null,null,null,null,null,null,null,null,null,null,416900,40500,49005,"buiten overeenkomst"]
[null,null,null,null,null,null,null,null,null,null,null,417000,40500,49005,"buiten overeenkomst"]
[null,null,null,null,null,null,null,null,null,null,null,417400,40500,49005,"buiten overeenkomst"]
[null,null,null,null,null,null,null,null,null,null,null,417900,40500,49005,"buiten overeenkomst"]
[null,null,null,null,null,null,null,null,null,null,null,418400,40500,49005,"buiten overeenkomst"]
[null,null,null,null,null,null,null,null,null,null,null,418600,40500,49005,"buiten overeenkomst"]
[null,null,null,null,null,null,null,null,null,null,null,418900,40500,49005,"buiten overeenkomst"]
[null,null,null,null,null,null,null,null,null,null,null,419400,40500,49005,"buiten overeenkomst"]
[null,null,null,null,null,null,null,null,null,null,null,419900,40500,49005,"buiten overeenkomst"]
[null,null,null,null,null,null,null,null,null,null,null,420000,40500,49005,"buiten overeenkomst"]
[null,null,null,null,null,null,null,null,null,null,null,420400,40600,49126,"buiten overeenkomst"]
[null,null,null,null,null,null,null,null,null,null,null,420900,40600,49126,"buiten overeenkomst"]
[null,null,null,null,null,null,null,null,null,null,null,421400,40600,49126,"buiten overeenkomst"]
[null,null,null,null,null,null,null,null,null,null,null,421600,40600,49126,"buiten overeenkomst"]
[null,null,null,null,null,null,null,null,null,null,null,421900,40600,49126,"buiten overeenkomst"]
[null,null,null,null,null,null,null,null,null,null,null,422400,40600,49126,"buiten overeenkomst"]
[null,null,null,null,null,null,null,null,null,null,null,422900,40600,49126,"buiten overeenkomst"]
[null,null,null,null,null,null,null,null,null,null,null,423000,40600,49126,"buiten overeenkomst"]
[null,null,null,null,null,null,null,null,null,null,null,423400,40600,49126,"buiten overeenkomst"]
[null,null,null,null,null,null,null,null,null,null,null,423900,40600,49126,"buiten overeenkomst"]
[null,null,null,null,null,null,null,null,null,null,null,424400,40700,49247,"buiten overeenkomst"]
[null,null,null,null,null,null,null,null,null,null,null,424600,40700,49247,"buiten overeenkomst"]
[null,null,null,null,null,null,null,null,null,null,null,424900,40700,49247,"buiten overeenkomst"]
[null,null,null,null,null,null,null,null,null,null,null,425400,40700,49247,"buiten overeenkomst"]
[null,null,null,null,null,null,null,null,null,null,null,425900,40700,49247,"buiten overeenkomst"]
[null,null,null,null,null,null,null,null,null,null,null,426000,40700,49247,"buiten overeenkomst"]
[null,null,null,null,null,null,null,null,null,null,null,426400,40700,49247,"buiten overeenkomst"]
[null,null,null,null,null,null,null,null,null,null,null,426900,40700,49247,"buiten overeenkomst"]
[null,null,null,null,null,null,null,null,null,null,null,427400,40700,49247,"buiten overeenkomst"]
[null,null,null,null,null,null,null,null,null,null,null,427600,40700,49247,"buiten overeenkomst"]
[null,null,null,null,null,null,null,null,null,null,null,427900,40700,49247,"buiten overeenkomst"]
[null,null,null,null,null,null,null,null,null,null,null,428400,40800,49368,"buiten overeenkomst"]
[null,null,null,null,null,null,null,null,null,null,null,428900,40800,49368,"buiten overeenkomst"]
[null,null,null,null,null,null,null,null,null,null,null,429000,40800,49368,"buiten overeenkomst"]
[null,null,null,null,null,null,null,null,null,null,null,429400,40800,49368,"buiten overeenkomst"]
[null,null,null,null,null,null,null,null,null,null,null,429900,40800,49368,"buiten overeenkomst"]
[null,null,null,null,null,null,null,null,null,null,null,430400,40800,49368,"buiten overeenkomst"]
[null,null,null,null,null,null,null,null,null,null,null,430600,40800,49368,"buiten overeenkomst"]
[null,null,null,null,null,null,null,null,null,null,null,430900,40800,49368,"buiten overeenkomst"]
[null,null,null,null,null,null,null,null,null,null,null,431400,40800,49368,"buiten overeenkomst"]
[null,null,null,null,null,null,null,null,null,null,null,431900,40800,49368,"buiten overeenkomst"]
[null,null,null,null,null,null,null,null,null,null,null,432000,40800,49368,"buiten overeenkomst"]
[null,null,null,null,null,null,null,null,null,null,null,432400,40900,49489,"buiten overeenkomst"]
[null,null,null,null,null,null,null,null,null,null,null,432900,40900,49489,"buiten overeenkomst"]
[null,null,null,null,null,null,null,null,null,null,null,433400,40900,49489,"buiten overeenkomst"]
[null,null,null,null,null,null,null,null,null,null,null,433600,40900,49489,"buiten overeenkomst"]
[null,null,null,null,null,null,null,null,null,null,null,433900,40900,49489,"buiten overeenkomst"]
[null,null,null,null,null,null,null,null,null,null,null,434400,40900,49489,"buiten overeenkomst"]
[null,null,null,null,null,null,null,null,null,null,null,434900,40900,49489,"buiten overeenkomst"]
[null,null,null,null,null,null,null,null,null,null,null,435000,40900,49489,"buiten overeenkomst"]
[null,null,null,null,null,null,null,null,null,null,null,435400,40900,49489,"buiten overeenkomst"]
[null,null,null,null,null,null,null,null,null,null,null,435900,40900,49489,"buiten overeenkomst"]
[null,null,null,null,null,null,null,null,null,null,null,436400,41000,49610,"buiten overeenkomst"]
[null,null,null,null,null,null,null,null,null,null,null,436700,41000,49610,"buiten overeenkomst"]
[null,null,null,null,null,null,null,null,null,null,null,436900,41000,49610,"buiten overeenkomst"]
[null,null,null,null,null,null,null,null,null,null,null,437400,41000,49610,"buiten overeenkomst"]
[null,null,null,null,null,null,null,null,null,null,null,437900,41000,49610,"buiten overeenkomst"]
[null,null,null,null,null,null,null,null,null,null,null,438000,41000,49610,"buiten overeenkomst"]
[null,null,null,null,null,null,null,null,null,null,null,438400,41000,49610,"buiten overeenkomst"]
[null,null,null,null,null,null,null,null,null,null,null,438900,41000,49610,"buiten overeenkomst"]
[null,null,null,null,null,null,null,null,null,null,null,439400,41000,49610,"buiten overeenkomst"]
[null,null,null,null,null,null,null,null,null,null,null,439700,41000,49610,"buiten overeenkomst"]
[null,null,null,null,null,null,null,null,null,null,null,439900,41000,49610,"buiten overeenkomst"]
[null,null,null,null,null,null,null,null,null,null,null,440400,41100,49731,"buiten overeenkomst"]
[null,null,null,null,null,null,null,null,null,null,null,440900,41100,49731,"buiten overeenkomst"]
[null,null,null,null,null,null,null,null,null,null,null,441000,41100,49731,"buiten overeenkomst"]
[null,null,null,null,null,null,null,null,null,null,null,441400,41100,49731,"buiten overeenkomst"]
[null,null,null,null,null,null,null,null,null,null,null,441900,41100,49731,"buiten overeenkomst"]
[null,null,null,null,null,null,null,null,null,null,null,442400,41100,49731,"buiten overeenkomst"]
[null,null,null,null,null,null,null,null,null,null,null,442700,41100,49731,"buiten overeenkomst"]
[null,null,null,null,null,null,null,null,null,null,null,442900,41100,49731,"buiten overeenkomst"]
[null,null,null,null,null,null,null,null,null,null,null,443400,41100,49731,"buiten overeenkomst"]
[null,null,null,null,null,null,null,null,null,null,null,443900,41100,49731,"buiten overeenkomst"]
[null,null,null,null,null,null,null,null,null,null,null,444000,41100,49731,"buiten overeenkomst"]
[null,null,null,null,null,null,null,null,null,null,null,444400,41200,49852,"buiten overeenkomst"]
[null,null,null,null,null,null,null,null,null,null,null,444900,41200,49852,"buiten overeenkomst"]
[null,null,null,null,null,null,null,null,null,null,null,445400,41200,49852,"buiten overeenkomst"]
[null,null,null,null,null,null,null,null,null,null,null,445700,41200,49852,"buiten overeenkomst"]
[null,null,null,null,null,null,null,null,null,null,null,445900,41200,49852,"buiten overeenkomst"]
[null,null,null,null,null,null,null,null,null,null,null,446400,41200,49852,"buiten overeenkomst"]
[null,null,null,null,null,null,null,null,null,null,null,446900,41200,49852,"buiten overeenkomst"]
[null,null,null,null,null,null,null,null,null,null,null,447000,41200,49852,"buiten overeenkomst"]
[null,null,null,null,null,null,null,null,null,null,null,447400,41200,49852,"buiten overeenkomst"]
[null,null,null,null,null,null,null,null,null,null,null,447900,41200,49852,"buiten overeenkomst"]
[null,null,null,null,null,null,null,null,null,null,null,448400,41300,49973,"buiten overeenkomst"]
[null,null,null,null,null,null,null,null,null,null,null,448700,41300,49973,"buiten overeenkomst"]
[null,null,null,null,null,null,null,null,null,null,null,448900,41300,49973,"buiten overeenkomst"]
[null,null,null,null,null,null,null,null,null,null,null,449400,41300,49973,"buiten overeenkomst"]
[null,null,null,null,null,null,null,null,null,null,null,449900,41300,49973,"buiten overeenkomst"]
[null,null,null,null,null,null,null,null,null,null,null,450000,41300,49973,"buiten overeenkomst"]
[null,null,null,null,null,null,null,null,null,null,null,450500,41300,49973,"buiten overeenkomst"]
[null,null,null,null,null,null,null,null,null,null,null,450900,41300,49973,"buiten overeenkomst"]
[null,null,null,null,null,null,null,null,null,null,null,451400,41300,49973,"buiten overeenkomst"]
[null,null,null,null,null,null,null,null,null,null,null,451500,41300,49973,"buiten overeenkomst"]
[null,null,null,null,null,null,null,null,null,null,null,452100,41400,50094,"buiten overeenkomst"]
[null,null,null,null,null,null,null,null,null,null,null,452400,41400,50094,"buiten overeenkomst"]
[null,null,null,null,null,null,null,null,null,null,null,452900,41400,50094,"buiten overeenkomst"]
[null,null,null,null,null,null,null,null,null,null,null,453000,41400,50094,"buiten overeenkomst"]
[null,null,null,null,null,null,null,null,null,null,null,453500,41400,50094,"buiten overeenkomst"]
[null,null,null,null,null,null,null,null,null,null,null,453900,41400,50094,"buiten overeenkomst"]
[null,null,null,null,null,null,null,null,null,null,null,454400,41400,50094,"buiten overeenkomst"]
[null,null,null,null,null,null,null,null,null,null,null,454500,41400,50094,"buiten overeenkomst"]
[null,null,null,null,null,null,null,null,null,null,null,455100,41400,50094,"buiten overeenkomst"]
[null,null,null,null,null,null,null,null,null,null,null,455400,41400,50094,"buiten overeenkomst"]
[null,null,null,null,null,null,null,null,null,null,null,455900,41400,50094,"buiten overeenkomst"]
[null,null,null,null,null,null,null,null,null,null,null,456000,41400,50094,"buiten overeenkomst"]
[null,null,null,null,null,null,null,null,null,null,null,456500,41500,50215,"buiten overeenkomst"]
[null,null,null,null,null,null,null,null,null,null,null,456900,41500,50215,"buiten overeenkomst"]
[null,null,null,null,null,null,null,null,null,null,null,457400,41500,50215,"buiten overeenkomst"]
[null,null,null,null,null,null,null,null,null,null,null,457500,41500,50215,"buiten overeenkomst"]
[null,null,null,null,null,null,null,null,null,null,null,458100,41500,50215,"buiten overeenkomst"]
[null,null,null,null,null,null,null,null,null,null,null,458400,41500,50215,"buiten overeenkomst"]
[null,null,null,null,null,null,null,null,null,null,null,458900,41500,50215,"buiten overeenkomst"]
[null,null,null,null,null,null,null,null,null,null,null,459000,41500,50215,"buiten overeenkomst"]
[null,null,null,null,null,null,null,null,null,null,null,459500,41500,50215,"buiten overeenkomst"]
[null,null,null,null,null,null,null,null,null,null,null,459900,41500,50215,"buiten overeenkomst"]
[null,null,null,null,null,null,null,null,null,null,null,460400,41600,50336,"buiten overeenkomst"]
[null,null,null,null,null,null,null,null,null,null,null,460500,41600,50336,"buiten overeenkomst"]
[null,null,null,null,null,null,null,null,null,null,null,461100,41600,50336,"buiten overeenkomst"]
[null,null,null,null,null,null,null,null,null,null,null,461400,41600,50336,"buiten overeenkomst"]
[null,null,null,null,null,null,null,null,null,null,null,461900,41600,50336,"buiten overeenkomst"]
[null,null,null,null,null,null,null,null,null,null,null,462000,41600,50336,"buiten overeenkomst"]
[null,null,null,null,null,null,null,null,null,null,null,462500,41600,50336,"buiten overeenkomst"]
[null,null,null,null,null,null,null,null,null,null,null,462900,41600,50336,"buiten overeenkomst"]
[null,null,null,null,null,null,null,null,null,null,null,463400,41600,50336,"buiten overeenkomst"]
[null,null,null,null,null,null,null,null,null,null,null,463500,41600,50336,"buiten overeenkomst"]
[null,null,null,null,null,null,null,null,null,null,null,464100,41700,50457,"buiten overeenkomst"]
[null,null,null,null,null,null,null,null,null,null,null,464400,41700,50457,"buiten overeenkomst"]
[null,null,null,null,null,null,null,null,null,null,null,464900,41700,50457,"buiten overeenkomst"]
[null,null,null,null,null,null,null,null,null,null,null,465000,41700,50457,"buiten overeenkomst"]
[null,null,null,null,null,null,null,null,null,null,null,465500,41700,50457,"buiten overeenkomst"]
[null,null,null,null,null,null,null,null,null,null,null,465900,41700,50457,"buiten overeenkomst"]
[null,null,null,null,null,null,null,null,null,null,null,466400,41700,50457,"buiten overeenkomst"]
[null,null,null,null,null,null,null,null,null,null,null,466500,41700,50457,"buiten overeenkomst"]
[null,null,null,null,null,null,null,null,null,null,null,467100,41700,50457,"buiten overeenkomst"]
[null,null,null,null,null,null,null,null,null,null,null,467400,41700,50457,"buiten overeenkomst"]
[null,null,null,null,null,null,null,null,null,null,null,467900,41700,50457,"buiten overeenkomst"]
[null,null,null,null,null,null,null,null,null,null,null,468000,41700,50457,"buiten overeenkomst"]
[null,null,null,null,null,null,null,null,null,null,null,468500,41800,50578,"buiten overeenkomst"]
[null,null,null,null,null,null,null,null,null,null,null,468900,41800,50578,"buiten overeenkomst"]
[null,null,null,null,null,null,null,null,null,null,null,469400,41800,50578,"buiten overeenkomst"]
[null,null,null,null,null,null,null,null,null,null,null,469500,41800,50578,"buiten overeenkomst"]
[null,null,null,null,null,null,null,null,null,null,null,469900,41800,50578,"buiten overeenkomst"]
[null,null,null,null,null,null,null,null,null,null,null,470400,41800,50578,"buiten overeenkomst"]
[null,null,null,null,null,null,null,null,null,null,null,470900,41800,50578,"buiten overeenkomst"]
[null,null,null,null,null,null,null,null,null,null,null,471000,41800,50578,"buiten overeenkomst"]
[null,null,null,null,null,null,null,null,null,null,null,471500,41800,50578,"buiten overeenkomst"]
[null,null,null,null,null,null,null,null,null,null,null,471900,41800,50578,"buiten overeenkomst"]
[null,null,null,null,null,null,null,null,null,null,null,472400,41900,50699,"buiten overeenkomst"]
[null,null,null,null,null,null,null,null,null,null,null,472500,41900,50699,"buiten overeenkomst"]
[null,null,null,null,null,null,null,null,null,null,null,472900,41900,50699,"buiten overeenkomst"]
[null,null,null,null,null,null,null,null,null,null,null,473400,41900,50699,"buiten overeenkomst"]
[null,null,null,null,null,null,null,null,null,null,null,473900,41900,50699,"buiten overeenkomst"]
[null,null,null,null,null,null,null,null,null,null,null,474000,41900,50699,"buiten overeenkomst"]
[null,null,null,null,null,null,null,null,null,null,null,474500,41900,50699,"buiten overeenkomst"]
[null,null,null,null,null,null,null,null,null,null,null,474900,41900,50699,"buiten overeenkomst"]
[null,null,null,null,null,null,null,null,null,null,null,475400,41900,50699,"buiten overeenkomst"]
[null,null,null,null,null,null,null,null,null,null,null,475500,41900,50699,"buiten overeenkomst"]
[null,null,null,null,null,null,null,null,null,null,null,475900,41900,50699,"buiten overeenkomst"]
[null,null,null,null,null,null,null,null,null,null,null,476400,42000,50820,"buiten overeenkomst"]
[null,null,null,null,null,null,null,null,null,null,null,476900,42000,50820,"buiten overeenkomst"]
[null,null,null,null,null,null,null,null,null,null,null,477000,42000,50820,"buiten overeenkomst"]
[null,null,null,null,null,null,null,null,null,null,null,477500,42000,50820,"buiten overeenkomst"]
[null,null,null,null,null,null,null,null,null,null,null,477900,42000,50820,"buiten overeenkomst"]
[null,null,null,null,null,null,null,null,null,null,null,478400,42000,50820,"buiten overeenkomst"]
[null,null,null,null,null,null,null,null,null,null,null,478500,42000,50820,"buiten overeenkomst"]
[null,null,null,null,null,null,null,null,null,null,null,478900,42000,50820,"buiten overeenkomst"]
[null,null,null,null,null,null,null,null,null,null,null,479400,42000,50820,"buiten overeenkomst"]
[null,null,null,null,null,null,null,null,null,null,null,479900,42000,50820,"buiten overeenkomst"]
[null,null,null,null,null,null,null,null,null,null,null,480000,42000,50820,"buiten overeenkomst"]
[null,null,null,null,null,null,null,null,null,null,null,480500,42100,50941,"buiten overeenkomst"]
[null,null,null,null,null,null,null,null,null,null,null,480900,42100,50941,"buiten overeenkomst"]
[null,null,null,null,null,null,null,null,null,null,null,481400,42100,50941,"buiten overeenkomst"]
[null,null,null,null,null,null,null,null,null,null,null,481500,42100,50941,"buiten overeenkomst"]
[null,null,null,null,null,null,null,null,null,null,null,481900,42100,50941,"buiten overeenkomst"]
[null,null,null,null,null,null,null,null,null,null,null,482400,42100,50941,"buiten overeenkomst"]
[null,null,null,null,null,null,null,null,null,null,null,482900,42100,50941,"buiten overeenkomst"]
[null,null,null,null,null,null,null,null,null,null,null,483000,42100,50941,"buiten overeenkomst"]
[null,null,null,null,null,null,null,null,null,null,null,483500,42100,50941,"buiten overeenkomst"]
[null,null,null,null,null,null,null,null,null,null,null,483900,42100,50941,"buiten overeenkomst"]
[null,null,null,null,null,null,null,null,null,null,null,484400,42200,51062,"buiten overeenkomst"]
[null,null,null,null,null,null,null,null,null,null,null,484500,42200,51062,"buiten overeenkomst"]
[null,null,null,null,null,null,null,null,null,null,null,484900,42200,51062,"buiten overeenkomst"]
[null,null,null,null,null,null,null,null,null,null,null,485400,42200,51062,"buiten overeenkomst"]
[null,null,null,null,null,null,null,null,null,null,null,485900,42200,51062,"buiten overeenkomst"]
[null,null,null,null,null,null,null,null,null,null,null,486000,42200,51062,"buiten overeenkomst"]
[null,null,null,null,null,null,null,null,null,null,null,486500,42200,51062,"buiten overeenkomst"]
[null,null,null,null,null,null,null,null,null,null,null,486900,42200,51062,"buiten overeenkomst"]
[null,null,null,null,null,null,null,null,null,null,null,487400,42200,51062,"buiten overeenkomst"]
[null,null,null,null,null,null,null,null,null,null,null,487500,42200,51062,"buiten overeenkomst"]
[null,null,null,null,null,null,null,null,null,null,null,487900,42200,51062,"buiten overeenkomst"]
[null,null,null,null,null,null,null,null,null,null,null,488400,42300,51183,"buiten overeenkomst"]
[null,null,null,null,null,null,null,null,null,null,null,488900,42300,51183,"buiten overeenkomst"]
[null,null,null,null,null,null,null,null,null,null,null,489000,42300,51183,"buiten overeenkomst"]
[null,null,null,null,null,null,null,null,null,null,null,489500,42300,51183,"buiten overeenkomst"]
[null,null,null,null,null,null,null,null,null,null,null,489900,42300,51183,"buiten overeenkomst"]
[null,null,null,null,null,null,null,null,null,null,null,490400,42300,51183,"buiten overeenkomst"]
[null,null,null,null,null,null,null,null,null,null,null,490500,42300,51183,"buiten overeenkomst"]
[null,null,null,null,null,null,null,null,null,null,null,490900,42300,51183,"buiten overeenkomst"]
[null,null,null,null,null,null,null,null,null,null,null,491400,42300,51183,"buiten overeenkomst"]
[null,null,null,null,null,null,null,null,null,null,null,491900,42300,51183,"buiten overeenkomst"]
[null,null,null,null,null,null,null,null,null,null,null,492000,42300,51183,"buiten overeenkomst"]
[null,null,null,null,null,null,null,null,null,null,null,492500,42400,51304,"buiten overeenkomst"]
[null,null,null,null,null,null,null,null,null,null,null,492900,42400,51304,"buiten overeenkomst"]
[null,null,null,null,null,null,null,null,null,null,null,493400,42400,51304,"buiten overeenkomst"]
[null,null,null,null,null,null,null,null,null,null,null,493500,42400,51304,"buiten overeenkomst"]
[null,null,null,null,null,null,null,null,null,null,null,493900,42400,51304,"buiten overeenkomst"]
[null,null,null,null,null,null,null,null,null,null,null,494400,42400,51304,"buiten overeenkomst"]
[null,null,null,null,null,null,null,null,null,null,null,494900,42400,51304,"buiten overeenkomst"]
[null,null,null,null,null,null,null,null,null,null,null,495000,42400,51304,"buiten overeenkomst"]
[null,null,null,null,null,null,null,null,null,null,null,495500,42400,51304,"buiten overeenkomst"]
[null,null,null,null,null,null,null,null,null,null,null,495900,42400,51304,"buiten overeenkomst"]
[null,null,null,null,null,null,null,null,null,null,null,496400,42500,51425,"buiten overeenkomst"]
[null,null,null,null,null,null,null,null,null,null,null,496500,42500,51425,"buiten overeenkomst"]
[null,null,null,null,null,null,null,null,null,null,null,496900,42500,51425,"buiten overeenkomst"]
[null,null,null,null,null,null,null,null,null,null,null,497400,42500,51425,"buiten overeenkomst"]
[null,null,null,null,null,null,null,null,null,null,null,497900,42500,51425,"buiten overeenkomst"]
[null,null,null,null,null,null,null,null,null,null,null,498000,42500,51425,"buiten overeenkomst"]
[null,null,null,null,null,null,null,null,null,null,null,498600,42500,51425,"buiten overeenkomst"]
[null,null,null,null,null,null,null,null,null,null,null,498900,42500,51425,"buiten overeenkomst"]
[null,null,null,null,null,null,null,null,null,null,null,499400,42500,51425,"buiten overeenkomst"]
[null,null,null,null,null,null,null,null,null,null,null,499500,42500,51425,"buiten overeenkomst"]
[null,null,null,null,null,null,null,null,null,null,null,499900,42500,51425,"buiten overeenkomst"]
[null,null,null,null,null,null,null,null,null,null,null,500400,42600,51546,"buiten overeenkomst"]
[null,null,null,null,null,null,null,null,null,null,null,500900,42600,51546,"buiten overeenkomst"]
[null,null,null,null,null,null,null,null,null,null,null,501000,42600,51546,"buiten overeenkomst"]
[null,null,null,null,null,null,null,null,null,null,null,501600,42600,51546,"buiten overeenkomst"]
[null,null,null,null,null,null,null,null,null,null,null,501900,42600,51546,"buiten overeenkomst"]
[null,null,null,null,null,null,null,null,null,null,null,502400,42600,51546,"buiten overeenkomst"]
[null,null,null,null,null,null,null,null,null,null,null,502500,42600,51546,"buiten overeenkomst"]
[null,null,null,null,null,null,null,null,null,null,null,502900,42600,51546,"buiten overeenkomst"]
[null,null,null,null,null,null,null,null,null,null,null,503400,42600,51546,"buiten overeenkomst"]
[null,null,null,null,null,null,null,null,null,null,null,503900,42600,51546,"buiten overeenkomst"]
[null,null,null,null,null,null,null,null,null,null,null,504000,42600,51546,"buiten overeenkomst"]
[null,null,null,null,null,null,null,null,null,null,null,504600,42600,51546,"buiten overeenkomst"]
[null,null,null,null,null,null,null,null,null,null,null,504900,42600,51546,"buiten overeenkomst"]
[null,null,null,null,null,null,null,null,null,null,null,505400,42700,51667,"buiten overeenkomst"]
[null,null,null,null,null,null,null,null,null,null,null,505500,42700,51667,"buiten overeenkomst"]
[null,null,null,null,null,null,null,null,null,null,null,505900,42700,51667,"buiten overeenkomst"]
[null,null,null,null,null,null,null,null,null,null,null,506400,42700,51667,"buiten overeenkomst"]
[null,null,null,null,null,null,null,null,null,null,null,506900,42700,51667,"buiten overeenkomst"]
[null,null,null,null,null,null,null,null,null,null,null,507000,42700,51667,"buiten overeenkomst"]
[null,null,null,null,null,null,null,null,null,null,null,507600,42700,51667,"buiten overeenkomst"]
[null,null,null,null,null,null,null,null,null,null,null,507900,42700,51667,"buiten overeenkomst"]
[null,null,null,null,null,null,null,null,null,null,null,508400,42700,51667,"buiten overeenkomst"]
[null,null,null,null,null,null,null,null,null,null,null,508500,42700,51667,"buiten overeenkomst"]
[null,null,null,null,null,null,null,null,null,null,null,508900,42700,51667,"buiten overeenkomst"]
[null,null,null,null,null,null,null,null,null,null,null,509400,42700,51667,"buiten overeenkomst"]
[null,null,null,null,null,null,null,null,null,null,null,509900,42700,51667,"buiten overeenkomst"]
[null,null,null,null,null,null,null,null,null,null,null,510000,42700,51667,"buiten overeenkomst"]
[null,null,null,null,null,null,null,null,null,null,null,510600,42800,51788,"buiten overeenkomst"]
[null,null,null,null,null,null,null,null,null,null,null,510900,42800,51788,"buiten overeenkomst"]
[null,null,null,null,null,null,null,null,null,null,null,511400,42800,51788,"buiten overeenkomst"]
[null,null,null,null,null,null,null,null,null,null,null,511500,42800,51788,"buiten overeenkomst"]
[null,null,null,null,null,null,null,null,null,null,null,511900,42800,51788,"buiten overeenkomst"]
[null,null,null,null,null,null,null,null,null,null,null,512400,42800,51788,"buiten overeenkomst"]
[null,null,null,null,null,null,null,null,null,null,null,512900,42800,51788,"buiten overeenkomst"]
[null,null,null,null,null,null,null,null,null,null,null,513000,42800,51788,"buiten overeenkomst"]
[null,null,null,null,null,null,null,null,null,null,null,513500,42800,51788,"buiten overeenkomst"]
[null,null,null,null,null,null,null,null,null,null,null,514000,42800,51788,"buiten overeenkomst"]
[null,null,null,null,null,null,null,null,null,null,null,514400,42800,51788,"buiten overeenkomst"]
[null,null,null,null,null,null,null,null,null,null,null,514500,42800,51788,"buiten overeenkomst"]
[null,null,null,null,null,null,null,null,null,null,null,515000,42800,51788,"buiten overeenkomst"]
[null,null,null,null,null,null,null,null,null,null,null,515400,42900,51909,"buiten overeenkomst"]
[null,null,null,null,null,null,null,null,null,null,null,515900,42900,51909,"buiten overeenkomst"]
[null,null,null,null,null,null,null,null,null,null,null,516000,42900,51909,"buiten overeenkomst"]
[null,null,null,null,null,null,null,null,null,null,null,516500,42900,51909,"buiten overeenkomst"]
[null,null,null,null,null,null,null,null,null,null,null,517000,42900,51909,"buiten overeenkomst"]
[null,null,null,null,null,null,null,null,null,null,null,517400,42900,51909,"buiten overeenkomst"]
[null,null,null,null,null,null,null,null,null,null,null,517500,42900,51909,"buiten overeenkomst"]
[null,null,null,null,null,null,null,null,null,null,null,518000,42900,51909,"buiten overeenkomst"]
[null,null,null,null,null,null,null,null,null,null,null,518400,42900,51909,"buiten overeenkomst"]
[null,null,null,null,null,null,null,null,null,null,null,518900,42900,51909,"buiten overeenkomst"]
[null,null,null,null,null,null,null,null,null,null,null,519000,42900,51909,"buiten overeenkomst"]
[null,null,null,null,null,null,null,null,null,null,null,519500,42900,51909,"buiten overeenkomst"]
[null,null,null,null,null,null,null,null,null,null,null,520000,42900,51909,"buiten overeenkomst"]
[null,null,null,null,null,null,null,null,null,null,null,520400,43000,52030,"buiten overeenkomst"]
[null,null,null,null,null,null,null,null,null,null,null,520500,43000,52030,"buiten overeenkomst"]
[null,null,null,null,null,null,null,null,null,null,null,521000,43000,52030,"buiten overeenkomst"]
[null,null,null,null,null,null,null,null,null,null,null,521400,43000,52030,"buiten overeenkomst"]
[null,null,null,null,null,null,null,null,null,null,null,521900,43000,52030,"buiten overeenkomst"]
[null,null,null,null,null,null,null,null,null,null,null,522000,43000,52030,"buiten overeenkomst"]
[null,null,null,null,null,null,null,null,null,null,null,522500,43000,52030,"buiten overeenkomst"]
[null,null,null,null,null,null,null,null,null,null,null,523000,43000,52030,"buiten overeenkomst"]
[null,null,null,null,null,null,null,null,null,null,null,523400,43000,52030,"buiten overeenkomst"]
[null,null,null,null,null,null,null,null,null,null,null,523500,43000,52030,"buiten overeenkomst"]
[null,null,null,null,null,null,null,null,null,null,null,524000,43000,52030,"buiten overeenkomst"]
[null,null,null,null,null,null,null,null,null,null,null,524400,43000,52030,"buiten overeenkomst"]
[null,null,null,null,null,null,null,null,null,null,null,524900,43000,52030,"buiten overeenkomst"]
[null,null,null,null,null,null,null,null,null,null,null,525000,43000,52030,"buiten overeenkomst"]
[null,null,null,null,null,null,null,null,null,null,null,525500,43100,52151,"buiten overeenkomst"]
[null,null,null,null,null,null,null,null,null,null,null,526000,43100,52151,"buiten overeenkomst"]
[null,null,null,null,null,null,null,null,null,null,null,526400,43100,52151,"buiten overeenkomst"]
[null,null,null,null,null,null,null,null,null,null,null,526500,43100,52151,"buiten overeenkomst"]
[null,null,null,null,null,null,null,null,null,null,null,527000,43100,52151,"buiten overeenkomst"]
[null,null,null,null,null,null,null,null,null,null,null,527400,43100,52151,"buiten overeenkomst"]
[null,null,null,null,null,null,null,null,null,null,null,527900,43100,52151,"buiten overeenkomst"]
[null,null,null,null,null,null,null,null,null,null,null,528000,43100,52151,"buiten overeenkomst"]
[null,null,null,null,null,null,null,null,null,null,null,528500,43100,52151,"buiten overeenkomst"]
[null,null,null,null,null,null,null,null,null,null,null,529000,43100,52151,"buiten overeenkomst"]
[null,null,null,null,null,null,null,null,null,null,null,529400,43100,52151,"buiten overeenkomst"]
[null,null,null,null,null,null,null,null,null,null,null,529500,43100,52151,"buiten overeenkomst"]
[null,null,null,null,null,null,null,null,null,null,null,530000,43100,52151,"buiten overeenkomst"]
[null,null,null,null,null,null,null,null,null,null,null,530400,43200,52272,"buiten overeenkomst"]
[null,null,null,null,null,null,null,null,null,null,null,530900,43200,52272,"buiten overeenkomst"]
[null,null,null,null,null,null,null,null,null,null,null,531000,43200,52272,"buiten overeenkomst"]
[null,null,null,null,null,null,null,null,null,null,null,531500,43200,52272,"buiten overeenkomst"]
[null,null,null,null,null,null,null,null,null,null,null,531800,43200,52272,"buiten overeenkomst"]
[null,null,null,null,null,null,null,null,null,null,null,532400,43200,52272,"buiten overeenkomst"]
[null,null,null,null,null,null,null,null,null,null,null,532500,43200,52272,"buiten overeenkomst"]
[null,null,null,null,null,null,null,null,null,null,null,533000,43200,52272,"buiten overeenkomst"]
[null,null,null,null,null,null,null,null,null,null,null,533400,43200,52272,"buiten overeenkomst"]
[null,null,null,null,null,null,null,null,null,null,null,533900,43200,52272,"buiten overeenkomst"]
[null,null,null,null,null,null,null,null,null,null,null,534000,43200,52272,"buiten overeenkomst"]
[null,null,null,null,null,null,null,null,null,null,null,534500,43200,52272,"buiten overeenkomst"]
[null,null,null,null,null,null,null,null,null,null,null,534800,43200,52272,"buiten overeenkomst"]
[null,null,null,null,null,null,null,null,null,null,null,535400,43300,52393,"buiten overeenkomst"]
[null,null,null,null,null,null,null,null,null,null,null,535500,43300,52393,"buiten overeenkomst"]
[null,null,null,null,null,null,null,null,null,null,null,536000,43300,52393,"buiten overeenkomst"]
[null,null,null,null,null,null,null,null,null,null,null,536400,43300,52393,"buiten overeenkomst"]
[null,null,null,null,null,null,null,null,null,null,null,536900,43300,52393,"buiten overeenkomst"]
[null,null,null,null,null,null,null,null,null,null,null,537000,43300,52393,"buiten overeenkomst"]
[null,null,null,null,null,null,null,null,null,null,null,537500,43300,52393,"buiten overeenkomst"]
[null,null,null,null,null,null,null,null,null,null,null,537800,43300,52393,"buiten overeenkomst"]
[null,null,null,null,null,null,null,null,null,null,null,538400,43300,52393,"buiten overeenkomst"]
[null,null,null,null,null,null,null,null,null,null,null,538500,43300,52393,"buiten overeenkomst"]
[null,null,null,null,null,null,null,null,null,null,null,539000,43300,52393,"buiten overeenkomst"]
[null,null,null,null,null,null,null,null,null,null,null,539400,43300,52393,"buiten overeenkomst"]
[null,null,null,null,null,null,null,null,null,null,null,539900,43300,52393,"buiten overeenkomst"]
[null,null,null,null,null,null,null,null,null,null,null,540000,43300,52393,"buiten overeenkomst"]
[null,null,null,null,null,null,null,null,null,null,null,540500,43400,52514,"buiten overeenkomst"]
[null,null,null,null,null,null,null,null,null,null,null,540800,43400,52514,"buiten overeenkomst"]
[null,null,null,null,null,null,null,null,null,null,null,541400,43400,52514,"buiten overeenkomst"]
[null,null,null,null,null,null,null,null,null,null,null,541500,43400,52514,"buiten overeenkomst"]
[null,null,null,null,null,null,null,null,null,null,null,542000,43400,52514,"buiten overeenkomst"]
[null,null,null,null,null,null,null,null,null,null,null,542400,43400,52514,"buiten overeenkomst"]
[null,null,null,null,null,null,null,null,null,null,null,542900,43400,52514,"buiten overeenkomst"]
[null,null,null,null,null,null,null,null,null,null,null,543000,43400,52514,"buiten overeenkomst"]
[null,null,null,null,null,null,null,null,null,null,null,543500,43400,52514,"buiten overeenkomst"]
[null,null,null,null,null,null,null,null,null,null,null,543800,43400,52514,"buiten overeenkomst"]
[null,null,null,null,null,null,null,null,null,null,null,544400,43400,52514,"buiten overeenkomst"]
[null,null,null,null,null,null,null,null,null,null,null,544500,43400,52514,"buiten overeenkomst"]
[null,null,null,null,null,null,null,null,null,null,null,545000,43400,52514,"buiten overeenkomst"]
[null,null,null,null,null,null,null,null,null,null,null,545400,43500,52635,"buiten overeenkomst"]
[null,null,null,null,null,null,null,null,null,null,null,545900,43500,52635,"buiten overeenkomst"]
[null,null,null,null,null,null,null,null,null,null,null,546000,43500,52635,"buiten overeenkomst"]
[null,null,null,null,null,null,null,null,null,null,null,546500,43500,52635,"buiten overeenkomst"]
[null,null,null,null,null,null,null,null,null,null,null,546800,43500,52635,"buiten overeenkomst"]
[null,null,null,null,null,null,null,null,null,null,null,547400,43500,52635,"buiten overeenkomst"]
[null,null,null,null,null,null,null,null,null,null,null,547500,43500,52635,"buiten overeenkomst"]
[null,null,null,null,null,null,null,null,null,null,null,548000,43500,52635,"buiten overeenkomst"]
[null,null,null,null,null,null,null,null,null,null,null,548400,43500,52635,"buiten overeenkomst"]
[null,null,null,null,null,null,null,null,null,null,null,548900,43500,52635,"buiten overeenkomst"]
[null,null,null,null,null,null,null,null,null,null,null,549000,43500,52635,"buiten overeenkomst"]
[null,null,null,null,null,null,null,null,null,null,null,549500,43500,52635,"buiten overeenkomst"]
[null,null,null,null,null,null,null,null,null,null,null,549800,43500,52635,"buiten overeenkomst"]
[null,null,null,null,null,null,null,null,null,null,null,550400,43600,52756,"buiten overeenkomst"]
[null,null,null,null,null,null,null,null,null,null,null,550500,43600,52756,"buiten overeenkomst"]
[null,null,null,null,null,null,null,null,null,null,null,551000,43600,52756,"buiten overeenkomst"]
[null,null,null,null,null,null,null,null,null,null,null,551400,43600,52756,"buiten overeenkomst"]
[null,null,null,null,null,null,null,null,null,null,null,551900,43600,52756,"buiten overeenkomst"]
[null,null,null,null,null,null,null,null,null,null,null,552000,43600,52756,"buiten overeenkomst"]
[null,null,null,null,null,null,null,null,null,null,null,552500,43600,52756,"buiten overeenkomst"]
[null,null,null,null,null,null,null,null,null,null,null,552800,43600,52756,"buiten overeenkomst"]
[null,null,null,null,null,null,null,null,null,null,null,553400,43600,52756,"buiten overeenkomst"]
[null,null,null,null,null,null,null,null,null,null,null,553500,43600,52756,"buiten overeenkomst"]
[null,null,null,null,null,null,null,null,null,null,null,554000,43600,52756,"buiten overeenkomst"]
[null,null,null,null,null,null,null,null,null,null,null,554400,43600,52756,"buiten overeenkomst"]
[null,null,null,null,null,null,null,null,null,null,null,554900,43600,52756,"buiten overeenkomst"]
[null,null,null,null,null,null,null,null,null,null,null,555000,43600,52756,"buiten overeenkomst"]
[null,null,null,null,null,null,null,null,null,null,null,555500,43700,52877,"buiten overeenkomst"]
[null,null,null,null,null,null,null,null,null,null,null,555800,43700,52877,"buiten overeenkomst"]
[null,null,null,null,null,null,null,null,null,null,null,556400,43700,52877,"buiten overeenkomst"]
[null,null,null,null,null,null,null,null,null,null,null,556500,43700,52877,"buiten overeenkomst"]
[null,null,null,null,null,null,null,null,null,null,null,557000,43700,52877,"buiten overeenkomst"]
[null,null,null,null,null,null,null,null,null,null,null,557500,43700,52877,"buiten overeenkomst"]
[null,null,null,null,null,null,null,null,null,null,null,557900,43700,52877,"buiten overeenkomst"]
[null,null,null,null,null,null,null,null,null,null,null,558000,43700,52877,"buiten overeenkomst"]
[null,null,null,null,null,null,null,null,null,null,null,558500,43700,52877,"buiten overeenkomst"]
[null,null,null,null,null,null,null,null,null,null,null,558800,43700,52877,"buiten overeenkomst"]
[null,null,null,null,null,null,null,null,null,null,null,559400,43700,52877,"buiten overeenkomst"]
[null,null,null,null,null,null,null,null,null,null,null,559500,43700,52877,"buiten overeenkomst"]
[null,null,null,null,null,null,null,null,null,null,null,560000,43700,52877,"buiten overeenkomst"]
[null,null,null,null,null,null,null,null,null,null,null,560500,43800,52998,"buiten overeenkomst"]
[null,null,null,null,null,null,null,null,null,null,null,560900,43800,52998,"buiten overeenkomst"]
[null,null,null,null,null,null,null,null,null,null,null,561000,43800,52998,"buiten overeenkomst"]
[null,null,null,null,null,null,null,null,null,null,null,561500,43800,52998,"buiten overeenkomst"]
[null,null,null,null,null,null,null,null,null,null,null,561800,43800,52998,"buiten overeenkomst"]
[null,null,null,null,null,null,null,null,null,null,null,562400,43800,52998,"buiten overeenkomst"]
[null,null,null,null,null,null,null,null,null,null,null,562500,43800,52998,"buiten overeenkomst"]
[null,null,null,null,null,null,null,null,null,null,null,563000,43800,52998,"buiten overeenkomst"]
[null,null,null,null,null,null,null,null,null,null,null,563500,43800,52998,"buiten overeenkomst"]
[null,null,null,null,null,null,null,null,null,null,null,563900,43800,52998,"buiten overeenkomst"]
[null,null,null,null,null,null,null,null,null,null,null,564000,43800,52998,"buiten overeenkomst"]
[null,null,null,null,null,null,null,null,null,null,null,564500,43800,52998,"buiten overeenkomst"]
[null,null,null,null,null,null,null,null,null,null,null,564800,43800,52998,"buiten overeenkomst"]
[null,null,null,null,null,null,null,null,null,null,null,565400,43900,53119,"buiten overeenkomst"]
[null,null,null,null,null,null,null,null,null,null,null,565500,43900,53119,"buiten overeenkomst"]
[null,null,null,null,null,null,null,null,null,null,null,566000,43900,53119,"buiten overeenkomst"]
[null,null,null,null,null,null,null,null,null,null,null,566500,43900,53119,"buiten overeenkomst"]
[null,null,null,null,null,null,null,null,null,null,null,566900,43900,53119,"buiten overeenkomst"]
[null,null,null,null,null,null,null,null,null,null,null,567000,43900,53119,"buiten overeenkomst"]
[null,null,null,null,null,null,null,null,null,null,null,567500,43900,53119,"buiten overeenkomst"]
[null,null,null,null,null,null,null,null,null,null,null,567800,43900,53119,"buiten overeenkomst"]
[null,null,null,null,null,null,null,null,null,null,null,568400,43900,53119,"buiten overeenkomst"]
[null,null,null,null,null,null,null,null,null,null,null,568500,43900,53119,"buiten overeenkomst"]
[null,null,null,null,null,null,null,null,null,null,null,569000,43900,53119,"buiten overeenkomst"]
[null,null,null,null,null,null,null,null,null,null,null,569500,43900,53119,"buiten overeenkomst"]
[null,null,null,null,null,null,null,null,null,null,null,569900,43900,53119,"buiten overeenkomst"]
[null,null,null,null,null,null,null,null,null,null,null,570000,43900,53119,"buiten overeenkomst"]
[null,null,null,null,null,null,null,null,null,null,null,570500,44000,53240,"buiten overeenkomst"]
[null,null,null,null,null,null,null,null,null,null,null,570800,44000,53240,"buiten overeenkomst"]
[null,null,null,null,null,null,null,null,null,null,null,571400,44000,53240,"buiten overeenkomst"]
[null,null,null,null,null,null,null,null,null,null,null,571500,44000,53240,"buiten overeenkomst"]
[null,null,null,null,null,null,null,null,null,null,null,572000,44000,53240,"buiten overeenkomst"]
[null,null,null,null,null,null,null,null,null,null,null,572500,44000,53240,"buiten overeenkomst"]
[null,null,null,null,null,null,null,null,null,null,null,572900,44000,53240,"buiten overeenkomst"]
[null,null,null,null,null,null,null,null,null,null,null,573000,44000,53240,"buiten overeenkomst"]
[null,null,null,null,null,null,null,null,null,null,null,573500,44000,53240,"buiten overeenkomst"]
[null,null,null,null,null,null,null,null,null,null,null,573800,44000,53240,"buiten overeenkomst"]
[null,null,null,null,null,null,null,null,null,null,null,574400,44000,53240,"buiten overeenkomst"]
[null,null,null,null,null,null,null,null,null,null,null,574500,44000,53240,"buiten overeenkomst"]
[null,null,null,null,null,null,null,null,null,null,null,575000,44000,53240,"buiten overeenkomst"]
[null,null,null,null,null,null,null,null,null,null,null,575500,44100,53361,"buiten overeenkomst"]
[null,null,null,null,null,null,null,null,null,null,null,575900,44100,53361,"buiten overeenkomst"]
[null,null,null,null,null,null,null,null,null,null,null,576000,44100,53361,"buiten overeenkomst"]
[null,null,null,null,null,null,null,null,null,null,null,576500,44100,53361,"buiten overeenkomst"]
[null,null,null,null,null,null,null,null,null,null,null,577000,44100,53361,"buiten overeenkomst"]
[null,null,null,null,null,null,null,null,null,null,null,577300,44100,53361,"buiten overeenkomst"]
[null,null,null,null,null,null,null,null,null,null,null,577500,44100,53361,"buiten overeenkomst"]
[null,null,null,null,null,null,null,null,null,null,null,578000,44100,53361,"buiten overeenkomst"]
[null,null,null,null,null,null,null,null,null,null,null,578500,44100,53361,"buiten overeenkomst"]
[null,null,null,null,null,null,null,null,null,null,null,578900,44100,53361,"buiten overeenkomst"]
[null,null,null,null,null,null,null,null,null,null,null,579000,44100,53361,"buiten overeenkomst"]
[null,null,null,null,null,null,null,null,null,null,null,579500,44100,53361,"buiten overeenkomst"]
[null,null,null,null,null,null,null,null,null,null,null,580000,44100,53361,"buiten overeenkomst"]
[null,null,null,null,null,null,null,null,null,null,null,580300,44200,53482,"buiten overeenkomst"]
[null,null,null,null,null,null,null,null,null,null,null,580500,44200,53482,"buiten overeenkomst"]
[null,null,null,null,null,null,null,null,null,null,null,581000,44200,53482,"buiten overeenkomst"]
[null,null,null,null,null,null,null,null,null,null,null,581500,44200,53482,"buiten overeenkomst"]
[null,null,null,null,null,null,null,null,null,null,null,581900,44200,53482,"buiten overeenkomst"]
[null,null,null,null,null,null,null,null,null,null,null,582000,44200,53482,"buiten overeenkomst"]
[null,null,null,null,null,null,null,null,null,null,null,582500,44200,53482,"buiten overeenkomst"]
[null,null,null,null,null,null,null,null,null,null,null,583000,44200,53482,"buiten overeenkomst"]
[null,null,null,null,null,null,null,null,null,null,null,583300,44200,53482,"buiten overeenkomst"]
[null,null,null,null,null,null,null,null,null,null,null,583500,44200,53482,"buiten overeenkomst"]
[null,null,null,null,null,null,null,null,null,null,null,584000,44200,53482,"buiten overeenkomst"]
[null,null,null,null,null,null,null,null,null,null,null,584500,44200,53482,"buiten overeenkomst"]
[null,null,null,null,null,null,null,null,null,null,null,584900,44200,53482,"buiten overeenkomst"]
[null,null,null,null,null,null,null,null,null,null,null,585000,44200,53482,"buiten overeenkomst"]
[null,null,null,null,null,null,null,null,null,null,null,585500,44300,53603,"buiten overeenkomst"]
[null,null,null,null,null,null,null,null,null,null,null,586000,44300,53603,"buiten overeenkomst"]
[null,null,null,null,null,null,null,null,null,null,null,586300,44300,53603,"buiten overeenkomst"]
[null,null,null,null,null,null,null,null,null,null,null,586500,44300,53603,"buiten overeenkomst"]
[null,null,null,null,null,null,null,null,null,null,null,587000,44300,53603,"buiten overeenkomst"]
[null,null,null,null,null,null,null,null,null,null,null,587500,44300,53603,"buiten overeenkomst"]
[null,null,null,null,null,null,null,null,null,null,null,587900,44300,53603,"buiten overeenkomst"]
[null,null,null,null,null,null,null,null,null,null,null,588000,44300,53603,"buiten overeenkomst"]
[null,null,null,null,null,null,null,null,null,null,null,588500,44300,53603,"buiten overeenkomst"]
[null,null,null,null,null,null,null,null,null,null,null,589000,44300,53603,"buiten overeenkomst"]
[null,null,null,null,null,null,null,null,null,null,null,589300,44300,53603,"buiten overeenkomst"]
[null,null,null,null,null,null,null,null,null,null,null,589500,44300,53603,"buiten overeenkomst"]
[null,null,null,null,null,null,null,null,null,null,null,590000,44300,53603,"buiten overeenkomst"]
[null,null,null,null,null,null,null,null,null,null,null,590500,44400,53724,"buiten overeenkomst"]
[null,null,null,null,null,null,null,null,null,null,null,590700,44400,53724,"buiten overeenkomst"]
[null,null,null,null,null,null,null,null,null,null,null,591000,44400,53724,"buiten overeenkomst"]
[null,null,null,null,null,null,null,null,null,null,null,591500,44400,53724,"buiten overeenkomst"]
[null,null,null,null,null,null,null,null,null,null,null,592000,44400,53724,"buiten overeenkomst"]
[null,null,null,null,null,null,null,null,null,null,null,592300,44400,53724,"buiten overeenkomst"]
[null,null,null,null,null,null,null,null,null,null,null,592500,44400,53724,"buiten overeenkomst"]
[null,null,null,null,null,null,null,null,null,null,null,593000,44400,53724,"buiten overeenkomst"]
[null,null,null,null,null,null,null,null,null,null,null,593500,44400,53724,"buiten overeenkomst"]
[null,null,null,null,null,null,null,null,null,null,null,593700,44400,53724,"buiten overeenkomst"]
[null,null,null,null,null,null,null,null,null,null,null,594000,44400,53724,"buiten overeenkomst"]
[null,null,null,null,null,null,null,null,null,null,null,594500,44400,53724,"buiten overeenkomst"]
[null,null,null,null,null,null,null,null,null,null,null,595000,44400,53724,"buiten overeenkomst"]
[null,null,null,null,null,null,null,null,null,null,null,595300,44500,53845,"buiten overeenkomst"]
[null,null,null,null,null,null,null,null,null,null,null,595500,44500,53845,"buiten overeenkomst"]
[null,null,null,null,null,null,null,null,null,null,null,596000,44500,53845,"buiten overeenkomst"]
[null,null,null,null,null,null,null,null,null,null,null,596500,44500,53845,"buiten overeenkomst"]
[null,null,null,null,null,null,null,null,null,null,null,596700,44500,53845,"buiten overeenkomst"]
[null,null,null,null,null,null,null,null,null,null,null,597000,44500,53845,"buiten overeenkomst"]
[null,null,null,null,null,null,null,null,null,null,null,597500,44500,53845,"buiten overeenkomst"]
[null,null,null,null,null,null,null,null,null,null,null,598000,44500,53845,"buiten overeenkomst"]
[null,null,null,null,null,null,null,null,null,null,null,598300,44500,53845,"buiten overeenkomst"]
[null,null,null,null,null,null,null,null,null,null,null,598500,44500,53845,"buiten overeenkomst"]
[null,null,null,null,null,null,null,null,null,null,null,599000,44500,53845,"buiten overeenkomst"]
[null,null,null,null,null,null,null,null,null,null,null,599500,44500,53845,"buiten overeenkomst"]
[null,null,null,null,null,null,null,null,null,null,null,599700,44500,53845,"buiten overeenkomst"]
[null,null,null,null,null,null,null,null,null,null,null,600000,44500,53845,"buiten overeenkomst"]
[null,null,null,null,null,null,null,null,null,null,null,600500,44600,53966,"buiten overeenkomst"]
[null,null,null,null,null,null,null,null,null,null,null,601000,44600,53966,"buiten overeenkomst"]
[null,null,null,null,null,null,null,null,null,null,null,601300,44600,53966,"buiten overeenkomst"]
[null,null,null,null,null,null,null,null,null,null,null,601500,44600,53966,"buiten overeenkomst"]
[null,null,null,null,null,null,null,null,null,null,null,602000,44600,53966,"buiten overeenkomst"]
[null,null,null,null,null,null,null,null,null,null,null,602500,44600,53966,"buiten overeenkomst"]
[null,null,null,null,null,null,null,null,null,null,null,602700,44600,53966,"buiten overeenkomst"]
[null,null,null,null,null,null,null,null,null,null,null,603000,44600,53966,"buiten overeenkomst"]
[null,null,null,null,null,null,null,null,null,null,null,603500,44600,53966,"buiten overeenkomst"]
[null,null,null,null,null,null,null,null,null,null,null,604000,44600,53966,"buiten overeenkomst"]
[null,null,null,null,null,null,null,null,null,null,null,604300,44600,53966,"buiten overeenkomst"]
[null,null,null,null,null,null,null,null,null,null,null,604500,44600,53966,"buiten overeenkomst"]
[null,null,null,null,null,null,null,null,null,null,null,605000,44600,53966,"buiten overeenkomst"]
[null,null,null,null,null,null,null,null,null,null,null,605500,44700,54087,"buiten overeenkomst"]
[null,null,null,null,null,null,null,null,null,null,null,605700,44700,54087,"buiten overeenkomst"]
[null,null,null,null,null,null,null,null,null,null,null,606000,44700,54087,"buiten overeenkomst"]
[null,null,null,null,null,null,null,null,null,null,null,606500,44700,54087,"buiten overeenkomst"]
[null,null,null,null,null,null,null,null,null,null,null,607000,44700,54087,"buiten overeenkomst"]
[null,null,null,null,null,null,null,null,null,null,null,607300,44700,54087,"buiten overeenkomst"]
[null,null,null,null,null,null,null,null,null,null,null,607500,44700,54087,"buiten overeenkomst"]
[null,null,null,null,null,null,null,null,null,null,null,608000,44700,54087,"buiten overeenkomst"]
[null,null,null,null,null,null,null,null,null,null,null,608500,44700,54087,"buiten overeenkomst"]
[null,null,null,null,null,null,null,null,null,null,null,608700,44700,54087,"buiten overeenkomst"]
[null,null,null,null,null,null,null,null,null,null,null,609000,44700,54087,"buiten overeenkomst"]
[null,null,null,null,null,null,null,null,null,null,null,609500,44700,54087,"buiten overeenkomst"]
[null,null,null,null,null,null,null,null,null,null,null,610000,44700,54087,"buiten overeenkomst"]
[null,null,null,null,null,null,null,null,null,null,null,610300,44800,54208,"buiten overeenkomst"]
[null,null,null,null,null,null,null,null,null,null,null,610500,44800,54208,"buiten overeenkomst"]
[null,null,null,null,null,null,null,null,null,null,null,611000,44800,54208,"buiten overeenkomst"]
[null,null,null,null,null,null,null,null,null,null,null,611500,44800,54208,"buiten overeenkomst"]
[null,null,null,null,null,null,null,null,null,null,null,611700,44800,54208,"buiten overeenkomst"]
[null,null,null,null,null,null,null,null,null,null,null,612000,44800,54208,"buiten overeenkomst"]
[null,null,null,null,null,null,null,null,null,null,null,612500,44800,54208,"buiten overeenkomst"]
[null,null,null,null,null,null,null,null,null,null,null,613000,44800,54208,"buiten overeenkomst"]
[null,null,null,null,null,null,null,null,null,null,null,613300,44800,54208,"buiten overeenkomst"]
[null,null,null,null,null,null,null,null,null,null,null,613500,44800,54208,"buiten overeenkomst"]
[null,null,null,null,null,null,null,null,null,null,null,614000,44800,54208,"buiten overeenkomst"]
[null,null,null,null,null,null,null,null,null,null,null,614500,44800,54208,"buiten overeenkomst"]
[null,null,null,null,null,null,null,null,null,null,null,614700,44800,54208,"buiten overeenkomst"]
[null,null,null,null,null,null,null,null,null,null,null,615000,44800,54208,"buiten overeenkomst"]
[null,null,null,null,null,null,null,null,null,null,null,615500,44900,54329,"buiten overeenkomst"]
[null,null,null,null,null,null,null,null,null,null,null,616000,44900,54329,"buiten overeenkomst"]
[null,null,null,null,null,null,null,null,null,null,null,616300,44900,54329,"buiten overeenkomst"]
[null,null,null,null,null,null,null,null,null,null,null,616500,44900,54329,"buiten overeenkomst"]
[null,null,null,null,null,null,null,null,null,null,null,617000,44900,54329,"buiten overeenkomst"]
[null,null,null,null,null,null,null,null,null,null,null,617500,44900,54329,"buiten overeenkomst"]
[null,null,null,null,null,null,null,null,null,null,null,617700,44900,54329,"buiten overeenkomst"]
[null,null,null,null,null,null,null,null,null,null,null,618000,44900,54329,"buiten overeenkomst"]
[null,null,null,null,null,null,null,null,null,null,null,618500,44900,54329,"buiten overeenkomst"]
[null,null,null,null,null,null,null,null,null,null,null,619000,44900,54329,"buiten overeenkomst"]
[null,null,null,null,null,null,null,null,null,null,null,619400,44900,54329,"buiten overeenkomst"]
[null,null,null,null,null,null,null,null,null,null,null,619500,44900,54329,"buiten overeenkomst"]
[null,null,null,null,null,null,null,null,null,null,null,620000,44900,54329,"buiten overeenkomst"]
[null,null,null,null,null,null,null,null,null,null,null,620500,45000,54450,"buiten overeenkomst"]
[null,null,null,null,null,null,null,null,null,null,null,620700,45000,54450,"buiten overeenkomst"]
[null,null,null,null,null,null,null,null,null,null,null,621000,45000,54450,"buiten overeenkomst"]
[null,null,null,null,null,null,null,null,null,null,null,621500,45000,54450,"buiten overeenkomst"]
[null,null,null,null,null,null,null,null,null,null,null,622000,45000,54450,"buiten overeenkomst"]
[null,null,null,null,null,null,null,null,null,null,null,622400,45000,54450,"buiten overeenkomst"]
[null,null,null,null,null,null,null,null,null,null,null,622500,45000,54450,"buiten overeenkomst"]
[null,null,null,null,null,null,null,null,null,null,null,623000,45000,54450,"buiten overeenkomst"]
[null,null,null,null,null,null,null,null,null,null,null,623500,45000,54450,"buiten overeenkomst"]
[null,null,null,null,null,null,null,null,null,null,null,623700,45000,54450,"buiten overeenkomst"]
[null,null,null,null,null,null,null,null,null,null,null,624000,45000,54450,"buiten overeenkomst"]
[null,null,null,null,null,null,null,null,null,null,null,624500,45000,54450,"buiten overeenkomst"]
[null,null,null,null,null,null,null,null,null,null,null,625000,45000,54450,"buiten overeenkomst"]
[null,null,null,null,null,null,null,null,null,null,null,625400,45100,54571,"buiten overeenkomst"]
[null,null,null,null,null,null,null,null,null,null,null,625500,45100,54571,"buiten overeenkomst"]
[null,null,null,null,null,null,null,null,null,null,null,626000,45100,54571,"buiten overeenkomst"]
[null,null,null,null,null,null,null,null,null,null,null,626500,45100,54571,"buiten overeenkomst"]
[null,null,null,null,null,null,null,null,null,null,null,626700,45100,54571,"buiten overeenkomst"]
[null,null,null,null,null,null,null,null,null,null,null,627000,45100,54571,"buiten overeenkomst"]
[null,null,null,null,null,null,null,null,null,null,null,627500,45100,54571,"buiten overeenkomst"]
[null,null,null,null,null,null,null,null,null,null,null,628000,45100,54571,"buiten overeenkomst"]
[null,null,null,null,null,null,null,null,null,null,null,628400,45100,54571,"buiten overeenkomst"]
[null,null,null,null,null,null,null,null,null,null,null,628500,45100,54571,"buiten overeenkomst"]
[null,null,null,null,null,null,null,null,null,null,null,629000,45100,54571,"buiten overeenkomst"]
[null,null,null,null,null,null,null,null,null,null,null,629500,45100,54571,"buiten overeenkomst"]
[null,null,null,null,null,null,null,null,null,null,null,629700,45100,54571,"buiten overeenkomst"]
[null,null,null,null,null,null,null,null,null,null,null,630000,45100,54571,"buiten overeenkomst"]
[null,null,null,null,null,null,null,null,null,null,null,630500,45200,54692,"buiten overeenkomst"]
[null,null,null,null,null,null,null,null,null,null,null,631000,45200,54692,"buiten overeenkomst"]
[null,null,null,null,null,null,null,null,null,null,null,631400,45200,54692,"buiten overeenkomst"]
[null,null,null,null,null,null,null,null,null,null,null,631500,45200,54692,"buiten overeenkomst"]
[null,null,null,null,null,null,null,null,null,null,null,632000,45200,54692,"buiten overeenkomst"]
[null,null,null,null,null,null,null,null,null,null,null,632500,45200,54692,"buiten overeenkomst"]
[null,null,null,null,null,null,null,null,null,null,null,632700,45200,54692,"buiten overeenkomst"]
[null,null,null,null,null,null,null,null,null,null,null,633000,45200,54692,"buiten overeenkomst"]
[null,null,null,null,null,null,null,null,null,null,null,633500,45200,54692,"buiten overeenkomst"]
[null,null,null,null,null,null,null,null,null,null,null,634000,45200,54692,"buiten overeenkomst"]
[null,null,null,null,null,null,null,null,null,null,null,634400,45200,54692,"buiten overeenkomst"]
[null,null,null,null,null,null,null,null,null,null,null,634500,45200,54692,"buiten overeenkomst"]
[null,null,null,null,null,null,null,null,null,null,null,635000,45200,54692,"buiten overeenkomst"]
[null,null,null,null,null,null,null,null,null,null,null,635500,45300,54813,"buiten overeenkomst"]
[null,null,null,null,null,null,null,null,null,null,null,635700,45300,54813,"buiten overeenkomst"]
[null,null,null,null,null,null,null,null,null,null,null,636000,45300,54813,"buiten overeenkomst"]
[null,null,null,null,null,null,null,null,null,null,null,636500,45300,54813,"buiten overeenkomst"]
[null,null,null,null,null,null,null,null,null,null,null,637000,45300,54813,"buiten overeenkomst"]
[null,null,null,null,null,null,null,null,null,null,null,637500,45300,54813,"buiten overeenkomst"]
[null,null,null,null,null,null,null,null,null,null,null,637800,45300,54813,"buiten overeenkomst"]
[null,null,null,null,null,null,null,null,null,null,null,638000,45300,54813,"buiten overeenkomst"]
[null,null,null,null,null,null,null,null,null,null,null,638500,45300,54813,"buiten overeenkomst"]
[null,null,null,null,null,null,null,null,null,null,null,639000,45300,54813,"buiten overeenkomst"]
[null,null,null,null,null,null,null,null,null,null,null,639200,45300,54813,"buiten overeenkomst"]
[null,null,null,null,null,null,null,null,null,null,null,639500,45300,54813,"buiten overeenkomst"]
[null,null,null,null,null,null,null,null,null,null,null,640000,45300,54813,"buiten overeenkomst"]
[null,null,null,null,null,null,null,null,null,null,null,640500,45400,54934,"buiten overeenkomst"]
[null,null,null,null,null,null,null,null,null,null,null,640800,45400,54934,"buiten overeenkomst"]
[null,null,null,null,null,null,null,null,null,null,null,641000,45400,54934,"buiten overeenkomst"]
[null,null,null,null,null,null,null,null,null,null,null,641500,45400,54934,"buiten overeenkomst"]
[null,null,null,null,null,null,null,null,null,null,null,642000,45400,54934,"buiten overeenkomst"]
[null,null,null,null,null,null,null,null,null,null,null,642200,45400,54934,"buiten overeenkomst"]
[null,null,null,null,null,null,null,null,null,null,null,642500,45400,54934,"buiten overeenkomst"]
[null,null,null,null,null,null,null,null,null,null,null,643000,45400,54934,"buiten overeenkomst"]
[null,null,null,null,null,null,null,null,null,null,null,643500,45400,54934,"buiten overeenkomst"]
[null,null,null,null,null,null,null,null,null,null,null,643800,45400,54934,"buiten overeenkomst"]
[null,null,null,null,null,null,null,null,null,null,null,644000,45400,54934,"buiten overeenkomst"]
[null,null,null,null,null,null,null,null,null,null,null,644500,45400,54934,"buiten overeenkomst"]
[null,null,null,null,null,null,null,null,null,null,null,645000,45400,54934,"buiten overeenkomst"]
[null,null,null,null,null,null,null,null,null,null,null,645200,45500,55055,"buiten overeenkomst"]
[null,null,null,null,null,null,null,null,null,null,null,645500,45500,55055,"buiten overeenkomst"]
[null,null,null,null,null,null,null,null,null,null,null,646000,45500,55055,"buiten overeenkomst"]
[null,null,null,null,null,null,null,null,null,null,null,646500,45500,55055,"buiten overeenkomst"]
[null,null,null,null,null,null,null,null,null,null,null,646800,45500,55055,"buiten overeenkomst"]
[null,null,null,null,null,null,null,null,null,null,null,647000,45500,55055,"buiten overeenkomst"]
[null,null,null,null,null,null,null,null,null,null,null,647500,45500,55055,"buiten overeenkomst"]
[null,null,null,null,null,null,null,null,null,null,null,648000,45500,55055,"buiten overeenkomst"]
[null,null,null,null,null,null,null,null,null,null,null,648200,45500,55055,"buiten overeenkomst"]
[null,null,null,null,null,null,null,null,null,null,null,648500,45500,55055,"buiten overeenkomst"]
[null,null,null,null,null,null,null,null,null,null,null,649000,45500,55055,"buiten overeenkomst"]
[null,null,null,null,null,null,null,null,null,null,null,649500,45500,55055,"buiten overeenkomst"]
[null,null,null,null,null,null,null,null,null,null,null,649800,45500,55055,"buiten overeenkomst"]
[null,null,null,null,null,null,null,null,null,null,null,650000,45500,55055,"buiten overeenkomst"]
[null,null,null,null,null,null,null,null,null,null,null,650500,45600,55176,"buiten overeenkomst"]
[null,null,null,null,null,null,null,null,null,null,null,651000,45600,55176,"buiten overeenkomst"]
[null,null,null,null,null,null,null,null,null,null,null,651200,45600,55176,"buiten overeenkomst"]
[null,null,null,null,null,null,null,null,null,null,null,651500,45600,55176,"buiten overeenkomst"]
[null,null,null,null,null,null,null,null,null,null,null,652000,45600,55176,"buiten overeenkomst"]
[null,null,null,null,null,null,null,null,null,null,null,652500,45600,55176,"buiten overeenkomst"]
[null,null,null,null,null,null,null,null,null,null,null,652600,45600,55176,"buiten overeenkomst"]
[null,null,null,null,null,null,null,null,null,null,null,653000,45600,55176,"buiten overeenkomst"]
[null,null,null,null,null,null,null,null,null,null,null,653500,45600,55176,"buiten overeenkomst"]
[null,null,null,null,null,null,null,null,null,null,null,654000,45600,55176,"buiten overeenkomst"]
[null,null,null,null,null,null,null,null,null,null,null,654200,45600,55176,"buiten overeenkomst"]
[null,null,null,null,null,null,null,null,null,null,null,654500,45600,55176,"buiten overeenkomst"]
[null,null,null,null,null,null,null,null,null,null,null,655000,45600,55176,"buiten overeenkomst"]
[null,null,null,null,null,null,null,null,null,null,null,655500,45700,55297,"buiten overeenkomst"]
[null,null,null,null,null,null,null,null,null,null,null,655600,45700,55297,"buiten overeenkomst"]
[null,null,null,null,null,null,null,null,null,null,null,656000,45700,55297,"buiten overeenkomst"]
[null,null,null,null,null,null,null,null,null,null,null,656500,45700,55297,"buiten overeenkomst"]
[null,null,null,null,null,null,null,null,null,null,null,657000,45700,55297,"buiten overeenkomst"]
[null,null,null,null,null,null,null,null,null,null,null,657200,45700,55297,"buiten overeenkomst"]
[null,null,null,null,null,null,null,null,null,null,null,657500,45700,55297,"buiten overeenkomst"]
[null,null,null,null,null,null,null,null,null,null,null,658000,45700,55297,"buiten overeenkomst"]
[null,null,null,null,null,null,null,null,null,null,null,658500,45700,55297,"buiten overeenkomst"]
[null,null,null,null,null,null,null,null,null,null,null,658600,45700,55297,"buiten overeenkomst"]
[null,null,null,null,null,null,null,null,null,null,null,659000,45700,55297,"buiten overeenkomst"]
[null,null,null,null,null,null,null,null,null,null,null,659500,45700,55297,"buiten overeenkomst"]
[null,null,null,null,null,null,null,null,null,null,null,660000,45700,55297,"buiten overeenkomst"]
[null,null,null,null,null,null,null,null,null,null,null,660200,45800,55418,"buiten overeenkomst"]
[null,null,null,null,null,null,null,null,null,null,null,660500,45800,55418,"buiten overeenkomst"]
[null,null,null,null,null,null,null,null,null,null,null,661000,45800,55418,"buiten overeenkomst"]
[null,null,null,null,null,null,null,null,null,null,null,661500,45800,55418,"buiten overeenkomst"]
[null,null,null,null,null,null,null,null,null,null,null,661600,45800,55418,"buiten overeenkomst"]
[null,null,null,null,null,null,null,null,null,null,null,662000,45800,55418,"buiten overeenkomst"]
[null,null,null,null,null,null,null,null,null,null,null,662500,45800,55418,"buiten overeenkomst"]
[null,null,null,null,null,null,null,null,null,null,null,663000,45800,55418,"buiten overeenkomst"]
[null,null,null,null,null,null,null,null,null,null,null,663200,45800,55418,"buiten overeenkomst"]
[null,null,null,null,null,null,null,null,null,null,null,663500,45800,55418,"buiten overeenkomst"]
[null,null,null,null,null,null,null,null,null,null,null,664000,45800,55418,"buiten overeenkomst"]
[null,null,null,null,null,null,null,null,null,null,null,664500,45800,55418,"buiten overeenkomst"]
[null,null,null,null,null,null,null,null,null,null,null,664600,45800,55418,"buiten overeenkomst"]
[null,null,null,null,null,null,null,null,null,null,null,665000,45800,55418,"buiten overeenkomst"]
[null,null,null,null,null,null,null,null,null,null,null,665500,45900,55539,"buiten overeenkomst"]
[null,null,null,null,null,null,null,null,null,null,null,666000,45900,55539,"buiten overeenkomst"]
[null,null,null,null,null,null,null,null,null,null,null,666200,45900,55539,"buiten overeenkomst"]
[null,null,null,null,null,null,null,null,null,null,null,666500,45900,55539,"buiten overeenkomst"]
[null,null,null,null,null,null,null,null,null,null,null,667000,45900,55539,"buiten overeenkomst"]
[null,null,null,null,null,null,null,null,null,null,null,667500,45900,55539,"buiten overeenkomst"]
[null,null,null,null,null,null,null,null,null,null,null,667600,45900,55539,"buiten overeenkomst"]
[null,null,null,null,null,null,null,null,null,null,null,668000,45900,55539,"buiten overeenkomst"]
[null,null,null,null,null,null,null,null,null,null,null,668500,45900,55539,"buiten overeenkomst"]
[null,null,null,null,null,null,null,null,null,null,null,669000,45900,55539,"buiten overeenkomst"]
[null,null,null,null,null,null,null,null,null,null,null,669200,45900,55539,"buiten overeenkomst"]
[null,null,null,null,null,null,null,null,null,null,null,669500,45900,55539,"buiten overeenkomst"]
[null,null,null,null,null,null,null,null,null,null,null,670000,45900,55539,"buiten overeenkomst"]
[null,null,null,null,null,null,null,null,null,null,null,670500,46000,55660,"buiten overeenkomst"]
[null,null,null,null,null,null,null,null,null,null,null,670600,46000,55660,"buiten overeenkomst"]
[null,null,null,null,null,null,null,null,null,null,null,671000,46000,55660,"buiten overeenkomst"]
[null,null,null,null,null,null,null,null,null,null,null,671500,46000,55660,"buiten overeenkomst"]
[null,null,null,null,null,null,null,null,null,null,null,672000,46000,55660,"buiten overeenkomst"]
[null,null,null,null,null,null,null,null,null,null,null,672200,46000,55660,"buiten overeenkomst"]
[null,null,null,null,null,null,null,null,null,null,null,672500,46000,55660,"buiten overeenkomst"]
[null,null,null,null,null,null,null,null,null,null,null,673000,46000,55660,"buiten overeenkomst"]
[null,null,null,null,null,null,null,null,null,null,null,673500,46000,55660,"buiten overeenkomst"]
[null,null,null,null,null,null,null,null,null,null,null,673600,46000,55660,"buiten overeenkomst"]
[null,null,null,null,null,null,null,null,null,null,null,674000,46000,55660,"buiten overeenkomst"]
[null,null,null,null,null,null,null,null,null,null,null,674500,46000,55660,"buiten overeenkomst"]
[null,null,null,null,null,null,null,null,null,null,null,675000,46000,55660,"buiten overeenkomst"]
[null,null,null,null,null,null,null,null,null,null,null,675200,46100,55781,"buiten overeenkomst"]
[null,null,null,null,null,null,null,null,null,null,null,675500,46100,55781,"buiten overeenkomst"]
[null,null,null,null,null,null,null,null,null,null,null,676000,46100,55781,"buiten overeenkomst"]
[null,null,null,null,null,null,null,null,null,null,null,676500,46100,55781,"buiten overeenkomst"]
[null,null,null,null,null,null,null,null,null,null,null,676600,46100,55781,"buiten overeenkomst"]
[null,null,null,null,null,null,null,null,null,null,null,677000,46100,55781,"buiten overeenkomst"]
[null,null,null,null,null,null,null,null,null,null,null,677500,46100,55781,"buiten overeenkomst"]
[null,null,null,null,null,null,null,null,null,null,null,678000,46100,55781,"buiten overeenkomst"]
[null,null,null,null,null,null,null,null,null,null,null,678300,46100,55781,"buiten overeenkomst"]
[null,null,null,null,null,null,null,null,null,null,null,678500,46100,55781,"buiten overeenkomst"]
[null,null,null,null,null,null,null,null,null,null,null,679000,46100,55781,"buiten overeenkomst"]
[null,null,null,null,null,null,null,null,null,null,null,679500,46100,55781,"buiten overeenkomst"]
[null,null,null,null,null,null,null,null,null,null,null,679600,46100,55781,"buiten overeenkomst"]
[null,null,null,null,null,null,null,null,null,null,null,680000,46100,55781,"buiten overeenkomst"]
[null,null,null,null,null,null,null,null,null,null,null,680500,46200,55902,"buiten overeenkomst"]
[null,null,null,null,null,null,null,null,null,null,null,681000,46200,55902,"buiten overeenkomst"]
[null,null,null,null,null,null,null,null,null,null,null,681300,46200,55902,"buiten overeenkomst"]
[null,null,null,null,null,null,null,null,null,null,null,681500,46200,55902,"buiten overeenkomst"]
[null,null,null,null,null,null,null,null,null,null,null,682000,46200,55902,"buiten overeenkomst"]
[null,null,null,null,null,null,null,null,null,null,null,682500,46200,55902,"buiten overeenkomst"]
[null,null,null,null,null,null,null,null,null,null,null,682600,46200,55902,"buiten overeenkomst"]
[null,null,null,null,null,null,null,null,null,null,null,683000,46200,55902,"buiten overeenkomst"]
[null,null,null,null,null,null,null,null,null,null,null,683500,46200,55902,"buiten overeenkomst"]
[null,null,null,null,null,null,null,null,null,null,null,684000,46200,55902,"buiten overeenkomst"]
[null,null,null,null,null,null,null,null,null,null,null,684300,46200,55902,"buiten overeenkomst"]
[null,null,null,null,null,null,null,null,null,null,null,684500,46200,55902,"buiten overeenkomst"]
[null,null,null,null,null,null,null,null,null,null,null,685000,46200,55902,"buiten overeenkomst"]
[null,null,null,null,null,null,null,null,null,null,null,685500,46300,56023,"buiten overeenkomst"]
[null,null,null,null,null,null,null,null,null,null,null,685600,46300,56023,"buiten overeenkomst"]
[null,null,null,null,null,null,null,null,null,null,null,686000,46300,56023,"buiten overeenkomst"]
[null,null,null,null,null,null,null,null,null,null,null,686500,46300,56023,"buiten overeenkomst"]
[null,null,null,null,null,null,null,null,null,null,null,687000,46300,56023,"buiten overeenkomst"]
[null,null,null,null,null,null,null,null,null,null,null,687300,46300,56023,"buiten overeenkomst"]
[null,null,null,null,null,null,null,null,null,null,null,687500,46300,56023,"buiten overeenkomst"]
[null,null,null,null,null,null,null,null,null,null,null,688000,46300,56023,"buiten overeenkomst"]
[null,null,null,null,null,null,null,null,null,null,null,688500,46300,56023,"buiten overeenkomst"]
[null,null,null,null,null,null,null,null,null,null,null,688600,46300,56023,"buiten overeenkomst"]
[null,null,null,null,null,null,null,null,null,null,null,689000,46300,56023,"buiten overeenkomst"]
[null,null,null,null,null,null,null,null,null,null,null,689500,46300,56023,"buiten overeenkomst"]
[null,null,null,null,null,null,null,null,null,null,null,690000,46300,56023,"buiten overeenkomst"]
[null,null,null,null,null,null,null,null,null,null,null,690300,46400,56144,"buiten overeenkomst"]
[null,null,null,null,null,null,null,null,null,null,null,690500,46400,56144,"buiten overeenkomst"]
[null,null,null,null,null,null,null,null,null,null,null,691000,46400,56144,"buiten overeenkomst"]
[null,null,null,null,null,null,null,null,null,null,null,691500,46400,56144,"buiten overeenkomst"]
[null,null,null,null,null,null,null,null,null,null,null,691600,46400,56144,"buiten overeenkomst"]
[null,null,null,null,null,null,null,null,null,null,null,692000,46400,56144,"buiten overeenkomst"]
[null,null,null,null,null,null,null,null,null,null,null,692500,46400,56144,"buiten overeenkomst"]
[null,null,null,null,null,null,null,null,null,null,null,693000,46400,56144,"buiten overeenkomst"]
[null,null,null,null,null,null,null,null,null,null,null,693300,46400,56144,"buiten overeenkomst"]
[null,null,null,null,null,null,null,null,null,null,null,693500,46400,56144,"buiten overeenkomst"]
[null,null,null,null,null,null,null,null,null,null,null,694000,46400,56144,"buiten overeenkomst"]
[null,null,null,null,null,null,null,null,null,null,null,694500,46400,56144,"buiten overeenkomst"]
[null,null,null,null,null,null,null,null,null,null,null,694600,46400,56144,"buiten overeenkomst"]
[null,null,null,null,null,null,null,null,null,null,null,695000,46400,56144,"buiten overeenkomst"]
[null,null,null,null,null,null,null,null,null,null,null,695500,46500,56265,"buiten overeenkomst"]
[null,null,null,null,null,null,null,null,null,null,null,696000,46500,56265,"buiten overeenkomst"]
[null,null,null,null,null,null,null,null,null,null,null,696300,46500,56265,"buiten overeenkomst"]
[null,null,null,null,null,null,null,null,null,null,null,696500,46500,56265,"buiten overeenkomst"]
[null,null,null,null,null,null,null,null,null,null,null,697000,46500,56265,"buiten overeenkomst"]
[null,null,null,null,null,null,null,null,null,null,null,697500,46500,56265,"buiten overeenkomst"]
[null,null,null,null,null,null,null,null,null,null,null,697600,46500,56265,"buiten overeenkomst"]
[null,null,null,null,null,null,null,null,null,null,null,698000,46500,56265,"buiten overeenkomst"]
[null,null,null,null,null,null,null,null,null,null,null,698500,46500,56265,"buiten overeenkomst"]
[null,null,null,null,null,null,null,null,null,null,null,699000,46500,56265,"buiten overeenkomst"]
[null,null,null,null,null,null,null,null,null,null,null,699300,46500,56265,"buiten overeenkomst"]
[null,null,null,null,null,null,null,null,null,null,null,699500,46500,56265,"buiten overeenkomst"]
[null,null,null,null,null,null,null,null,null,null,null,700000,46500,56265,"buiten overeenkomst"]
[null,null,null,null,null,null,null,null,null,null,null,700500,46600,56386,"buiten overeenkomst"]
[null,null,null,null,null,null,null,null,null,null,null,700600,46600,56386,"buiten overeenkomst"]
[null,null,null,null,null,null,null,null,null,null,null,701100,46600,56386,"buiten overeenkomst"]
[null,null,null,null,null,null,null,null,null,null,null,701500,46600,56386,"buiten overeenkomst"]
[null,null,null,null,null,null,null,null,null,null,null,702000,46600,56386,"buiten overeenkomst"]
[null,null,null,null,null,null,null,null,null,null,null,702100,46600,56386,"buiten overeenkomst"]
[null,null,null,null,null,null,null,null,null,null,null,702700,46600,56386,"buiten overeenkomst"]
[null,null,null,null,null,null,null,null,null,null,null,703000,46600,56386,"buiten overeenkomst"]
[null,null,null,null,null,null,null,null,null,null,null,703500,46600,56386,"buiten overeenkomst"]
[null,null,null,null,null,null,null,null,null,null,null,703600,46600,56386,"buiten overeenkomst"]
[null,null,null,null,null,null,null,null,null,null,null,704100,46600,56386,"buiten overeenkomst"]
[null,null,null,null,null,null,null,null,null,null,null,704500,46600,56386,"buiten overeenkomst"]
[null,null,null,null,null,null,null,null,null,null,null,705000,46600,56386,"buiten overeenkomst"]
[null,null,null,null,null,null,null,null,null,null,null,705100,46700,56507,"buiten overeenkomst"]
[null,null,null,null,null,null,null,null,null,null,null,705700,46700,56507,"buiten overeenkomst"]
[null,null,null,null,null,null,null,null,null,null,null,706000,46700,56507,"buiten overeenkomst"]
[null,null,null,null,null,null,null,null,null,null,null,706500,46700,56507,"buiten overeenkomst"]
[null,null,null,null,null,null,null,null,null,null,null,706600,46700,56507,"buiten overeenkomst"]
[null,null,null,null,null,null,null,null,null,null,null,707100,46700,56507,"buiten overeenkomst"]
[null,null,null,null,null,null,null,null,null,null,null,707500,46700,56507,"buiten overeenkomst"]
[null,null,null,null,null,null,null,null,null,null,null,708000,46700,56507,"buiten overeenkomst"]
[null,null,null,null,null,null,null,null,null,null,null,708100,46700,56507,"buiten overeenkomst"]
[null,null,null,null,null,null,null,null,null,null,null,708700,46700,56507,"buiten overeenkomst"]
[null,null,null,null,null,null,null,null,null,null,null,709000,46700,56507,"buiten overeenkomst"]
[null,null,null,null,null,null,null,null,null,null,null,709500,46700,56507,"buiten overeenkomst"]
[null,null,null,null,null,null,null,null,null,null,null,709600,46700,56507,"buiten overeenkomst"]
[null,null,null,null,null,null,null,null,null,null,null,710100,46800,56628,"buiten overeenkomst"]
[null,null,null,null,null,null,null,null,null,null,null,710500,46800,56628,"buiten overeenkomst"]
[null,null,null,null,null,null,null,null,null,null,null,711000,46800,56628,"buiten overeenkomst"]
[null,null,null,null,null,null,null,null,null,null,null,711100,46800,56628,"buiten overeenkomst"]
[null,null,null,null,null,null,null,null,null,null,null,711500,46800,56628,"buiten overeenkomst"]
[null,null,null,null,null,null,null,null,null,null,null,712000,46800,56628,"buiten overeenkomst"]
[null,null,null,null,null,null,null,null,null,null,null,712500,46800,56628,"buiten overeenkomst"]
[null,null,null,null,null,null,null,null,null,null,null,712600,46800,56628,"buiten overeenkomst"]
[null,null,null,null,null,null,null,null,null,null,null,713100,46800,56628,"buiten overeenkomst"]
[null,null,null,null,null,null,null,null,null,null,null,713500,46800,56628,"buiten overeenkomst"]
[null,null,null,null,null,null,null,null,null,null,null,714000,46800,56628,"buiten overeenkomst"]
[null,null,null,null,null,null,null,null,null,null,null,714100,46800,56628,"buiten overeenkomst"]
[null,null,null,null,null,null,null,null,null,null,null,714500,46800,56628,"buiten overeenkomst"]
[null,null,null,null,null,null,null,null,null,null,null,715000,46800,56628,"buiten overeenkomst"]
[null,null,null,null,null,null,null,null,null,null,null,715500,46900,56749,"buiten overeenkomst"]
[null,null,null,null,null,null,null,null,null,null,null,715600,46900,56749,"buiten overeenkomst"]
[null,null,null,null,null,null,null,null,null,null,null,716100,46900,56749,"buiten overeenkomst"]
[null,null,null,null,null,null,null,null,null,null,null,716500,46900,56749,"buiten overeenkomst"]
[null,null,null,null,null,null,null,null,null,null,null,717000,46900,56749,"buiten overeenkomst"]
[null,null,null,null,null,null,null,null,null,null,null,717100,46900,56749,"buiten overeenkomst"]
[null,null,null,null,null,null,null,null,null,null,null,717500,46900,56749,"buiten overeenkomst"]
[null,null,null,null,null,null,null,null,null,null,null,718000,46900,56749,"buiten overeenkomst"]
[null,null,null,null,null,null,null,null,null,null,null,718500,46900,56749,"buiten overeenkomst"]
[null,null,null,null,null,null,null,null,null,null,null,718600,46900,56749,"buiten overeenkomst"]
[null,null,null,null,null,null,null,null,null,null,null,719100,46900,56749,"buiten overeenkomst"]
[null,null,null,null,null,null,null,null,null,null,null,719500,46900,56749,"buiten overeenkomst"]
[null,null,null,null,null,null,null,null,null,null,null,720000,46900,56749,"buiten overeenkomst"]
[null,null,null,null,null,null,null,null,null,null,null,720100,47000,56870,"buiten overeenkomst"]
[null,null,null,null,null,null,null,null,null,null,null,720500,47000,56870,"buiten overeenkomst"]
[null,null,null,null,null,null,null,null,null,null,null,721000,47000,56870,"buiten overeenkomst"]
[null,null,null,null,null,null,null,null,null,null,null,721500,47000,56870,"buiten overeenkomst"]
[null,null,null,null,null,null,null,null,null,null,null,721600,47000,56870,"buiten overeenkomst"]
[null,null,null,null,null,null,null,null,null,null,null,722100,47000,56870,"buiten overeenkomst"]
[null,null,null,null,null,null,null,null,null,null,null,722500,47000,56870,"buiten overeenkomst"]
[null,null,null,null,null,null,null,null,null,null,null,723000,47000,56870,"buiten overeenkomst"]
[null,null,null,null,null,null,null,null,null,null,null,723100,47000,56870,"buiten overeenkomst"]
[null,null,null,null,null,null,null,null,null,null,null,723500,47000,56870,"buiten overeenkomst"]
[null,null,null,null,null,null,null,null,null,null,null,724000,47000,56870,"buiten overeenkomst"]
[null,null,null,null,null,null,null,null,null,null,null,724500,47000,56870,"buiten overeenkomst"]
[null,null,null,null,null,null,null,null,null,null,null,724600,47000,56870,"buiten overeenkomst"]
[null,null,null,null,null,null,null,null,null,null,null,725100,47100,56991,"buiten overeenkomst"]
[null,null,null,null,null,null,null,null,null,null,null,725500,47100,56991,"buiten overeenkomst"]
[null,null,null,null,null,null,null,null,null,null,null,726000,47100,56991,"buiten overeenkomst"]
[null,null,null,null,null,null,null,null,null,null,null,726100,47100,56991,"buiten overeenkomst"]
[null,null,null,null,null,null,null,null,null,null,null,726500,47100,56991,"buiten overeenkomst"]
[null,null,null,null,null,null,null,null,null,null,null,727000,47100,56991,"buiten overeenkomst"]
[null,null,null,null,null,null,null,null,null,null,null,727500,47100,56991,"buiten overeenkomst"]
[null,null,null,null,null,null,null,null,null,null,null,727600,47100,56991,"buiten overeenkomst"]
[null,null,null,null,null,null,null,null,null,null,null,728100,47100,56991,"buiten overeenkomst"]
[null,null,null,null,null,null,null,null,null,null,null,728500,47100,56991,"buiten overeenkomst"]
[null,null,null,null,null,null,null,null,null,null,null,729000,47100,56991,"buiten overeenkomst"]
[null,null,null,null,null,null,null,null,null,null,null,729100,47100,56991,"buiten overeenkomst"]
[null,null,null,null,null,null,null,null,null,null,null,729500,47100,56991,"buiten overeenkomst"]
[null,null,null,null,null,null,null,null,null,null,null,730000,47100,56991,"buiten overeenkomst"]
[null,null,null,null,null,null,null,null,null,null,null,730500,47200,57112,"buiten overeenkomst"]
[null,null,null,null,null,null,null,null,null,null,null,730600,47200,57112,"buiten overeenkomst"]
[null,null,null,null,null,null,null,null,null,null,null,731100,47200,57112,"buiten overeenkomst"]
[null,null,null,null,null,null,null,null,null,null,null,731500,47200,57112,"buiten overeenkomst"]
[null,null,null,null,null,null,null,null,null,null,null,732000,47200,57112,"buiten overeenkomst"]
[null,null,null,null,null,null,null,null,null,null,null,732100,47200,57112,"buiten overeenkomst"]
[null,null,null,null,null,null,null,null,null,null,null,732500,47200,57112,"buiten overeenkomst"]
[null,null,null,null,null,null,null,null,null,null,null,733000,47200,57112,"buiten overeenkomst"]
[null,null,null,null,null,null,null,null,null,null,null,733500,47200,57112,"buiten overeenkomst"]
[null,null,null,null,null,null,null,null,null,null,null,733600,47200,57112,"buiten overeenkomst"]
[null,null,null,null,null,null,null,null,null,null,null,734100,47200,57112,"buiten overeenkomst"]
[null,null,null,null,null,null,null,null,null,null,null,734500,47200,57112,"buiten overeenkomst"]
[null,null,null,null,null,null,null,null,null,null,null,735000,47200,57112,"buiten overeenkomst"]
[null,null,null,null,null,null,null,null,null,null,null,735100,47300,57233,"buiten overeenkomst"]
[null,null,null,null,null,null,null,null,null,null,null,735500,47300,57233,"buiten overeenkomst"]
[null,null,null,null,null,null,null,null,null,null,null,736000,47300,57233,"buiten overeenkomst"]
[null,null,null,null,null,null,null,null,null,null,null,736500,47300,57233,"buiten overeenkomst"]
[null,null,null,null,null,null,null,null,null,null,null,736600,47300,57233,"buiten overeenkomst"]
[null,null,null,null,null,null,null,null,null,null,null,737100,47300,57233,"buiten overeenkomst"]
[null,null,null,null,null,null,null,null,null,null,null,737500,47300,57233,"buiten overeenkomst"]
[null,null,null,null,null,null,null,null,null,null,null,738000,47300,57233,"buiten overeenkomst"]
[null,null,null,null,null,null,null,null,null,null,null,738100,47300,57233,"buiten overeenkomst"]
[null,null,null,null,null,null,null,null,null,null,null,738500,47300,57233,"buiten overeenkomst"]
[null,null,null,null,null,null,null,null,null,null,null,739000,47300,57233,"buiten overeenkomst"]
[null,null,null,null,null,null,null,null,null,null,null,739500,47300,57233,"buiten overeenkomst"]
[null,null,null,null,null,null,null,null,null,null,null,739600,47300,57233,"buiten overeenkomst"]
[null,null,null,null,null,null,null,null,null,null,null,740200,47400,57354,"buiten overeenkomst"]
[null,null,null,null,null,null,null,null,null,null,null,740500,47400,57354,"buiten overeenkomst"]
[null,null,null,null,null,null,null,null,null,null,null,741000,47400,57354,"buiten overeenkomst"]
[null,null,null,null,null,null,null,null,null,null,null,741100,47400,57354,"buiten overeenkomst"]
[null,null,null,null,null,null,null,null,null,null,null,741500,47400,57354,"buiten overeenkomst"]
[null,null,null,null,null,null,null,null,null,null,null,742000,47400,57354,"buiten overeenkomst"]
[null,null,null,null,null,null,null,null,null,null,null,742500,47400,57354,"buiten overeenkomst"]
[null,null,null,null,null,null,null,null,null,null,null,742600,47400,57354,"buiten overeenkomst"]
[null,null,null,null,null,null,null,null,null,null,null,743200,47400,57354,"buiten overeenkomst"]
[null,null,null,null,null,null,null,null,null,null,null,743500,47400,57354,"buiten overeenkomst"]
[null,null,null,null,null,null,null,null,null,null,null,744000,47400,57354,"buiten overeenkomst"]
[null,null,null,null,null,null,null,null,null,null,null,744100,47400,57354,"buiten overeenkomst"]
[null,null,null,null,null,null,null,null,null,null,null,744500,47400,57354,"buiten overeenkomst"]
[null,null,null,null,null,null,null,null,null,null,null,745000,47400,57354,"buiten overeenkomst"]
[null,null,null,null,null,null,null,null,null,null,null,745500,47500,57475,"buiten overeenkomst"]
[null,null,null,null,null,null,null,null,null,null,null,745600,47500,57475,"buiten overeenkomst"]
[null,null,null,null,null,null,null,null,null,null,null,746200,47500,57475,"buiten overeenkomst"]
[null,null,null,null,null,null,null,null,null,null,null,746500,47500,57475,"buiten overeenkomst"]
[null,null,null,null,null,null,null,null,null,null,null,747000,47500,57475,"buiten overeenkomst"]
[null,null,null,null,null,null,null,null,null,null,null,747100,47500,57475,"buiten overeenkomst"]
[null,null,null,null,null,null,null,null,null,null,null,747500,47500,57475,"buiten overeenkomst"]
[null,null,null,null,null,null,null,null,null,null,null,748000,47500,57475,"buiten overeenkomst"]
[null,null,null,null,null,null,null,null,null,null,null,748500,47500,57475,"buiten overeenkomst"]
[null,null,null,null,null,null,null,null,null,null,null,748600,47500,57475,"buiten overeenkomst"]
[null,null,null,null,null,null,null,null,null,null,null,749200,47500,57475,"buiten overeenkomst"]
[null,null,null,null,null,null,null,null,null,null,null,749500,47500,57475,"buiten overeenkomst"]
[null,null,null,null,null,null,null,null,null,null,null,750000,47500,57475,"buiten overeenkomst"]
[null,null,null,null,null,null,null,null,null,null,null,750100,47600,57596,"buiten overeenkomst"]
[null,null,null,null,null,null,null,null,null,null,null,750500,47600,57596,"buiten overeenkomst"]
[null,null,null,null,null,null,null,null,null,null,null,751000,47600,57596,"buiten overeenkomst"]
[null,null,null,null,null,null,null,null,null,null,null,751500,47600,57596,"buiten overeenkomst"]
[null,null,null,null,null,null,null,null,null,null,null,751600,47600,57596,"buiten overeenkomst"]
[null,null,null,null,null,null,null,null,null,null,null,752200,47600,57596,"buiten overeenkomst"]
[null,null,null,null,null,null,null,null,null,null,null,752500,47600,57596,"buiten overeenkomst"]
[null,null,null,null,null,null,null,null,null,null,null,753000,47600,57596,"buiten overeenkomst"]
[null,null,null,null,null,null,null,null,null,null,null,753100,47600,57596,"buiten overeenkomst"]
[null,null,null,null,null,null,null,null,null,null,null,753500,47600,57596,"buiten overeenkomst"]
[null,null,null,null,null,null,null,null,null,null,null,754000,47600,57596,"buiten overeenkomst"]
[null,null,null,null,null,null,null,null,null,null,null,754500,47600,57596,"buiten overeenkomst"]
[null,null,null,null,null,null,null,null,null,null,null,754600,47600,57596,"buiten overeenkomst"]
[null,null,null,null,null,null,null,null,null,null,null,755200,47600,57596,"buiten overeenkomst"]
[null,null,null,null,null,null,null,null,null,null,null,755500,47600,57596,"buiten overeenkomst"]
[null,null,null,null,null,null,null,null,null,null,null,756000,47600,57596,"buiten overeenkomst"]
[null,null,null,null,null,null,null,null,null,null,null,756100,47600,57596,"buiten overeenkomst"]
[null,null,null,null,null,null,null,null,null,null,null,756500,47600,57596,"buiten overeenkomst"]
[null,null,null,null,null,null,null,null,null,null,null,757000,47600,57596,"buiten overeenkomst"]
[null,null,null,null,null,null,null,null,null,null,null,757500,47600,57596,"buiten overeenkomst"]
[null,null,null,null,null,null,null,null,null,null,null,757600,47600,57596,"buiten overeenkomst"]
[null,null,null,null,null,null,null,null,null,null,null,758200,47600,57596,"buiten overeenkomst"]
[null,null,null,null,null,null,null,null,null,null,null,758500,47600,57596,"buiten overeenkomst"]
[null,null,null,null,null,null,null,null,null,null,null,759000,47600,57596,"buiten overeenkomst"]
[null,null,null,null,null,null,null,null,null,null,null,759100,47600,57596,"buiten overeenkomst"]
[null,null,null,null,null,null,null,null,null,null,null,759500,47600,57596,"buiten overeenkomst"]
[null,null,null,null,null,null,null,null,null,null,null,760000,47600,57596,"buiten overeenkomst"]
[null,null,null,null,null,null,null,null,null,null,null,760500,47700,57717,"buiten overeenkomst"]
[null,null,null,null,null,null,null,null,null,null,null,760600,47700,57717,"buiten overeenkomst"]
[null,null,null,null,null,null,null,null,null,null,null,761200,47700,57717,"buiten overeenkomst"]
[null,null,null,null,null,null,null,null,null,null,null,761500,47700,57717,"buiten overeenkomst"]
[null,null,null,null,null,null,null,null,null,null,null,762000,47700,57717,"buiten overeenkomst"]
[null,null,null,null,null,null,null,null,null,null,null,762100,47700,57717,"buiten overeenkomst"]
[null,null,null,null,null,null,null,null,null,null,null,762600,47700,57717,"buiten overeenkomst"]
[null,null,null,null,null,null,null,null,null,null,null,763000,47700,57717,"buiten overeenkomst"]
[null,null,null,null,null,null,null,null,null,null,null,763500,47700,57717,"buiten overeenkomst"]
[null,null,null,null,null,null,null,null,null,null,null,763600,47700,57717,"buiten overeenkomst"]
[null,null,null,null,null,null,null,null,null,null,null,764100,47700,57717,"buiten overeenkomst"]
[null,null,null,null,null,null,null,null,null,null,null,764600,47700,57717,"buiten overeenkomst"]
[null,null,null,null,null,null,null,null,null,null,null,765000,47700,57717,"buiten overeenkomst"]
[null,null,null,null,null,null,null,null,null,null,null,765100,47700,57717,"buiten overeenkomst"]
[null,null,null,null,null,null,null,null,null,null,null,765600,47700,57717,"buiten overeenkomst"]
[null,null,null,null,null,null,null,null,null,null,null,766000,47700,57717,"buiten overeenkomst"]
[null,null,null,null,null,null,null,null,null,null,null,766500,47700,57717,"buiten overeenkomst"]
[null,null,null,null,null,null,null,null,null,null,null,766600,47700,57717,"buiten overeenkomst"]
[null,null,null,null,null,null,null,null,null,null,null,767100,47700,57717,"buiten overeenkomst"]
[null,null,null,null,null,null,null,null,null,null,null,767600,47700,57717,"buiten overeenkomst"]
[null,null,null,null,null,null,null,null,null,null,null,768000,47700,57717,"buiten overeenkomst"]
[null,null,null,null,null,null,null,null,null,null,null,768100,47700,57717,"buiten overeenkomst"]
[null,null,null,null,null,null,null,null,null,null,null,768600,47700,57717,"buiten overeenkomst"]
[null,null,null,null,null,null,null,null,null,null,null,769000,47700,57717,"buiten overeenkomst"]
[null,null,null,null,null,null,null,null,null,null,null,769500,47700,57717,"buiten overeenkomst"]
[null,null,null,null,null,null,null,null,null,null,null,769600,47700,57717,"buiten overeenkomst"]
[null,null,null,null,null,null,null,null,null,null,null,770100,47800,57838,"buiten overeenkomst"]
[null,null,null,null,null,null,null,null,null,null,null,770600,47800,57838,"buiten overeenkomst"]
[null,null,null,null,null,null,null,null,null,null,null,771000,47800,57838,"buiten overeenkomst"]
[null,null,null,null,null,null,null,null,null,null,null,771100,47800,57838,"buiten overeenkomst"]
[null,null,null,null,null,null,null,null,null,null,null,771600,47800,57838,"buiten overeenkomst"]
[null,null,null,null,null,null,null,null,null,null,null,772000,47800,57838,"buiten overeenkomst"]
[null,null,null,null,null,null,null,null,null,null,null,772500,47800,57838,"buiten overeenkomst"]
[null,null,null,null,null,null,null,null,null,null,null,772600,47800,57838,"buiten overeenkomst"]
[null,null,null,null,null,null,null,null,null,null,null,773100,47800,57838,"buiten overeenkomst"]
[null,null,null,null,null,null,null,null,null,null,null,773400,47800,57838,"buiten overeenkomst"]
[null,null,null,null,null,null,null,null,null,null,null,774000,47800,57838,"buiten overeenkomst"]
[null,null,null,null,null,null,null,null,null,null,null,774100,47800,57838,"buiten overeenkomst"]
[null,null,null,null,null,null,null,null,null,null,null,774600,47800,57838,"buiten overeenkomst"]
[null,null,null,null,null,null,null,null,null,null,null,775000,47800,57838,"buiten overeenkomst"]
[null,null,null,null,null,null,null,null,null,null,null,775500,47800,57838,"buiten overeenkomst"]
[null,null,null,null,null,null,null,null,null,null,null,775600,47800,57838,"buiten overeenkomst"]
[null,null,null,null,null,null,null,null,null,null,null,776100,47800,57838,"buiten overeenkomst"]
[null,null,null,null,null,null,null,null,null,null,null,776400,47800,57838,"buiten overeenkomst"]
[null,null,null,null,null,null,null,null,null,null,null,777000,47800,57838,"buiten overeenkomst"]
[null,null,null,null,null,null,null,null,null,null,null,777100,47800,57838,"buiten overeenkomst"]
[null,null,null,null,null,null,null,null,null,null,null,777600,47800,57838,"buiten overeenkomst"]
[null,null,null,null,null,null,null,null,null,null,null,778000,47800,57838,"buiten overeenkomst"]
[null,null,null,null,null,null,null,null,null,null,null,778500,47800,57838,"buiten overeenkomst"]
[null,null,null,null,null,null,null,null,null,null,null,778600,47800,57838,"buiten overeenkomst"]
[null,null,null,null,null,null,null,null,null,null,null,779100,47800,57838,"buiten overeenkomst"]
[null,null,null,null,null,null,null,null,null,null,null,779400,47800,57838,"buiten overeenkomst"]
[null,null,null,null,null,null,null,null,null,null,null,780000,47800,57838,"buiten overeenkomst"]
[null,null,null,null,null,null,null,null,null,null,null,780100,47900,57959,"buiten overeenkomst"]
[null,null,null,null,null,null,null,null,null,null,null,780600,47900,57959,"buiten overeenkomst"]
[null,null,null,null,null,null,null,null,null,null,null,781000,47900,57959,"buiten overeenkomst"]
[null,null,null,null,null,null,null,null,null,null,null,781500,47900,57959,"buiten overeenkomst"]
[null,null,null,null,null,null,null,null,null,null,null,781600,47900,57959,"buiten overeenkomst"]
[null,null,null,null,null,null,null,null,null,null,null,782100,47900,57959,"buiten overeenkomst"]
[null,null,null,null,null,null,null,null,null,null,null,782400,47900,57959,"buiten overeenkomst"]
[null,null,null,null,null,null,null,null,null,null,null,783000,47900,57959,"buiten overeenkomst"]
[null,null,null,null,null,null,null,null,null,null,null,783100,47900,57959,"buiten overeenkomst"]
[null,null,null,null,null,null,null,null,null,null,null,783600,47900,57959,"buiten overeenkomst"]
[null,null,null,null,null,null,null,null,null,null,null,784000,47900,57959,"buiten overeenkomst"]
[null,null,null,null,null,null,null,null,null,null,null,784500,47900,57959,"buiten overeenkomst"]
[null,null,null,null,null,null,null,null,null,null,null,784600,47900,57959,"buiten overeenkomst"]
[null,null,null,null,null,null,null,null,null,null,null,785100,47900,57959,"buiten overeenkomst"]
[null,null,null,null,null,null,null,null,null,null,null,785400,47900,57959,"buiten overeenkomst"]
[null,null,null,null,null,null,null,null,null,null,null,786000,47900,57959,"buiten overeenkomst"]
[null,null,null,null,null,null,null,null,null,null,null,786100,47900,57959,"buiten overeenkomst"]
[null,null,null,null,null,null,null,null,null,null,null,786600,47900,57959,"buiten overeenkomst"]
[null,null,null,null,null,null,null,null,null,null,null,787000,47900,57959,"buiten overeenkomst"]
[null,null,null,null,null,null,null,null,null,null,null,787500,47900,57959,"buiten overeenkomst"]
[null,null,null,null,null,null,null,null,null,null,null,787600,47900,57959,"buiten overeenkomst"]
[null,null,null,null,null,null,null,null,null,null,null,788100,47900,57959,"buiten overeenkomst"]
[null,null,null,null,null,null,null,null,null,null,null,788400,47900,57959,"buiten overeenkomst"]
[null,null,null,null,null,null,null,null,null,null,null,789000,47900,57959,"buiten overeenkomst"]
[null,null,null,null,null,null,null,null,null,null,null,789100,47900,57959,"buiten overeenkomst"]
[null,null,null,null,null,null,null,null,null,null,null,789600,47900,57959,"buiten overeenkomst"]
[null,null,null,null,null,null,null,null,null,null,null,790000,47900,57959,"buiten overeenkomst"]
[null,null,null,null,null,null,null,null,null,null,null,790500,48000,58080,"buiten overeenkomst"]
[null,null,null,null,null,null,null,null,null,null,null,790600,48000,58080,"buiten overeenkomst"]
[null,null,null,null,null,null,null,null,null,null,null,791100,48000,58080,"buiten overeenkomst"]
[null,null,null,null,null,null,null,null,null,null,null,791400,48000,58080,"buiten overeenkomst"]
[null,null,null,null,null,null,null,null,null,null,null,792000,48000,58080,"buiten overeenkomst"]
[null,null,null,null,null,null,null,null,null,null,null,792100,48000,58080,"buiten overeenkomst"]
[null,null,null,null,null,null,null,null,null,null,null,792600,48000,58080,"buiten overeenkomst"]
[null,null,null,null,null,null,null,null,null,null,null,793000,48000,58080,"buiten overeenkomst"]
[null,null,null,null,null,null,null,null,null,null,null,793500,48000,58080,"buiten overeenkomst"]
[null,null,null,null,null,null,null,null,null,null,null,793600,48000,58080,"buiten overeenkomst"]
[null,null,null,null,null,null,null,null,null,null,null,794100,48000,58080,"buiten overeenkomst"]
[null,null,null,null,null,null,null,null,null,null,null,794400,48000,58080,"buiten overeenkomst"]
[null,null,null,null,null,null,null,null,null,null,null,795000,48000,58080,"buiten overeenkomst"]
[null,null,null,null,null,null,null,null,null,null,null,795100,48000,58080,"buiten overeenkomst"]
[null,null,null,null,null,null,null,null,null,null,null,795600,48000,58080,"buiten overeenkomst"]
[null,null,null,null,null,null,null,null,null,null,null,796000,48000,58080,"buiten overeenkomst"]
[null,null,null,null,null,null,null,null,null,null,null,796500,48000,58080,"buiten overeenkomst"]
[null,null,null,null,null,null,null,null,null,null,null,796600,48000,58080,"buiten overeenkomst"]
[null,null,null,null,null,null,null,null,null,null,null,797100,48000,58080,"buiten overeenkomst"]
[null,null,null,null,null,null,null,null,null,null,null,797400,48000,58080,"buiten overeenkomst"]
[null,null,null,null,null,null,null,null,null,null,null,798000,48000,58080,"buiten overeenkomst"]
[null,null,null,null,null,null,null,null,null,null,null,798100,48000,58080,"buiten overeenkomst"]
[null,null,null,null,null,null,null,null,null,null,null,798600,48000,58080,"buiten overeenkomst"]
[null,null,null,null,null,null,null,null,null,null,null,799000,48000,58080,"buiten overeenkomst"]
[null,null,null,null,null,null,null,null,null,null,null,799500,48000,58080,"buiten overeenkomst"]
[null,null,null,null,null,null,null,null,null,null,null,799600,48000,58080,"buiten overeenkomst"]
[null,null,null,null,null,null,null,null,null,null,null,800100,48100,58201,"buiten overeenkomst"]
[null,null,null,null,null,null,null,null,null,null,null,800400,48100,58201,"buiten overeenkomst"]
[null,null,null,null,null,null,null,null,null,null,null,801000,48100,58201,"buiten overeenkomst"]
[null,null,null,null,null,null,null,null,null,null,null,801100,48100,58201,"buiten overeenkomst"]
[null,null,null,null,null,null,null,null,null,null,null,801600,48100,58201,"buiten overeenkomst"]
[null,null,null,null,null,null,null,null,null,null,null,802100,48100,58201,"buiten overeenkomst"]
[null,null,null,null,null,null,null,null,null,null,null,802500,48100,58201,"buiten overeenkomst"]
[null,null,null,null,null,null,null,null,null,null,null,802600,48100,58201,"buiten overeenkomst"]
[null,null,null,null,null,null,null,null,null,null,null,803100,48100,58201,"buiten overeenkomst"]
[null,null,null,null,null,null,null,null,null,null,null,803400,48100,58201,"buiten overeenkomst"]
[null,null,null,null,null,null,null,null,null,null,null,804000,48100,58201,"buiten overeenkomst"]
[null,null,null,null,null,null,null,null,null,null,null,804100,48100,58201,"buiten overeenkomst"]
[null,null,null,null,null,null,null,null,null,null,null,804600,48100,58201,"buiten overeenkomst"]
[null,null,null,null,null,null,null,null,null,null,null,805100,48100,58201,"buiten overeenkomst"]
[null,null,null,null,null,null,null,null,null,null,null,805500,48100,58201,"buiten overeenkomst"]
[null,null,null,null,null,null,null,null,null,null,null,805600,48100,58201,"buiten overeenkomst"]
[null,null,null,null,null,null,null,null,null,null,null,806100,48100,58201,"buiten overeenkomst"]
[null,null,null,null,null,null,null,null,null,null,null,806400,48100,58201,"buiten overeenkomst"]
[null,null,null,null,null,null,null,null,null,null,null,807000,48100,58201,"buiten overeenkomst"]
[null,null,null,null,null,null,null,null,null,null,null,807100,48100,58201,"buiten overeenkomst"]
[null,null,null,null,null,null,null,null,null,null,null,807600,48100,58201,"buiten overeenkomst"]
[null,null,null,null,null,null,null,null,null,null,null,808100,48100,58201,"buiten overeenkomst"]
[null,null,null,null,null,null,null,null,null,null,null,808500,48100,58201,"buiten overeenkomst"]
[null,null,null,null,null,null,null,null,null,null,null,808600,48100,58201,"buiten overeenkomst"]
[null,null,null,null,null,null,null,null,null,null,null,809100,48100,58201,"buiten overeenkomst"]
[null,null,null,null,null,null,null,null,null,null,null,809400,48100,58201,"buiten overeenkomst"]
[null,null,null,null,null,null,null,null,null,null,null,810000,48100,58201,"buiten overeenkomst"]
[null,null,null,null,null,null,null,null,null,null,null,810100,48200,58322,"buiten overeenkomst"]
[null,null,null,null,null,null,null,null,null,null,null,810600,48200,58322,"buiten overeenkomst"]
[null,null,null,null,null,null,null,null,null,null,null,811100,48200,58322,"buiten overeenkomst"]
[null,null,null,null,null,null,null,null,null,null,null,811500,48200,58322,"buiten overeenkomst"]
[null,null,null,null,null,null,null,null,null,null,null,811600,48200,58322,"buiten overeenkomst"]
[null,null,null,null,null,null,null,null,null,null,null,812100,48200,58322,"buiten overeenkomst"]
[null,null,null,null,null,null,null,null,null,null,null,812400,48200,58322,"buiten overeenkomst"]
[null,null,null,null,null,null,null,null,null,null,null,813000,48200,58322,"buiten overeenkomst"]
[null,null,null,null,null,null,null,null,null,null,null,813100,48200,58322,"buiten overeenkomst"]
[null,null,null,null,null,null,null,null,null,null,null,813600,48200,58322,"buiten overeenkomst"]
[null,null,null,null,null,null,null,null,null,null,null,814100,48200,58322,"buiten overeenkomst"]
[null,null,null,null,null,null,null,null,null,null,null,814500,48200,58322,"buiten overeenkomst"]
[null,null,null,null,null,null,null,null,null,null,null,814600,48200,58322,"buiten overeenkomst"]
[null,null,null,null,null,null,null,null,null,null,null,815100,48200,58322,"buiten overeenkomst"]
[null,null,null,null,null,null,null,null,null,null,null,815400,48200,58322,"buiten overeenkomst"]
[null,null,null,null,null,null,null,null,null,null,null,816000,48200,58322,"buiten overeenkomst"]
[null,null,null,null,null,null,null,null,null,null,null,816100,48200,58322,"buiten overeenkomst"]
[null,null,null,null,null,null,null,null,null,null,null,816600,48200,58322,"buiten overeenkomst"]
[null,null,null,null,null,null,null,null,null,null,null,817100,48200,58322,"buiten overeenkomst"]
[null,null,null,null,null,null,null,null,null,null,null,817500,48200,58322,"buiten overeenkomst"]
[null,null,null,null,null,null,null,null,null,null,null,817600,48200,58322,"buiten overeenkomst"]
[null,null,null,null,null,null,null,null,null,null,null,818100,48200,58322,"buiten overeenkomst"]
[null,null,null,null,null,null,null,null,null,null,null,818400,48200,58322,"buiten overeenkomst"]
[null,null,null,null,null,null,null,null,null,null,null,819000,48200,58322,"buiten overeenkomst"]
[null,null,null,null,null,null,null,null,null,null,null,819100,48200,58322,"buiten overeenkomst"]
[null,null,null,null,null,null,null,null,null,null,null,819600,48200,58322,"buiten overeenkomst"]
[null,null,null,null,null,null,null,null,null,null,null,820100,48300,58443,"buiten overeenkomst"]
[null,null,null,null,null,null,null,null,null,null,null,820500,48300,58443,"buiten overeenkomst"]
[null,null,null,null,null,null,null,null,null,null,null,820600,48300,58443,"buiten overeenkomst"]
[null,null,null,null,null,null,null,null,null,null,null,821100,48300,58443,"buiten overeenkomst"]
[null,null,null,null,null,null,null,null,null,null,null,821400,48300,58443,"buiten overeenkomst"]
[null,null,null,null,null,null,null,null,null,null,null,822000,48300,58443,"buiten overeenkomst"]
[null,null,null,null,null,null,null,null,null,null,null,822100,48300,58443,"buiten overeenkomst"]
[null,null,null,null,null,null,null,null,null,null,null,822600,48300,58443,"buiten overeenkomst"]
[null,null,null,null,null,null,null,null,null,null,null,823100,48300,58443,"buiten overeenkomst"]
[null,null,null,null,null,null,null,null,null,null,null,823500,48300,58443,"buiten overeenkomst"]
[null,null,null,null,null,null,null,null,null,null,null,823600,48300,58443,"buiten overeenkomst"]
[null,null,null,null,null,null,null,null,null,null,null,824100,48300,58443,"buiten overeenkomst"]
[null,null,null,null,null,null,null,null,null,null,null,824400,48300,58443,"buiten overeenkomst"]
[null,null,null,null,null,null,null,null,null,null,null,825000,48300,58443,"buiten overeenkomst"]
[null,null,null,null,null,null,null,null,null,null,null,825100,48300,58443,"buiten overeenkomst"]
[null,null,null,null,null,null,null,null,null,null,null,825600,48300,58443,"buiten overeenkomst"]
[null,null,null,null,null,null,null,null,null,null,null,826100,48300,58443,"buiten overeenkomst"]
[null,null,null,null,null,null,null,null,null,null,null,826500,48300,58443,"buiten overeenkomst"]
[null,null,null,null,null,null,null,null,null,null,null,826600,48300,58443,"buiten overeenkomst"]
[null,null,null,null,null,null,null,null,null,null,null,827100,48300,58443,"buiten overeenkomst"]
[null,null,null,null,null,null,null,null,null,null,null,827600,48300,58443,"buiten overeenkomst"]
[null,null,null,null,null,null,null,null,null,null,null,827900,48300,58443,"buiten overeenkomst"]
[null,null,null,null,null,null,null,null,null,null,null,828100,48300,58443,"buiten overeenkomst"]
[null,null,null,null,null,null,null,null,null,null,null,828600,48300,58443,"buiten overeenkomst"]
[null,null,null,null,null,null,null,null,null,null,null,829100,48300,58443,"buiten overeenkomst"]
[null,null,null,null,null,null,null,null,null,null,null,829500,48300,58443,"buiten overeenkomst"]
[null,null,null,null,null,null,null,null,null,null,null,829600,48300,58443,"buiten overeenkomst"]
[null,null,null,null,null,null,null,null,null,null,null,830100,48400,58564,"buiten overeenkomst"]
[null,null,null,null,null,null,null,null,null,null,null,830600,48400,58564,"buiten overeenkomst"]
[null,null,null,null,null,null,null,null,null,null,null,830900,48400,58564,"buiten overeenkomst"]
[null,null,null,null,null,null,null,null,null,null,null,831100,48400,58564,"buiten overeenkomst"]
[null,null,null,null,null,null,null,null,null,null,null,831600,48400,58564,"buiten overeenkomst"]
[null,null,null,null,null,null,null,null,null,null,null,832100,48400,58564,"buiten overeenkomst"]
[null,null,null,null,null,null,null,null,null,null,null,832500,48400,58564,"buiten overeenkomst"]
[null,null,null,null,null,null,null,null,null,null,null,832600,48400,58564,"buiten overeenkomst"]
[null,null,null,null,null,null,null,null,null,null,null,833100,48400,58564,"buiten overeenkomst"]
[null,null,null,null,null,null,null,null,null,null,null,833600,48400,58564,"buiten overeenkomst"]
[null,null,null,null,null,null,null,null,null,null,null,833900,48400,58564,"buiten overeenkomst"]
[null,null,null,null,null,null,null,null,null,null,null,834100,48400,58564,"buiten overeenkomst"]
[null,null,null,null,null,null,null,null,null,null,null,834600,48400,58564,"buiten overeenkomst"]
[null,null,null,null,null,null,null,null,null,null,null,835100,48400,58564,"buiten overeenkomst"]
[null,null,null,null,null,null,null,null,null,null,null,835300,48400,58564,"buiten overeenkomst"]
[null,null,null,null,null,null,null,null,null,null,null,835600,48400,58564,"buiten overeenkomst"]
[null,null,null,null,null,null,null,null,null,null,null,836100,48400,58564,"buiten overeenkomst"]
[null,null,null,null,null,null,null,null,null,null,null,836600,48400,58564,"buiten overeenkomst"]
[null,null,null,null,null,null,null,null,null,null,null,836900,48400,58564,"buiten overeenkomst"]
[null,null,null,null,null,null,null,null,null,null,null,837100,48400,58564,"buiten overeenkomst"]
[null,null,null,null,null,null,null,null,null,null,null,837600,48400,58564,"buiten overeenkomst"]
[null,null,null,null,null,null,null,null,null,null,null,838100,48400,58564,"buiten overeenkomst"]
[null,null,null,null,null,null,null,null,null,null,null,838300,48400,58564,"buiten overeenkomst"]
[null,null,null,null,null,null,null,null,null,null,null,838600,48400,58564,"buiten overeenkomst"]
[null,null,null,null,null,null,null,null,null,null,null,839100,48400,58564,"buiten overeenkomst"]
[null,null,null,null,null,null,null,null,null,null,null,839600,48400,58564,"buiten overeenkomst"]
[null,null,null,null,null,null,null,null,null,null,null,839900,48400,58564,"buiten overeenkomst"]
[null,null,null,null,null,null,null,null,null,null,null,840100,48500,58685,"buiten overeenkomst"]
[null,null,null,null,null,null,null,null,null,null,null,840600,48500,58685,"buiten overeenkomst"]
[null,null,null,null,null,null,null,null,null,null,null,841100,48500,58685,"buiten overeenkomst"]
[null,null,null,null,null,null,null,null,null,null,null,841300,48500,58685,"buiten overeenkomst"]
[null,null,null,null,null,null,null,null,null,null,null,841600,48500,58685,"buiten overeenkomst"]
[null,null,null,null,null,null,null,null,null,null,null,842100,48500,58685,"buiten overeenkomst"]
[null,null,null,null,null,null,null,null,null,null,null,842600,48500,58685,"buiten overeenkomst"]
[null,null,null,null,null,null,null,null,null,null,null,842900,48500,58685,"buiten overeenkomst"]
[null,null,null,null,null,null,null,null,null,null,null,843100,48500,58685,"buiten overeenkomst"]
[null,null,null,null,null,null,null,null,null,null,null,843600,48500,58685,"buiten overeenkomst"]
[null,null,null,null,null,null,null,null,null,null,null,844100,48500,58685,"buiten overeenkomst"]
[null,null,null,null,null,null,null,null,null,null,null,844300,48500,58685,"buiten overeenkomst"]
[null,null,null,null,null,null,null,null,null,null,null,844600,48500,58685,"buiten overeenkomst"]
[null,null,null,null,null,null,null,null,null,null,null,845100,48500,58685,"buiten overeenkomst"]
[null,null,null,null,null,null,null,null,null,null,null,845600,48500,58685,"buiten overeenkomst"]
[null,null,null,null,null,null,null,null,null,null,null,845900,48500,58685,"buiten overeenkomst"]
[null,null,null,null,null,null,null,null,null,null,null,846100,48500,58685,"buiten overeenkomst"]
[null,null,null,null,null,null,null,null,null,null,null,846600,48500,58685,"buiten overeenkomst"]
[null,null,null,null,null,null,null,null,null,null,null,847100,48500,58685,"buiten overeenkomst"]
[null,null,null,null,null,null,null,null,null,null,null,847300,48500,58685,"buiten overeenkomst"]
[null,null,null,null,null,null,null,null,null,null,null,847600,48500,58685,"buiten overeenkomst"]
[null,null,null,null,null,null,null,null,null,null,null,848100,48500,58685,"buiten overeenkomst"]
[null,null,null,null,null,null,null,null,null,null,null,848600,48500,58685,"buiten overeenkomst"]
[null,null,null,null,null,null,null,null,null,null,null,848900,48500,58685,"buiten overeenkomst"]
[null,null,null,null,null,null,null,null,null,null,null,849100,48500,58685,"buiten overeenkomst"]
[null,null,null,null,null,null,null,null,null,null,null,849600,48500,58685,"buiten overeenkomst"]
[null,null,null,null,null,null,null,null,null,null,null,850100,48600,58806,"buiten overeenkomst"]
[null,null,null,null,null,null,null,null,null,null,null,850300,48600,58806,"buiten overeenkomst"]
[null,null,null,null,null,null,null,null,null,null,null,850600,48600,58806,"buiten overeenkomst"]
[null,null,null,null,null,null,null,null,null,null,null,851100,48600,58806,"buiten overeenkomst"]
[null,null,null,null,null,null,null,null,null,null,null,851600,48600,58806,"buiten overeenkomst"]
[null,null,null,null,null,null,null,null,null,null,null,851900,48600,58806,"buiten overeenkomst"]
[null,null,null,null,null,null,null,null,null,null,null,852100,48600,58806,"buiten overeenkomst"]
[null,null,null,null,null,null,null,null,null,null,null,852600,48600,58806,"buiten overeenkomst"]
[null,null,null,null,null,null,null,null,null,null,null,853100,48600,58806,"buiten overeenkomst"]
[null,null,null,null,null,null,null,null,null,null,null,853300,48600,58806,"buiten overeenkomst"]
[null,null,null,null,null,null,null,null,null,null,null,853600,48600,58806,"buiten overeenkomst"]
[null,null,null,null,null,null,null,null,null,null,null,854100,48600,58806,"buiten overeenkomst"]
[null,null,null,null,null,null,null,null,null,null,null,854600,48600,58806,"buiten overeenkomst"]
[null,null,null,null,null,null,null,null,null,null,null,854900,48600,58806,"buiten overeenkomst"]
[null,null,null,null,null,null,null,null,null,null,null,855100,48600,58806,"buiten overeenkomst"]
[null,null,null,null,null,null,null,null,null,null,null,855600,48600,58806,"buiten overeenkomst"]
[null,null,null,null,null,null,null,null,null,null,null,856100,48600,58806,"buiten overeenkomst"]
[null,null,null,null,null,null,null,null,null,null,null,856300,48600,58806,"buiten overeenkomst"]
[null,null,null,null,null,null,null,null,null,null,null,856600,48600,58806,"buiten overeenkomst"]
[null,null,null,null,null,null,null,null,null,null,null,857100,48600,58806,"buiten overeenkomst"]
[null,null,null,null,null,null,null,null,null,null,null,857600,48600,58806,"buiten overeenkomst"]
[null,null,null,null,null,null,null,null,null,null,null,857900,48600,58806,"buiten overeenkomst"]
[null,null,null,null,null,null,null,null,null,null,null,858100,48600,58806,"buiten overeenkomst"]
[null,null,null,null,null,null,null,null,null,null,null,858600,48600,58806,"buiten overeenkomst"]
[null,null,null,null,null,null,null,null,null,null,null,859100,48600,58806,"buiten overeenkomst"]
[null,null,null,null,null,null,null,null,null,null,null,859300,48600,58806,"buiten overeenkomst"]
[null,null,null,null,null,null,null,null,null,null,null,859600,48600,58806,"buiten overeenkomst"]
[null,null,null,null,null,null,null,null,null,null,null,860100,48700,58927,"buiten overeenkomst"]
[null,null,null,null,null,null,null,null,null,null,null,860600,48700,58927,"buiten overeenkomst"]
[null,null,null,null,null,null,null,null,null,null,null,861000,48700,58927,"buiten overeenkomst"]
[null,null,null,null,null,null,null,null,null,null,null,861100,48700,58927,"buiten overeenkomst"]
[null,null,null,null,null,null,null,null,null,null,null,861600,48700,58927,"buiten overeenkomst"]
[null,null,null,null,null,null,null,null,null,null,null,862100,48700,58927,"buiten overeenkomst"]
[null,null,null,null,null,null,null,null,null,null,null,862300,48700,58927,"buiten overeenkomst"]
[null,null,null,null,null,null,null,null,null,null,null,862600,48700,58927,"buiten overeenkomst"]
[null,null,null,null,null,null,null,null,null,null,null,863100,48700,58927,"buiten overeenkomst"]
[null,null,null,null,null,null,null,null,null,null,null,863600,48700,58927,"buiten overeenkomst"]
[null,null,null,null,null,null,null,null,null,null,null,864000,48700,58927,"buiten overeenkomst"]
[null,null,null,null,null,null,null,null,null,null,null,864100,48700,58927,"buiten overeenkomst"]
[null,null,null,null,null,null,null,null,null,null,null,864600,48700,58927,"buiten overeenkomst"]
[null,null,null,null,null,null,null,null,null,null,null,865100,48700,58927,"buiten overeenkomst"]
[null,null,null,null,null,null,null,null,null,null,null,865300,48700,58927,"buiten overeenkomst"]
[null,null,null,null,null,null,null,null,null,null,null,865600,48700,58927,"buiten overeenkomst"]
[null,null,null,null,null,null,null,null,null,null,null,866100,48700,58927,"buiten overeenkomst"]
[null,null,null,null,null,null,null,null,null,null,null,866600,48700,58927,"buiten overeenkomst"]
[null,null,null,null,null,null,null,null,null,null,null,867000,48700,58927,"buiten overeenkomst"]
[null,null,null,null,null,null,null,null,null,null,null,867100,48700,58927,"buiten overeenkomst"]
[null,null,null,null,null,null,null,null,null,null,null,867600,48700,58927,"buiten overeenkomst"]
[null,null,null,null,null,null,null,null,null,null,null,868100,48700,58927,"buiten overeenkomst"]
[null,null,null,null,null,null,null,null,null,null,null,868300,48700,58927,"buiten overeenkomst"]
[null,null,null,null,null,null,null,null,null,null,null,868600,48700,58927,"buiten overeenkomst"]
[null,null,null,null,null,null,null,null,null,null,null,869100,48700,58927,"buiten overeenkomst"]
[null,null,null,null,null,null,null,null,null,null,null,869600,48700,58927,"buiten overeenkomst"]
[null,null,null,null,null,null,null,null,null,null,null,870000,48700,58927,"buiten overeenkomst"]
[null,null,null,null,null,null,null,null,null,null,null,870100,48800,59048,"buiten overeenkomst"]
[null,null,null,null,null,null,null,null,null,null,null,870600,48800,59048,"buiten overeenkomst"]
[null,null,null,null,null,null,null,null,null,null,null,871100,48800,59048,"buiten overeenkomst"]
[null,null,null,null,null,null,null,null,null,null,null,871300,48800,59048,"buiten overeenkomst"]
[null,null,null,null,null,null,null,null,null,null,null,871600,48800,59048,"buiten overeenkomst"]
[null,null,null,null,null,null,null,null,null,null,null,872100,48800,59048,"buiten overeenkomst"]
[null,null,null,null,null,null,null,null,null,null,null,872600,48800,59048,"buiten overeenkomst"]
[null,null,null,null,null,null,null,null,null,null,null,873000,48800,59048,"buiten overeenkomst"]
[null,null,null,null,null,null,null,null,null,null,null,873100,48800,59048,"buiten overeenkomst"]
[null,null,null,null,null,null,null,null,null,null,null,873600,48800,59048,"buiten overeenkomst"]
[null,null,null,null,null,null,null,null,null,null,null,874100,48800,59048,"buiten overeenkomst"]
[null,null,null,null,null,null,null,null,null,null,null,874300,48800,59048,"buiten overeenkomst"]
[null,null,null,null,null,null,null,null,null,null,null,874600,48800,59048,"buiten overeenkomst"]
[null,null,null,null,null,null,null,null,null,null,null,875100,48800,59048,"buiten overeenkomst"]
[null,null,null,null,null,null,null,null,null,null,null,875600,48800,59048,"buiten overeenkomst"]
[null,null,null,null,null,null,null,null,null,null,null,876000,48800,59048,"buiten overeenkomst"]
[null,null,null,null,null,null,null,null,null,null,null,876100,48800,59048,"buiten overeenkomst"]
[null,null,null,null,null,null,null,null,null,null,null,876600,48800,59048,"buiten overeenkomst"]
[null,null,null,null,null,null,null,null,null,null,null,877100,48800,59048,"buiten overeenkomst"]
[null,null,null,null,null,null,null,null,null,null,null,877300,48800,59048,"buiten overeenkomst"]
[null,null,null,null,null,null,null,null,null,null,null,877600,48800,59048,"buiten overeenkomst"]
[null,null,null,null,null,null,null,null,null,null,null,878100,48800,59048,"buiten overeenkomst"]
[null,null,null,null,null,null,null,null,null,null,null,878600,48800,59048,"buiten overeenkomst"]
[null,null,null,null,null,null,null,null,null,null,null,879000,48800,59048,"buiten overeenkomst"]
[null,null,null,null,null,null,null,null,null,null,null,879100,48800,59048,"buiten overeenkomst"]
[null,null,null,null,null,null,null,null,null,null,null,879600,48800,59048,"buiten overeenkomst"]
[null,null,null,null,null,null,null,null,null,null,null,880100,48900,59169,"buiten overeenkomst"]
[null,null,null,null,null,null,null,null,null,null,null,880300,48900,59169,"buiten overeenkomst"]
[null,null,null,null,null,null,null,null,null,null,null,880600,48900,59169,"buiten overeenkomst"]
[null,null,null,null,null,null,null,null,null,null,null,881100,48900,59169,"buiten overeenkomst"]
[null,null,null,null,null,null,null,null,null,null,null,881600,48900,59169,"buiten overeenkomst"]
[null,null,null,null,null,null,null,null,null,null,null,882000,48900,59169,"buiten overeenkomst"]
[null,null,null,null,null,null,null,null,null,null,null,882100,48900,59169,"buiten overeenkomst"]
[null,null,null,null,null,null,null,null,null,null,null,882600,48900,59169,"buiten overeenkomst"]
[null,null,null,null,null,null,null,null,null,null,null,883100,48900,59169,"buiten overeenkomst"]
[null,null,null,null,null,null,null,null,null,null,null,883300,48900,59169,"buiten overeenkomst"]
[null,null,null,null,null,null,null,null,null,null,null,883600,48900,59169,"buiten overeenkomst"]
[null,null,null,null,null,null,null,null,null,null,null,884100,48900,59169,"buiten overeenkomst"]
[null,null,null,null,null,null,null,null,null,null,null,884600,48900,59169,"buiten overeenkomst"]
[null,null,null,null,null,null,null,null,null,null,null,885000,48900,59169,"buiten overeenkomst"]
[null,null,null,null,null,null,null,null,null,null,null,885100,48900,59169,"buiten overeenkomst"]
[null,null,null,null,null,null,null,null,null,null,null,885600,48900,59169,"buiten overeenkomst"]
[null,null,null,null,null,null,null,null,null,null,null,886100,48900,59169,"buiten overeenkomst"]
[null,null,null,null,null,null,null,null,null,null,null,886300,48900,59169,"buiten overeenkomst"]
[null,null,null,null,null,null,null,null,null,null,null,886600,48900,59169,"buiten overeenkomst"]
[null,null,null,null,null,null,null,null,null,null,null,887100,48900,59169,"buiten overeenkomst"]
[null,null,null,null,null,null,null,null,null,null,null,887600,48900,59169,"buiten overeenkomst"]
[null,null,null,null,null,null,null,null,null,null,null,888100,48900,59169,"buiten overeenkomst"]
[null,null,null,null,null,null,null,null,null,null,null,888400,48900,59169,"buiten overeenkomst"]
[null,null,null,null,null,null,null,null,null,null,null,888600,48900,59169,"buiten overeenkomst"]
[null,null,null,null,null,null,null,null,null,null,null,889100,48900,59169,"buiten overeenkomst"]
[null,null,null,null,null,null,null,null,null,null,null,889600,48900,59169,"buiten overeenkomst"]
[null,null,null,null,null,null,null,null,null,null,null,889800,48900,59169,"buiten overeenkomst"]
[null,null,null,null,null,null,null,null,null,null,null,890100,49000,59290,"buiten overeenkomst"]
[null,null,null,null,null,null,null,null,null,null,null,890600,49000,59290,"buiten overeenkomst"]
[null,null,null,null,null,null,null,null,null,null,null,891100,49000,59290,"buiten overeenkomst"]
[null,null,null,null,null,null,null,null,null,null,null,891400,49000,59290,"buiten overeenkomst"]
[null,null,null,null,null,null,null,null,null,null,null,891600,49000,59290,"buiten overeenkomst"]
[null,null,null,null,null,null,null,null,null,null,null,892100,49000,59290,"buiten overeenkomst"]
[null,null,null,null,null,null,null,null,null,null,null,892600,49000,59290,"buiten overeenkomst"]
[null,null,null,null,null,null,null,null,null,null,null,892800,49000,59290,"buiten overeenkomst"]
[null,null,null,null,null,null,null,null,null,null,null,893100,49000,59290,"buiten overeenkomst"]
[null,null,null,null,null,null,null,null,null,null,null,893600,49000,59290,"buiten overeenkomst"]
[null,null,null,null,null,null,null,null,null,null,null,894100,49000,59290,"buiten overeenkomst"]
[null,null,null,null,null,null,null,null,null,null,null,894200,49000,59290,"buiten overeenkomst"]
[null,null,null,null,null,null,null,null,null,null,null,894600,49000,59290,"buiten overeenkomst"]
[null,null,null,null,null,null,null,null,null,null,null,895100,49000,59290,"buiten overeenkomst"]
[null,null,null,null,null,null,null,null,null,null,null,895600,49000,59290,"buiten overeenkomst"]
[null,null,null,null,null,null,null,null,null,null,null,895800,49000,59290,"buiten overeenkomst"]
[null,null,null,null,null,null,null,null,null,null,null,896100,49000,59290,"buiten overeenkomst"]
[null,null,null,null,null,null,null,null,null,null,null,896600,49000,59290,"buiten overeenkomst"]
[null,null,null,null,null,null,null,null,null,null,null,897100,49000,59290,"buiten overeenkomst"]
[null,null,null,null,null,null,null,null,null,null,null,897200,49000,59290,"buiten overeenkomst"]
[null,null,null,null,null,null,null,null,null,null,null,897600,49000,59290,"buiten overeenkomst"]
[null,null,null,null,null,null,null,null,null,null,null,898100,49000,59290,"buiten overeenkomst"]
[null,null,null,null,null,null,null,null,null,null,null,898600,49000,59290,"buiten overeenkomst"]
[null,null,null,null,null,null,null,null,null,null,null,898800,49000,59290,"buiten overeenkomst"]
[null,null,null,null,null,null,null,null,null,null,null,899100,49000,59290,"buiten overeenkomst"]
[null,null,null,null,null,null,null,null,null,null,null,899600,49000,59290,"buiten overeenkomst"]
[null,null,null,null,null,null,null,null,null,null,null,900100,49100,59411,"buiten overeenkomst"]
[null,null,null,null,null,null,null,null,null,null,null,900200,49100,59411,"buiten overeenkomst"]
[null,null,null,null,null,null,null,null,null,null,null,900600,49100,59411,"buiten overeenkomst"]
[null,null,null,null,null,null,null,null,null,null,null,901100,49100,59411,"buiten overeenkomst"]
[null,null,null,null,null,null,null,null,null,null,null,901600,49100,59411,"buiten overeenkomst"]
[null,null,null,null,null,null,null,null,null,null,null,901800,49100,59411,"buiten overeenkomst"]
[null,null,null,null,null,null,null,null,null,null,null,902100,49100,59411,"buiten overeenkomst"]
[null,null,null,null,null,null,null,null,null,null,null,902600,49100,59411,"buiten overeenkomst"]
[null,null,null,null,null,null,null,null,null,null,null,903100,49100,59411,"buiten overeenkomst"]
[null,null,null,null,null,null,null,null,null,null,null,903200,49100,59411,"buiten overeenkomst"]
[null,null,null,null,null,null,null,null,null,null,null,903600,49100,59411,"buiten overeenkomst"]
[null,null,null,null,null,null,null,null,null,null,null,904100,49100,59411,"buiten overeenkomst"]
[null,null,null,null,null,null,null,null,null,null,null,904600,49100,59411,"buiten overeenkomst"]
[null,null,null,null,null,null,null,null,null,null,null,904800,49100,59411,"buiten overeenkomst"]
[null,null,null,null,null,null,null,null,null,null,null,905100,49100,59411,"buiten overeenkomst"]
[null,null,null,null,null,null,null,null,null,null,null,905600,49100,59411,"buiten overeenkomst"]
[null,null,null,null,null,null,null,null,null,null,null,906100,49100,59411,"buiten overeenkomst"]
[null,null,null,null,null,null,null,null,null,null,null,906200,49100,59411,"buiten overeenkomst"]
[null,null,null,null,null,null,null,null,null,null,null,906600,49100,59411,"buiten overeenkomst"]
[null,null,null,null,null,null,null,null,null,null,null,907100,49100,59411,"buiten overeenkomst"]
[null,null,null,null,null,null,null,null,null,null,null,907600,49100,59411,"buiten overeenkomst"]
[null,null,null,null,null,null,null,null,null,null,null,907800,49100,59411,"buiten overeenkomst"]
[null,null,null,null,null,null,null,null,null,null,null,908100,49100,59411,"buiten overeenkomst"]
[null,null,null,null,null,null,null,null,null,null,null,908600,49100,59411,"buiten overeenkomst"]
[null,null,null,null,null,null,null,null,null,null,null,909100,49100,59411,"buiten overeenkomst"]
[null,null,null,null,null,null,null,null,null,null,null,909200,49100,59411,"buiten overeenkomst"]
[null,null,null,null,null,null,null,null,null,null,null,909600,49100,59411,"buiten overeenkomst"]
[null,null,null,null,null,null,null,null,null,null,null,910100,49200,59532,"buiten overeenkomst"]
[null,null,null,null,null,null,null,null,null,null,null,910600,49200,59532,"buiten overeenkomst"]
[null,null,null,null,null,null,null,null,null,null,null,910800,49200,59532,"buiten overeenkomst"]
[null,null,null,null,null,null,null,null,null,null,null,911100,49200,59532,"buiten overeenkomst"]
[null,null,null,null,null,null,null,null,null,null,null,911600,49200,59532,"buiten overeenkomst"]
[null,null,null,null,null,null,null,null,null,null,null,912100,49200,59532,"buiten overeenkomst"]
[null,null,null,null,null,null,null,null,null,null,null,912200,49200,59532,"buiten overeenkomst"]
[null,null,null,null,null,null,null,null,null,null,null,912600,49200,59532,"buiten overeenkomst"]
[null,null,null,null,null,null,null,null,null,null,null,913100,49200,59532,"buiten overeenkomst"]
[null,null,null,null,null,null,null,null,null,null,null,913600,49200,59532,"buiten overeenkomst"]
[null,null,null,null,null,null,null,null,null,null,null,913800,49200,59532,"buiten overeenkomst"]
[null,null,null,null,null,null,null,null,null,null,null,914100,49200,59532,"buiten overeenkomst"]
[null,null,null,null,null,null,null,null,null,null,null,914600,49200,59532,"buiten overeenkomst"]
[null,null,null,null,null,null,null,null,null,null,null,915100,49200,59532,"buiten overeenkomst"]
[null,null,null,null,null,null,null,null,null,null,null,915200,49200,59532,"buiten overeenkomst"]
[null,null,null,null,null,null,null,null,null,null,null,915600,49200,59532,"buiten overeenkomst"]
[null,null,null,null,null,null,null,null,null,null,null,916100,49200,59532,"buiten overeenkomst"]
[null,null,null,null,null,null,null,null,null,null,null,916600,49200,59532,"buiten overeenkomst"]
[null,null,null,null,null,null,null,null,null,null,null,916800,49200,59532,"buiten overeenkomst"]
[null,null,null,null,null,null,null,null,null,null,null,917100,49200,59532,"buiten overeenkomst"]
[null,null,null,null,null,null,null,null,null,null,null,917600,49200,59532,"buiten overeenkomst"]
[null,null,null,null,null,null,null,null,null,null,null,918100,49200,59532,"buiten overeenkomst"]
[null,null,null,null,null,null,null,null,null,null,null,918200,49200,59532,"buiten overeenkomst"]
[null,null,null,null,null,null,null,null,null,null,null,918600,49200,59532,"buiten overeenkomst"]
[null,null,null,null,null,null,null,null,null,null,null,919100,49200,59532,"buiten overeenkomst"]
[null,null,null,null,null,null,null,null,null,null,null,919600,49200,59532,"buiten overeenkomst"]
[null,null,null,null,null,null,null,null,null,null,null,919800,49200,59532,"buiten overeenkomst"]
[null,null,null,null,null,null,null,null,null,null,null,920100,49300,59653,"buiten overeenkomst"]
[null,null,null,null,null,null,null,null,null,null,null,920600,49300,59653,"buiten overeenkomst"]
[null,null,null,null,null,null,null,null,null,null,null,921100,49300,59653,"buiten overeenkomst"]
[null,null,null,null,null,null,null,null,null,null,null,921200,49300,59653,"buiten overeenkomst"]
[null,null,null,null,null,null,null,null,null,null,null,921600,49300,59653,"buiten overeenkomst"]
[null,null,null,null,null,null,null,null,null,null,null,922100,49300,59653,"buiten overeenkomst"]
[null,null,null,null,null,null,null,null,null,null,null,922600,49300,59653,"buiten overeenkomst"]
[null,null,null,null,null,null,null,null,null,null,null,922900,49300,59653,"buiten overeenkomst"]
[null,null,null,null,null,null,null,null,null,null,null,923100,49300,59653,"buiten overeenkomst"]
[null,null,null,null,null,null,null,null,null,null,null,923600,49300,59653,"buiten overeenkomst"]
[null,null,null,null,null,null,null,null,null,null,null,924100,49300,59653,"buiten overeenkomst"]
[null,null,null,null,null,null,null,null,null,null,null,924200,49300,59653,"buiten overeenkomst"]
[null,null,null,null,null,null,null,null,null,null,null,924600,49300,59653,"buiten overeenkomst"]
[null,null,null,null,null,null,null,null,null,null,null,925100,49300,59653,"buiten overeenkomst"]
[null,null,null,null,null,null,null,null,null,null,null,925600,49300,59653,"buiten overeenkomst"]
[null,null,null,null,null,null,null,null,null,null,null,925900,49300,59653,"buiten overeenkomst"]
[null,null,null,null,null,null,null,null,null,null,null,926100,49300,59653,"buiten overeenkomst"]
[null,null,null,null,null,null,null,null,null,null,null,926600,49300,59653,"buiten overeenkomst"]
[null,null,null,null,null,null,null,null,null,null,null,927100,49300,59653,"buiten overeenkomst"]
[null,null,null,null,null,null,null,null,null,null,null,927200,49300,59653,"buiten overeenkomst"]
[null,null,null,null,null,null,null,null,null,null,null,927600,49300,59653,"buiten overeenkomst"]
[null,null,null,null,null,null,null,null,null,null,null,928100,49300,59653,"buiten overeenkomst"]
[null,null,null,null,null,null,null,null,null,null,null,928600,49300,59653,"buiten overeenkomst"]
[null,null,null,null,null,null,null,null,null,null,null,928900,49300,59653,"buiten overeenkomst"]
[null,null,null,null,null,null,null,null,null,null,null,929100,49300,59653,"buiten overeenkomst"]
[null,null,null,null,null,null,null,null,null,null,null,929600,49300,59653,"buiten overeenkomst"]
[null,null,null,null,null,null,null,null,null,null,null,930100,49400,59774,"buiten overeenkomst"]
[null,null,null,null,null,null,null,null,null,null,null,930200,49400,59774,"buiten overeenkomst"]
[null,null,null,null,null,null,null,null,null,null,null,930600,49400,59774,"buiten overeenkomst"]
[null,null,null,null,null,null,null,null,null,null,null,931100,49400,59774,"buiten overeenkomst"]
[null,null,null,null,null,null,null,null,null,null,null,931600,49400,59774,"buiten overeenkomst"]
[null,null,null,null,null,null,null,null,null,null,null,931900,49400,59774,"buiten overeenkomst"]
[null,null,null,null,null,null,null,null,null,null,null,932100,49400,59774,"buiten overeenkomst"]
[null,null,null,null,null,null,null,null,null,null,null,932600,49400,59774,"buiten overeenkomst"]
[null,null,null,null,null,null,null,null,null,null,null,933100,49400,59774,"buiten overeenkomst"]
[null,null,null,null,null,null,null,null,null,null,null,933200,49400,59774,"buiten overeenkomst"]
[null,null,null,null,null,null,null,null,null,null,null,933600,49400,59774,"buiten overeenkomst"]
[null,null,null,null,null,null,null,null,null,null,null,934100,49400,59774,"buiten overeenkomst"]
[null,null,null,null,null,null,null,null,null,null,null,934600,49400,59774,"buiten overeenkomst"]
[null,null,null,null,null,null,null,null,null,null,null,934900,49400,59774,"buiten overeenkomst"]
[null,null,null,null,null,null,null,null,null,null,null,935100,49400,59774,"buiten overeenkomst"]
[null,null,null,null,null,null,null,null,null,null,null,935600,49400,59774,"buiten overeenkomst"]
[null,null,null,null,null,null,null,null,null,null,null,936100,49400,59774,"buiten overeenkomst"]
[null,null,null,null,null,null,null,null,null,null,null,936200,49400,59774,"buiten overeenkomst"]
[null,null,null,null,null,null,null,null,null,null,null,936600,49400,59774,"buiten overeenkomst"]
[null,null,null,null,null,null,null,null,null,null,null,937100,49400,59774,"buiten overeenkomst"]
[null,null,null,null,null,null,null,null,null,null,null,937600,49400,59774,"buiten overeenkomst"]
[null,null,null,null,null,null,null,null,null,null,null,937900,49400,59774,"buiten overeenkomst"]
[null,null,null,null,null,null,null,null,null,null,null,938100,49400,59774,"buiten overeenkomst"]
[null,null,null,null,null,null,null,null,null,null,null,938600,49400,59774,"buiten overeenkomst"]
[null,null,null,null,null,null,null,null,null,null,null,939100,49400,59774,"buiten overeenkomst"]
[null,null,null,null,null,null,null,null,null,null,null,939200,49400,59774,"buiten overeenkomst"]
[null,null,null,null,null,null,null,null,null,null,null,939600,49400,59774,"buiten overeenkomst"]
[null,null,null,null,null,null,null,null,null,null,null,940100,49500,59895,"buiten overeenkomst"]
[null,null,null,null,null,null,null,null,null,null,null,940600,49500,59895,"buiten overeenkomst"]
[null,null,null,null,null,null,null,null,null,null,null,940900,49500,59895,"buiten overeenkomst"]
[null,null,null,null,null,null,null,null,null,null,null,941100,49500,59895,"buiten overeenkomst"]
[null,null,null,null,null,null,null,null,null,null,null,941600,49500,59895,"buiten overeenkomst"]
[null,null,null,null,null,null,null,null,null,null,null,942100,49500,59895,"buiten overeenkomst"]
[null,null,null,null,null,null,null,null,null,null,null,942200,49500,59895,"buiten overeenkomst"]
[null,null,null,null,null,null,null,null,null,null,null,942600,49500,59895,"buiten overeenkomst"]
[null,null,null,null,null,null,null,null,null,null,null,943100,49500,59895,"buiten overeenkomst"]
[null,null,null,null,null,null,null,null,null,null,null,943600,49500,59895,"buiten overeenkomst"]
[null,null,null,null,null,null,null,null,null,null,null,943900,49500,59895,"buiten overeenkomst"]
[null,null,null,null,null,null,null,null,null,null,null,944100,49500,59895,"buiten overeenkomst"]
[null,null,null,null,null,null,null,null,null,null,null,944600,49500,59895,"buiten overeenkomst"]
[null,null,null,null,null,null,null,null,null,null,null,945100,49500,59895,"buiten overeenkomst"]
[null,null,null,null,null,null,null,null,null,null,null,945200,49500,59895,"buiten overeenkomst"]
[null,null,null,null,null,null,null,null,null,null,null,945600,49500,59895,"buiten overeenkomst"]
[null,null,null,null,null,null,null,null,null,null,null,946100,49500,59895,"buiten overeenkomst"]
[null,null,null,null,null,null,null,null,null,null,null,946600,49500,59895,"buiten overeenkomst"]
[null,null,null,null,null,null,null,null,null,null,null,946900,49500,59895,"buiten overeenkomst"]
[null,null,null,null,null,null,null,null,null,null,null,947100,49500,59895,"buiten overeenkomst"]
[null,null,null,null,null,null,null,null,null,null,null,947600,49500,59895,"buiten overeenkomst"]
[null,null,null,null,null,null,null,null,null,null,null,948100,49500,59895,"buiten overeenkomst"]
[null,null,null,null,null,null,null,null,null,null,null,948300,49500,59895,"buiten overeenkomst"]
[null,null,null,null,null,null,null,null,null,null,null,948600,49500,59895,"buiten overeenkomst"]
[null,null,null,null,null,null,null,null,null,null,null,949100,49500,59895,"buiten overeenkomst"]
[null,null,null,null,null,null,null,null,null,null,null,949600,49500,59895,"buiten overeenkomst"]
[null,null,null,null,null,null,null,null,null,null,null,949700,49500,59895,"buiten overeenkomst"]
[null,null,null,null,null,null,null,null,null,null,null,950100,49600,60016,"buiten overeenkomst"]
[null,null,null,null,null,null,null,null,null,null,null,950200,49600,60016,"buiten overeenkomst"]
[null,null,null,null,null,null,null,null,null,null,null,950300,49600,60016,"buiten overeenkomst"]
[null,null,null,null,null,null,null,null,null,null,null,950400,49600,60016,"buiten overeenkomst"]
[null,null,null,null,null,null,null,null,null,null,null,950500,49600,60016,"buiten overeenkomst"]
[null,null,null,null,null,null,null,null,null,null,null,950600,49600,60016,"buiten overeenkomst"]
[null,null,null,null,null,null,null,null,null,null,null,950700,49600,60016,"buiten overeenkomst"]
[null,null,null,null,null,null,null,null,null,null,null,950800,49600,60016,"buiten overeenkomst"]
[null,null,null,null,null,null,null,null,null,null,null,950900,49600,60016,"buiten overeenkomst"]
[null,null,null,null,null,null,null,null,null,null,null,951000,49600,60016,"buiten overeenkomst"]
[null,null,null,null,null,null,null,null,null,null,null,951100,49600,60016,"buiten overeenkomst"]
[null,null,null,null,null,null,null,null,null,null,null,951200,49600,60016,"buiten overeenkomst"]
[null,null,null,null,null,null,null,null,null,null,null,951300,49600,60016,"buiten overeenkomst"]
[null,null,null,null,null,null,null,null,null,null,null,951400,49600,60016,"buiten overeenkomst"]
[null,null,null,null,null,null,null,null,null,null,null,951500,49600,60016,"buiten overeenkomst"]
[null,null,null,null,null,null,null,null,null,null,null,951600,49600,60016,"buiten overeenkomst"]
[null,null,null,null,null,null,null,null,null,null,null,951700,49600,60016,"buiten overeenkomst"]
[null,null,null,null,null,null,null,null,null,null,null,951800,49600,60016,"buiten overeenkomst"]
[null,null,null,null,null,null,null,null,null,null,null,951900,49600,60016,"buiten overeenkomst"]
[null,null,null,null,null,null,null,null,null,null,null,952000,49600,60016,"buiten overeenkomst"]
[null,null,null,null,null,null,null,null,null,null,null,952100,49600,60016,"buiten overeenkomst"]
[null,null,null,null,null,null,null,null,null,null,null,952200,49600,60016,"buiten overeenkomst"]
[null,null,null,null,null,null,null,null,null,null,null,952300,49600,60016,"buiten overeenkomst"]
[null,null,null,null,null,null,null,null,null,null,null,952400,49600,60016,"buiten overeenkomst"]
[null,null,null,null,null,null,null,null,null,null,null,952500,49600,60016,"buiten overeenkomst"]
[null,null,null,null,null,null,null,null,null,null,null,952600,49600,60016,"buiten overeenkomst"]
[null,null,null,null,null,null,null,null,null,null,null,952700,49600,60016,"buiten overeenkomst"]
[null,null,null,null,null,null,null,null,null,null,null,952800,49600,60016,"buiten overeenkomst"]
[null,null,null,null,null,null,null,null,null,null,null,952900,49600,60016,"buiten overeenkomst"]
[null,null,null,null,null,null,null,null,null,null,null,953000,49600,60016,"buiten overeenkomst"]
[null,null,null,null,null,null,null,null,null,null,null,953100,49600,60016,"buiten overeenkomst"]
[null,null,null,null,null,null,null,null,null,null,null,953200,49600,60016,"buiten overeenkomst"]
[null,null,null,null,null,null,null,null,null,null,null,953300,49600,60016,"buiten overeenkomst"]
[null,null,null,null,null,null,null,null,null,null,null,953400,49600,60016,"buiten overeenkomst"]
[null,null,null,null,null,null,null,null,null,null,null,953500,49600,60016,"buiten overeenkomst"]
[null,null,null,null,null,null,null,null,null,null,null,953600,49600,60016,"buiten overeenkomst"]
[null,null,null,null,null,null,null,null,null,null,null,953700,49600,60016,"buiten overeenkomst"]
[null,null,null,null,null,null,null,null,null,null,null,953800,49600,60016,"buiten overeenkomst"]
[null,null,null,null,null,null,null,null,null,null,null,953900,49600,60016,"buiten overeenkomst"]
[null,null,null,null,null,null,null,null,null,null,null,954000,49600,60016,"buiten overeenkomst"]
[null,null,null,null,null,null,null,null,null,null,null,954100,49600,60016,"buiten overeenkomst"]
[null,null,null,null,null,null,null,null,null,null,null,954200,49600,60016,"buiten overeenkomst"]
[null,null,null,null,null,null,null,null,null,null,null,954300,49600,60016,"buiten overeenkomst"]
[null,null,null,null,null,null,null,null,null,null,null,954400,49600,60016,"buiten overeenkomst"]
[null,null,null,null,null,null,null,null,null,null,null,954500,49600,60016,"buiten overeenkomst"]
[null,null,null,null,null,null,null,null,null,null,null,954600,49600,60016,"buiten overeenkomst"]
[null,null,null,null,null,null,null,null,null,null,null,954700,49600,60016,"buiten overeenkomst"]
[null,null,null,null,null,null,null,null,null,null,null,954800,49600,60016,"buiten overeenkomst"]
[null,null,null,null,null,null,null,null,null,null,null,954900,49600,60016,"buiten overeenkomst"]
[null,null,null,null,null,null,null,null,null,null,null,955000,49600,60016,"buiten overeenkomst"]
[null,null,null,null,null,null,null,null,null,null,null,955100,49600,60016,"buiten overeenkomst"]
[null,null,null,null,null,null,null,null,null,null,null,955200,49600,60016,"buiten overeenkomst"]
[null,null,null,null,null,null,null,null,null,null,null,955300,49600,60016,"buiten overeenkomst"]
[null,null,null,null,null,null,null,null,null,null,null,955400,49600,60016,"buiten overeenkomst"]
[null,null,null,null,null,null,null,null,null,null,null,955500,49600,60016,"buiten overeenkomst"]
[null,null,null,null,null,null,null,null,null,null,null,955600,49600,60016,"buiten overeenkomst"]
[null,null,null,null,null,null,null,null,null,null,null,955700,49600,60016,"buiten overeenkomst"]
[null,null,null,null,null,null,null,null,null,null,null,955800,49600,60016,"buiten overeenkomst"]
[null,null,null,null,null,null,null,null,null,null,null,955900,49600,60016,"buiten overeenkomst"]
[null,null,null,null,null,null,null,null,null,null,null,956000,49600,60016,"buiten overeenkomst"]
[null,null,null,null,null,null,null,null,null,null,null,956100,49600,60016,"buiten overeenkomst"]
[null,null,null,null,null,null,null,null,null,null,null,956200,49600,60016,"buiten overeenkomst"]
[null,null,null,null,null,null,null,null,null,null,null,956300,49600,60016,"buiten overeenkomst"]
[null,null,null,null,null,null,null,null,null,null,null,956400,49600,60016,"buiten overeenkomst"]
[null,null,null,null,null,null,null,null,null,null,null,956500,49600,60016,"buiten overeenkomst"]
[null,null,null,null,null,null,null,null,null,null,null,956600,49600,60016,"buiten overeenkomst"]
[null,null,null,null,null,null,null,null,null,null,null,956700,49600,60016,"buiten overeenkomst"]
[null,null,null,null,null,null,null,null,null,null,null,956800,49600,60016,"buiten overeenkomst"]
[null,null,null,null,null,null,null,null,null,null,null,956900,49600,60016,"buiten overeenkomst"]
[null,null,null,null,null,null,null,null,null,null,null,957000,49600,60016,"buiten overeenkomst"]
[null,null,null,null,null,null,null,null,null,null,null,957100,49600,60016,"buiten overeenkomst"]
[null,null,null,null,null,null,null,null,null,null,null,957200,49600,60016,"buiten overeenkomst"]
[null,null,null,null,null,null,null,null,null,null,null,957300,49600,60016,"buiten overeenkomst"]
[null,null,null,null,null,null,null,null,null,null,null,957400,49600,60016,"buiten overeenkomst"]
[null,null,null,null,null,null,null,null,null,null,null,957500,49600,60016,"buiten overeenkomst"]
[null,null,null,null,null,null,null,null,null,null,null,957600,49600,60016,"buiten overeenkomst"]
[null,null,null,null,null,null,null,null,null,null,null,957700,49600,60016,"buiten overeenkomst"]
[null,null,null,null,null,null,null,null,null,null,null,957800,49600,60016,"buiten overeenkomst"]
[null,null,null,null,null,null,null,null,null,null,null,957900,49600,60016,"buiten overeenkomst"]
[null,null,null,null,null,null,null,null,null,null,null,958000,49600,60016,"buiten overeenkomst"]
[null,null,null,null,null,null,null,null,null,null,null,958100,49600,60016,"buiten overeenkomst"]
[null,null,null,null,null,null,null,null,null,null,null,958200,49600,60016,"buiten overeenkomst"]
[null,null,null,null,null,null,null,null,null,null,null,958300,49600,60016,"buiten overeenkomst"]
[null,null,null,null,null,null,null,null,null,null,null,958400,49600,60016,"buiten overeenkomst"]
[null,null,null,null,null,null,null,null,null,null,null,958500,49600,60016,"buiten overeenkomst"]
[null,null,null,null,null,null,null,null,null,null,null,958600,49600,60016,"buiten overeenkomst"]
[null,null,null,null,null,null,null,null,null,null,null,958700,49600,60016,"buiten overeenkomst"]
[null,null,null,null,null,null,null,null,null,null,null,958800,49600,60016,"buiten overeenkomst"]
[null,null,null,null,null,null,null,null,null,null,null,958900,49600,60016,"buiten overeenkomst"]
[null,null,null,null,null,null,null,null,null,null,null,959000,49600,60016,"buiten overeenkomst"]
[null,null,null,null,null,null,null,null,null,null,null,959100,49600,60016,"buiten overeenkomst"]
[null,null,null,null,null,null,null,null,null,null,null,959200,49600,60016,"buiten overeenkomst"]
[null,null,null,null,null,null,null,null,null,null,null,959300,49600,60016,"buiten overeenkomst"]
[null,null,null,null,null,null,null,null,null,null,null,959400,49600,60016,"buiten overeenkomst"]
[null,null,null,null,null,null,null,null,null,null,null,959500,49600,60016,"buiten overeenkomst"]
[null,null,null,null,null,null,null,null,null,null,null,959600,49600,60016,"buiten overeenkomst"]
[null,null,null,null,null,null,null,null,null,null,null,959700,49600,60016,"buiten overeenkomst"]
[null,null,null,null,null,null,null,null,null,null,null,959800,49600,60016,"buiten overeenkomst"]
[null,null,null,null,null,null,null,null,null,null,null,959900,49600,60016,"buiten overeenkomst"]
[null,null,null,null,null,null,null,null,null,null,null,960000,49600,60016,"buiten overeenkomst"]
[null,null,null,null,null,null,null,null,null,null,null,960100,49700,60137,"buiten overeenkomst"]
[null,null,null,null,null,null,null,null,null,null,null,960200,49700,60137,"buiten overeenkomst"]
[null,null,null,null,null,null,null,null,null,null,null,960300,49700,60137,"buiten overeenkomst"]
[null,null,null,null,null,null,null,null,null,null,null,960400,49700,60137,"buiten overeenkomst"]
[null,null,null,null,null,null,null,null,null,null,null,960500,49700,60137,"buiten overeenkomst"]
[null,null,null,null,null,null,null,null,null,null,null,960600,49700,60137,"buiten overeenkomst"]
[null,null,null,null,null,null,null,null,null,null,null,960700,49700,60137,"buiten overeenkomst"]
[null,null,null,null,null,null,null,null,null,null,null,960800,49700,60137,"buiten overeenkomst"]
[null,null,null,null,null,null,null,null,null,null,null,960900,49700,60137,"buiten overeenkomst"]
[null,null,null,null,null,null,null,null,null,null,null,961000,49700,60137,"buiten overeenkomst"]
[null,null,null,null,null,null,null,null,null,null,null,961100,49700,60137,"buiten overeenkomst"]
[null,null,null,null,null,null,null,null,null,null,null,961200,49700,60137,"buiten overeenkomst"]
[null,null,null,null,null,null,null,null,null,null,null,961300,49700,60137,"buiten overeenkomst"]
[null,null,null,null,null,null,null,null,null,null,null,961400,49700,60137,"buiten overeenkomst"]
[null,null,null,null,null,null,null,null,null,null,null,961500,49700,60137,"buiten overeenkomst"]
[null,null,null,null,null,null,null,null,null,null,null,961600,49700,60137,"buiten overeenkomst"]
[null,null,null,null,null,null,null,null,null,null,null,961700,49700,60137,"buiten overeenkomst"]
[null,null,null,null,null,null,null,null,null,null,null,961800,49700,60137,"buiten overeenkomst"]
[null,null,null,null,null,null,null,null,null,null,null,961900,49700,60137,"buiten overeenkomst"]
[null,null,null,null,null,null,null,null,null,null,null,962000,49700,60137,"buiten overeenkomst"]
[null,null,null,null,null,null,null,null,null,null,null,962100,49700,60137,"buiten overeenkomst"]
[null,null,null,null,null,null,null,null,null,null,null,962200,49700,60137,"buiten overeenkomst"]
[null,null,null,null,null,null,null,null,null,null,null,962300,49700,60137,"buiten overeenkomst"]
[null,null,null,null,null,null,null,null,null,null,null,962400,49700,60137,"buiten overeenkomst"]
[null,null,null,null,null,null,null,null,null,null,null,962500,49700,60137,"buiten overeenkomst"]
[null,null,null,null,null,null,null,null,null,null,null,962600,49700,60137,"buiten overeenkomst"]
[null,null,null,null,null,null,null,null,null,null,null,962700,49700,60137,"buiten overeenkomst"]
[null,null,null,null,null,null,null,null,null,null,null,962800,49700,60137,"buiten overeenkomst"]
[null,null,null,null,null,null,null,null,null,null,null,962900,49700,60137,"buiten overeenkomst"]
[null,null,null,null,null,null,null,null,null,null,null,963000,49700,60137,"buiten overeenkomst"]
[null,null,null,null,null,null,null,null,null,null,null,963100,49700,60137,"buiten overeenkomst"]
[null,null,null,null,null,null,null,null,null,null,null,963200,49700,60137,"buiten overeenkomst"]
[null,null,null,null,null,null,null,null,null,null,null,963300,49700,60137,"buiten overeenkomst"]
[null,null,null,null,null,null,null,null,null,null,null,963400,49700,60137,"buiten overeenkomst"]
[null,null,null,null,null,null,null,null,null,null,null,963500,49700,60137,"buiten overeenkomst"]
[null,null,null,null,null,null,null,null,null,null,null,963600,49700,60137,"buiten overeenkomst"]
[null,null,null,null,null,null,null,null,null,null,null,963700,49700,60137,"buiten overeenkomst"]
[null,null,null,null,null,null,null,null,null,null,null,963800,49700,60137,"buiten overeenkomst"]
[null,null,null,null,null,null,null,null,null,null,null,963900,49700,60137,"buiten overeenkomst"]
[null,null,null,null,null,null,null,null,null,null,null,964000,49700,60137,"buiten overeenkomst"]
[null,null,null,null,null,null,null,null,null,null,null,964100,49700,60137,"buiten overeenkomst"]
[null,null,null,null,null,null,null,null,null,null,null,964200,49700,60137,"buiten overeenkomst"]
[null,null,null,null,null,null,null,null,null,null,null,964300,49700,60137,"buiten overeenkomst"]
[null,null,null,null,null,null,null,null,null,null,null,964400,49700,60137,"buiten overeenkomst"]
[null,null,null,null,null,null,null,null,null,null,null,964500,49700,60137,"buiten overeenkomst"]
[null,null,null,null,null,null,null,null,null,null,null,964600,49700,60137,"buiten overeenkomst"]
[null,null,null,null,null,null,null,null,null,null,null,964700,49700,60137,"buiten overeenkomst"]
[null,null,null,null,null,null,null,null,null,null,null,964800,49700,60137,"buiten overeenkomst"]
[null,null,null,null,null,null,null,null,null,null,null,964900,49700,60137,"buiten overeenkomst"]
[null,null,null,null,null,null,null,null,null,null,null,965000,49700,60137,"buiten overeenkomst"]
[null,null,null,null,null,null,null,null,null,null,null,965100,49700,60137,"buiten overeenkomst"]
[null,null,null,null,null,null,null,null,null,null,null,965200,49700,60137,"buiten overeenkomst"]
[null,null,null,null,null,null,null,null,null,null,null,965300,49700,60137,"buiten overeenkomst"]
[null,null,null,null,null,null,null,null,null,null,null,965400,49700,60137,"buiten overeenkomst"]
[null,null,null,null,null,null,null,null,null,null,null,965500,49700,60137,"buiten overeenkomst"]
[null,null,null,null,null,null,null,null,null,null,null,965600,49700,60137,"buiten overeenkomst"]
[null,null,null,null,null,null,null,null,null,null,null,965700,49700,60137,"buiten overeenkomst"]
[null,null,null,null,null,null,null,null,null,null,null,965800,49700,60137,"buiten overeenkomst"]
[null,null,null,null,null,null,null,null,null,null,null,965900,49700,60137,"buiten overeenkomst"]
[null,null,null,null,null,null,null,null,null,null,null,966000,49700,60137,"buiten overeenkomst"]
[null,null,null,null,null,null,null,null,null,null,null,966100,49700,60137,"buiten overeenkomst"]
[null,null,null,null,null,null,null,null,null,null,null,966200,49700,60137,"buiten overeenkomst"]
[null,null,null,null,null,null,null,null,null,null,null,966300,49700,60137,"buiten overeenkomst"]
[null,null,null,null,null,null,null,null,null,null,null,966400,49700,60137,"buiten overeenkomst"]
[null,null,null,null,null,null,null,null,null,null,null,966500,49700,60137,"buiten overeenkomst"]
[null,null,null,null,null,null,null,null,null,null,null,966600,49700,60137,"buiten overeenkomst"]
[null,null,null,null,null,null,null,null,null,null,null,966700,49700,60137,"buiten overeenkomst"]
[null,null,null,null,null,null,null,null,null,null,null,966800,49700,60137,"buiten overeenkomst"]
[null,null,null,null,null,null,null,null,null,null,null,966900,49700,60137,"buiten overeenkomst"]
[null,null,null,null,null,null,null,null,null,null,null,967000,49700,60137,"buiten overeenkomst"]
[null,null,null,null,null,null,null,null,null,null,null,967100,49700,60137,"buiten overeenkomst"]
[null,null,null,null,null,null,null,null,null,null,null,967200,49700,60137,"buiten overeenkomst"]
[null,null,null,null,null,null,null,null,null,null,null,967300,49700,60137,"buiten overeenkomst"]
[null,null,null,null,null,null,null,null,null,null,null,967400,49700,60137,"buiten overeenkomst"]
[null,null,null,null,null,null,null,null,null,null,null,967500,49700,60137,"buiten overeenkomst"]
[null,null,null,null,null,null,null,null,null,null,null,967600,49700,60137,"buiten overeenkomst"]
[null,null,null,null,null,null,null,null,null,null,null,967700,49700,60137,"buiten overeenkomst"]
[null,null,null,null,null,null,null,null,null,null,null,967800,49700,60137,"buiten overeenkomst"]
[null,null,null,null,null,null,null,null,null,null,null,967900,49700,60137,"buiten overeenkomst"]
[null,null,null,null,null,null,null,null,null,null,null,968000,49700,60137,"buiten overeenkomst"]
[null,null,null,null,null,null,null,null,null,null,null,968100,49700,60137,"buiten overeenkomst"]
[null,null,null,null,null,null,null,null,null,null,null,968200,49700,60137,"buiten overeenkomst"]
[null,null,null,null,null,null,null,null,null,null,null,968300,49700,60137,"buiten overeenkomst"]
[null,null,null,null,null,null,null,null,null,null,null,968400,49700,60137,"buiten overeenkomst"]
[null,null,null,null,null,null,null,null,null,null,null,968500,49700,60137,"buiten overeenkomst"]
[null,null,null,null,null,null,null,null,null,null,null,968600,49700,60137,"buiten overeenkomst"]
[null,null,null,null,null,null,null,null,null,null,null,968700,49700,60137,"buiten overeenkomst"]
[null,null,null,null,null,null,null,null,null,null,null,968800,49700,60137,"buiten overeenkomst"]
[null,null,null,null,null,null,null,null,null,null,null,968900,49700,60137,"buiten overeenkomst"]
[null,null,null,null,null,null,null,null,null,null,null,969000,49700,60137,"buiten overeenkomst"]
[null,null,null,null,null,null,null,null,null,null,null,969100,49700,60137,"buiten overeenkomst"]
[null,null,null,null,null,null,null,null,null,null,null,969200,49700,60137,"buiten overeenkomst"]
[null,null,null,null,null,null,null,null,null,null,null,969300,49700,60137,"buiten overeenkomst"]
[null,null,null,null,null,null,null,null,null,null,null,969400,49700,60137,"buiten overeenkomst"]
[null,null,null,null,null,null,null,null,null,null,null,969500,49700,60137,"buiten overeenkomst"]
[null,null,null,null,null,null,null,null,null,null,null,969600,49700,60137,"buiten overeenkomst"]
[null,null,null,null,null,null,null,null,null,null,null,969700,49700,60137,"buiten overeenkomst"]
[null,null,null,null,null,null,null,null,null,null,null,969800,49700,60137,"buiten overeenkomst"]
[null,null,null,null,null,null,null,null,null,null,null,969900,49700,60137,"buiten overeenkomst"]
[null,null,null,null,null,null,null,null,null,null,null,970000,49700,60137,"buiten overeenkomst"]
[null,null,null,null,null,null,null,null,null,null,null,970100,49800,60258,"buiten overeenkomst"]
[null,null,null,null,null,null,null,null,null,null,null,970200,49800,60258,"buiten overeenkomst"]
[null,null,null,null,null,null,null,null,null,null,null,970300,49800,60258,"buiten overeenkomst"]
[null,null,null,null,null,null,null,null,null,null,null,970400,49800,60258,"buiten overeenkomst"]
[null,null,null,null,null,null,null,null,null,null,null,970500,49800,60258,"buiten overeenkomst"]
[null,null,null,null,null,null,null,null,null,null,null,970600,49800,60258,"buiten overeenkomst"]
[null,null,null,null,null,null,null,null,null,null,null,970700,49800,60258,"buiten overeenkomst"]
[null,null,null,null,null,null,null,null,null,null,null,970800,49800,60258,"buiten overeenkomst"]
[null,null,null,null,null,null,null,null,null,null,null,970900,49800,60258,"buiten overeenkomst"]
[null,null,null,null,null,null,null,null,null,null,null,971000,49800,60258,"buiten overeenkomst"]
[null,null,null,null,null,null,null,null,null,null,null,971100,49800,60258,"buiten overeenkomst"]
[null,null,null,null,null,null,null,null,null,null,null,971200,49800,60258,"buiten overeenkomst"]
[null,null,null,null,null,null,null,null,null,null,null,971300,49800,60258,"buiten overeenkomst"]
[null,null,null,null,null,null,null,null,null,null,null,971400,49800,60258,"buiten overeenkomst"]
[null,null,null,null,null,null,null,null,null,null,null,971500,49800,60258,"buiten overeenkomst"]
[null,null,null,null,null,null,null,null,null,null,null,971600,49800,60258,"buiten overeenkomst"]
[null,null,null,null,null,null,null,null,null,null,null,971700,49800,60258,"buiten overeenkomst"]
[null,null,null,null,null,null,null,null,null,null,null,971800,49800,60258,"buiten overeenkomst"]
[null,null,null,null,null,null,null,null,null,null,null,971900,49800,60258,"buiten overeenkomst"]
[null,null,null,null,null,null,null,null,null,null,null,972000,49800,60258,"buiten overeenkomst"]
[null,null,null,null,null,null,null,null,null,null,null,972100,49800,60258,"buiten overeenkomst"]
[null,null,null,null,null,null,null,null,null,null,null,972200,49800,60258,"buiten overeenkomst"]
[null,null,null,null,null,null,null,null,null,null,null,972300,49800,60258,"buiten overeenkomst"]
[null,null,null,null,null,null,null,null,null,null,null,972400,49800,60258,"buiten overeenkomst"]
[null,null,null,null,null,null,null,null,null,null,null,972500,49800,60258,"buiten overeenkomst"]
[null,null,null,null,null,null,null,null,null,null,null,972600,49800,60258,"buiten overeenkomst"]
[null,null,null,null,null,null,null,null,null,null,null,972700,49800,60258,"buiten overeenkomst"]
[null,null,null,null,null,null,null,null,null,null,null,972800,49800,60258,"buiten overeenkomst"]
[null,null,null,null,null,null,null,null,null,null,null,972900,49800,60258,"buiten overeenkomst"]
[null,null,null,null,null,null,null,null,null,null,null,973000,49800,60258,"buiten overeenkomst"]
[null,null,null,null,null,null,null,null,null,null,null,973100,49800,60258,"buiten overeenkomst"]
[null,null,null,null,null,null,null,null,null,null,null,973200,49800,60258,"buiten overeenkomst"]
[null,null,null,null,null,null,null,null,null,null,null,973300,49800,60258,"buiten overeenkomst"]
[null,null,null,null,null,null,null,null,null,null,null,973400,49800,60258,"buiten overeenkomst"]
[null,null,null,null,null,null,null,null,null,null,null,973500,49800,60258,"buiten overeenkomst"]
[null,null,null,null,null,null,null,null,null,null,null,973600,49800,60258,"buiten overeenkomst"]
[null,null,null,null,null,null,null,null,null,null,null,973700,49800,60258,"buiten overeenkomst"]
[null,null,null,null,null,null,null,null,null,null,null,973800,49800,60258,"buiten overeenkomst"]
[null,null,null,null,null,null,null,null,null,null,null,973900,49800,60258,"buiten overeenkomst"]
[null,null,null,null,null,null,null,null,null,null,null,974000,49800,60258,"buiten overeenkomst"]
[null,null,null,null,null,null,null,null,null,null,null,974100,49800,60258,"buiten overeenkomst"]
[null,null,null,null,null,null,null,null,null,null,null,974200,49800,60258,"buiten overeenkomst"]
[null,null,null,null,null,null,null,null,null,null,null,974300,49800,60258,"buiten overeenkomst"]
[null,null,null,null,null,null,null,null,null,null,null,974400,49800,60258,"buiten overeenkomst"]
[null,null,null,null,null,null,null,null,null,null,null,974500,49800,60258,"buiten overeenkomst"]
[null,null,null,null,null,null,null,null,null,null,null,974600,49800,60258,"buiten overeenkomst"]
[null,null,null,null,null,null,null,null,null,null,null,974700,49800,60258,"buiten overeenkomst"]
[null,null,null,null,null,null,null,null,null,null,null,974800,49800,60258,"buiten overeenkomst"]
[null,null,null,null,null,null,null,null,null,null,null,974900,49800,60258,"buiten overeenkomst"]
[null,null,null,null,null,null,null,null,null,null,null,975000,49800,60258,"buiten overeenkomst"]
[null,null,null,null,null,null,null,null,null,null,null,975100,49800,60258,"buiten overeenkomst"]
[null,null,null,null,null,null,null,null,null,null,null,975200,49800,60258,"buiten overeenkomst"]
[null,null,null,null,null,null,null,null,null,null,null,975300,49800,60258,"buiten overeenkomst"]
[null,null,null,null,null,null,null,null,null,null,null,975400,49800,60258,"buiten overeenkomst"]
[null,null,null,null,null,null,null,null,null,null,null,975500,49800,60258,"buiten overeenkomst"]
[null,null,null,null,null,null,null,null,null,null,null,975600,49800,60258,"buiten overeenkomst"]
[null,null,null,null,null,null,null,null,null,null,null,975700,49800,60258,"buiten overeenkomst"]
[null,null,null,null,null,null,null,null,null,null,null,975800,49800,60258,"buiten overeenkomst"]
[null,null,null,null,null,null,null,null,null,null,null,975900,49800,60258,"buiten overeenkomst"]
[null,null,null,null,null,null,null,null,null,null,null,976000,49800,60258,"buiten overeenkomst"]
[null,null,null,null,null,null,null,null,null,null,null,976100,49800,60258,"buiten overeenkomst"]
[null,null,null,null,null,null,null,null,null,null,null,976200,49800,60258,"buiten overeenkomst"]
[null,null,null,null,null,null,null,null,null,null,null,976300,49800,60258,"buiten overeenkomst"]
[null,null,null,null,null,null,null,null,null,null,null,976400,49800,60258,"buiten overeenkomst"]
[null,null,null,null,null,null,null,null,null,null,null,976500,49800,60258,"buiten overeenkomst"]
[null,null,null,null,null,null,null,null,null,null,null,976600,49800,60258,"buiten overeenkomst"]
[null,null,null,null,null,null,null,null,null,null,null,976700,49800,60258,"buiten overeenkomst"]
[null,null,null,null,null,null,null,null,null,null,null,976800,49800,60258,"buiten overeenkomst"]
[null,null,null,null,null,null,null,null,null,null,null,976900,49800,60258,"buiten overeenkomst"]
[null,null,null,null,null,null,null,null,null,null,null,977000,49800,60258,"buiten overeenkomst"]
[null,null,null,null,null,null,null,null,null,null,null,977100,49800,60258,"buiten overeenkomst"]
[null,null,null,null,null,null,null,null,null,null,null,977200,49800,60258,"buiten overeenkomst"]
[null,null,null,null,null,null,null,null,null,null,null,977300,49800,60258,"buiten overeenkomst"]
[null,null,null,null,null,null,null,null,null,null,null,977400,49800,60258,"buiten overeenkomst"]
[null,null,null,null,null,null,null,null,null,null,null,977500,49800,60258,"buiten overeenkomst"]
[null,null,null,null,null,null,null,null,null,null,null,977600,49800,60258,"buiten overeenkomst"]
[null,null,null,null,null,null,null,null,null,null,null,977700,49800,60258,"buiten overeenkomst"]
[null,null,null,null,null,null,null,null,null,null,null,977800,49800,60258,"buiten overeenkomst"]
[null,null,null,null,null,null,null,null,null,null,null,977900,49800,60258,"buiten overeenkomst"]
[null,null,null,null,null,null,null,null,null,null,null,978000,49800,60258,"buiten overeenkomst"]
[null,null,null,null,null,null,null,null,null,null,null,978100,49800,60258,"buiten overeenkomst"]
[null,null,null,null,null,null,null,null,null,null,null,978200,49800,60258,"buiten overeenkomst"]
[null,null,null,null,null,null,null,null,null,null,null,978300,49800,60258,"buiten overeenkomst"]
[null,null,null,null,null,null,null,null,null,null,null,978400,49800,60258,"buiten overeenkomst"]
[null,null,null,null,null,null,null,null,null,null,null,978500,49800,60258,"buiten overeenkomst"]
[null,null,null,null,null,null,null,null,null,null,null,978600,49800,60258,"buiten overeenkomst"]
[null,null,null,null,null,null,null,null,null,null,null,978700,49800,60258,"buiten overeenkomst"]
[null,null,null,null,null,null,null,null,null,null,null,978800,49800,60258,"buiten overeenkomst"]
[null,null,null,null,null,null,null,null,null,null,null,978900,49800,60258,"buiten overeenkomst"]
[null,null,null,null,null,null,null,null,null,null,null,979000,49800,60258,"buiten overeenkomst"]
[null,null,null,null,null,null,null,null,null,null,null,979100,49800,60258,"buiten overeenkomst"]
[null,null,null,null,null,null,null,null,null,null,null,979200,49800,60258,"buiten overeenkomst"]
[null,null,null,null,null,null,null,null,null,null,null,979300,49800,60258,"buiten overeenkomst"]
[null,null,null,null,null,null,null,null,null,null,null,979400,49800,60258,"buiten overeenkomst"]
[null,null,null,null,null,null,null,null,null,null,null,979500,49800,60258,"buiten overeenkomst"]
[null,null,null,null,null,null,null,null,null,null,null,979600,49800,60258,"buiten overeenkomst"]
[null,null,null,null,null,null,null,null,null,null,null,979700,49800,60258,"buiten overeenkomst"]
[null,null,null,null,null,null,null,null,null,null,null,979800,49800,60258,"buiten overeenkomst"]
[null,null,null,null,null,null,null,null,null,null,null,979900,49800,60258,"buiten overeenkomst"]
[null,null,null,null,null,null,null,null,null,null,null,980000,49800,60258,"buiten overeenkomst"]
[null,null,null,null,null,null,null,null,null,null,null,980100,49900,60379,"buiten overeenkomst"]
[null,null,null,null,null,null,null,null,null,null,null,980200,49900,60379,"buiten overeenkomst"]
[null,null,null,null,null,null,null,null,null,null,null,980300,49900,60379,"buiten overeenkomst"]
[null,null,null,null,null,null,null,null,null,null,null,980400,49900,60379,"buiten overeenkomst"]
[null,null,null,null,null,null,null,null,null,null,null,980500,49900,60379,"buiten overeenkomst"]
[null,null,null,null,null,null,null,null,null,null,null,980600,49900,60379,"buiten overeenkomst"]
[null,null,null,null,null,null,null,null,null,null,null,980700,49900,60379,"buiten overeenkomst"]
[null,null,null,null,null,null,null,null,null,null,null,980800,49900,60379,"buiten overeenkomst"]
[null,null,null,null,null,null,null,null,null,null,null,980900,49900,60379,"buiten overeenkomst"]
[null,null,null,null,null,null,null,null,null,null,null,981000,49900,60379,"buiten overeenkomst"]
[null,null,null,null,null,null,null,null,null,null,null,981100,49900,60379,"buiten overeenkomst"]
[null,null,null,null,null,null,null,null,null,null,null,981200,49900,60379,"buiten overeenkomst"]
[null,null,null,null,null,null,null,null,null,null,null,981300,49900,60379,"buiten overeenkomst"]
[null,null,null,null,null,null,null,null,null,null,null,981400,49900,60379,"buiten overeenkomst"]
[null,null,null,null,null,null,null,null,null,null,null,981500,49900,60379,"buiten overeenkomst"]
[null,null,null,null,null,null,null,null,null,null,null,981600,49900,60379,"buiten overeenkomst"]
[null,null,null,null,null,null,null,null,null,null,null,981700,49900,60379,"buiten overeenkomst"]
[null,null,null,null,null,null,null,null,null,null,null,981800,49900,60379,"buiten overeenkomst"]
[null,null,null,null,null,null,null,null,null,null,null,981900,49900,60379,"buiten overeenkomst"]
[null,null,null,null,null,null,null,null,null,null,null,982000,49900,60379,"buiten overeenkomst"]
[null,null,null,null,null,null,null,null,null,null,null,982100,49900,60379,"buiten overeenkomst"]
[null,null,null,null,null,null,null,null,null,null,null,982200,49900,60379,"buiten overeenkomst"]
[null,null,null,null,null,null,null,null,null,null,null,982300,49900,60379,"buiten overeenkomst"]
[null,null,null,null,null,null,null,null,null,null,null,982400,49900,60379,"buiten overeenkomst"]
[null,null,null,null,null,null,null,null,null,null,null,982500,49900,60379,"buiten overeenkomst"]
[null,null,null,null,null,null,null,null,null,null,null,982600,49900,60379,"buiten overeenkomst"]
[null,null,null,null,null,null,null,null,null,null,null,982700,49900,60379,"buiten overeenkomst"]
[null,null,null,null,null,null,null,null,null,null,null,982800,49900,60379,"buiten overeenkomst"]
[null,null,null,null,null,null,null,null,null,null,null,982900,49900,60379,"buiten overeenkomst"]
[null,null,null,null,null,null,null,null,null,null,null,983000,49900,60379,"buiten overeenkomst"]
[null,null,null,null,null,null,null,null,null,null,null,983100,49900,60379,"buiten overeenkomst"]
[null,null,null,null,null,null,null,null,null,null,null,983200,49900,60379,"buiten overeenkomst"]
[null,null,null,null,null,null,null,null,null,null,null,983300,49900,60379,"buiten overeenkomst"]
[null,null,null,null,null,null,null,null,null,null,null,983400,49900,60379,"buiten overeenkomst"]
[null,null,null,null,null,null,null,null,null,null,null,983500,49900,60379,"buiten overeenkomst"]
[null,null,null,null,null,null,null,null,null,null,null,983600,49900,60379,"buiten overeenkomst"]
[null,null,null,null,null,null,null,null,null,null,null,983700,49900,60379,"buiten overeenkomst"]
[null,null,null,null,null,null,null,null,null,null,null,983800,49900,60379,"buiten overeenkomst"]
[null,null,null,null,null,null,null,null,null,null,null,983900,49900,60379,"buiten overeenkomst"]
[null,null,null,null,null,null,null,null,null,null,null,984000,49900,60379,"buiten overeenkomst"]
[null,null,null,null,null,null,null,null,null,null,null,984100,49900,60379,"buiten overeenkomst"]
[null,null,null,null,null,null,null,null,null,null,null,984200,49900,60379,"buiten overeenkomst"]
[null,null,null,null,null,null,null,null,null,null,null,984300,49900,60379,"buiten overeenkomst"]
[null,null,null,null,null,null,null,null,null,null,null,984400,49900,60379,"buiten overeenkomst"]
[null,null,null,null,null,null,null,null,null,null,null,984500,49900,60379,"buiten overeenkomst"]
[null,null,null,null,null,null,null,null,null,null,null,984600,49900,60379,"buiten overeenkomst"]
[null,null,null,null,null,null,null,null,null,null,null,984700,49900,60379,"buiten overeenkomst"]
[null,null,null,null,null,null,null,null,null,null,null,984800,49900,60379,"buiten overeenkomst"]
[null,null,null,null,null,null,null,null,null,null,null,984900,49900,60379,"buiten overeenkomst"]
[null,null,null,null,null,null,null,null,null,null,null,985000,49900,60379,"buiten overeenkomst"]
[null,null,null,null,null,null,null,null,null,null,null,985100,49900,60379,"buiten overeenkomst"]
[null,null,null,null,null,null,null,null,null,null,null,985200,49900,60379,"buiten overeenkomst"]
[null,null,null,null,null,null,null,null,null,null,null,985300,49900,60379,"buiten overeenkomst"]
[null,null,null,null,null,null,null,null,null,null,null,985400,49900,60379,"buiten overeenkomst"]
[null,null,null,null,null,null,null,null,null,null,null,985500,49900,60379,"buiten overeenkomst"]
[null,null,null,null,null,null,null,null,null,null,null,985600,49900,60379,"buiten overeenkomst"]
[null,null,null,null,null,null,null,null,null,null,null,985700,49900,60379,"buiten overeenkomst"]
[null,null,null,null,null,null,null,null,null,null,null,985800,49900,60379,"buiten overeenkomst"]
[null,null,null,null,null,null,null,null,null,null,null,985900,49900,60379,"buiten overeenkomst"]
[null,null,null,null,null,null,null,null,null,null,null,986000,49900,60379,"buiten overeenkomst"]
[null,null,null,null,null,null,null,null,null,null,null,986100,49900,60379,"buiten overeenkomst"]
[null,null,null,null,null,null,null,null,null,null,null,986200,49900,60379,"buiten overeenkomst"]
[null,null,null,null,null,null,null,null,null,null,null,986300,49900,60379,"buiten overeenkomst"]
[null,null,null,null,null,null,null,null,null,null,null,986400,49900,60379,"buiten overeenkomst"]
[null,null,null,null,null,null,null,null,null,null,null,986500,49900,60379,"buiten overeenkomst"]
[null,null,null,null,null,null,null,null,null,null,null,986600,49900,60379,"buiten overeenkomst"]
[null,null,null,null,null,null,null,null,null,null,null,986700,49900,60379,"buiten overeenkomst"]
[null,null,null,null,null,null,null,null,null,null,null,986800,49900,60379,"buiten overeenkomst"]
[null,null,null,null,null,null,null,null,null,null,null,986900,49900,60379,"buiten overeenkomst"]
[null,null,null,null,null,null,null,null,null,null,null,987000,49900,60379,"buiten overeenkomst"]
[null,null,null,null,null,null,null,null,null,null,null,987100,49900,60379,"buiten overeenkomst"]
[null,null,null,null,null,null,null,null,null,null,null,987200,49900,60379,"buiten overeenkomst"]
[null,null,null,null,null,null,null,null,null,null,null,987300,49900,60379,"buiten overeenkomst"]
[null,null,null,null,null,null,null,null,null,null,null,987400,49900,60379,"buiten overeenkomst"]
[null,null,null,null,null,null,null,null,null,null,null,987500,49900,60379,"buiten overeenkomst"]
[null,null,null,null,null,null,null,null,null,null,null,987600,49900,60379,"buiten overeenkomst"]
[null,null,null,null,null,null,null,null,null,null,null,987700,49900,60379,"buiten overeenkomst"]
[null,null,null,null,null,null,null,null,null,null,null,987800,49900,60379,"buiten overeenkomst"]
[null,null,null,null,null,null,null,null,null,null,null,987900,49900,60379,"buiten overeenkomst"]
[null,null,null,null,null,null,null,null,null,null,null,988000,49900,60379,"buiten overeenkomst"]
[null,null,null,null,null,null,null,null,null,null,null,988100,49900,60379,"buiten overeenkomst"]
[null,null,null,null,null,null,null,null,null,null,null,988200,49900,60379,"buiten overeenkomst"]
[null,null,null,null,null,null,null,null,null,null,null,988300,49900,60379,"buiten overeenkomst"]
[null,null,null,null,null,null,null,null,null,null,null,988400,49900,60379,"buiten overeenkomst"]
[null,null,null,null,null,null,null,null,null,null,null,988500,49900,60379,"buiten overeenkomst"]
[null,null,null,null,null,null,null,null,null,null,null,988600,49900,60379,"buiten overeenkomst"]
[null,null,null,null,null,null,null,null,null,null,null,988700,49900,60379,"buiten overeenkomst"]
[null,null,null,null,null,null,null,null,null,null,null,988800,49900,60379,"buiten overeenkomst"]
[null,null,null,null,null,null,null,null,null,null,null,988900,49900,60379,"buiten overeenkomst"]
[null,null,null,null,null,null,null,null,null,null,null,989000,49900,60379,"buiten overeenkomst"]
[null,null,null,null,null,null,null,null,null,null,null,989100,49900,60379,"buiten overeenkomst"]
[null,null,null,null,null,null,null,null,null,null,null,989200,49900,60379,"buiten overeenkomst"]
[null,null,null,null,null,null,null,null,null,null,null,989300,49900,60379,"buiten overeenkomst"]
[null,null,null,null,null,null,null,null,null,null,null,989400,49900,60379,"buiten overeenkomst"]
[null,null,null,null,null,null,null,null,null,null,null,989500,49900,60379,"buiten overeenkomst"]
[null,null,null,null,null,null,null,null,null,null,null,989600,49900,60379,"buiten overeenkomst"]
[null,null,null,null,null,null,null,null,null,null,null,989700,49900,60379,"buiten overeenkomst"]
[null,null,null,null,null,null,null,null,null,null,null,989800,49900,60379,"buiten overeenkomst"]
[null,null,null,null,null,null,null,null,null,null,null,989900,49900,60379,"buiten overeenkomst"]
[null,null,null,null,null,null,null,null,null,null,null,990000,49900,60379,"buiten overeenkomst"]
[null,null,null,null,null,null,null,null,null,null,null,990100,50000,60500,"buiten overeenkomst"]
[null,null,null,null,null,null,null,null,null,null,null,990200,50000,60500,"buiten overeenkomst"]
[null,null,null,null,null,null,null,null,null,null,null,990300,50000,60500,"buiten overeenkomst"]
[null,null,null,null,null,null,null,null,null,null,null,990400,50000,60500,"buiten overeenkomst"]
[null,null,null,null,null,null,null,null,null,null,null,990500,50000,60500,"buiten overeenkomst"]
[null,null,null,null,null,null,null,null,null,null,null,990600,50000,60500,"buiten overeenkomst"]
[null,null,null,null,null,null,null,null,null,null,null,990700,50000,60500,"buiten overeenkomst"]
[null,null,null,null,null,null,null,null,null,null,null,990800,50000,60500,"buiten overeenkomst"]
[null,null,null,null,null,null,null,null,null,null,null,990900,50000,60500,"buiten overeenkomst"]
[null,null,null,null,null,null,null,null,null,null,null,991000,50000,60500,"buiten overeenkomst"]
[null,null,null,null,null,null,null,null,null,null,null,991100,50000,60500,"buiten overeenkomst"]
[null,null,null,null,null,null,null,null,null,null,null,991200,50000,60500,"buiten overeenkomst"]
[null,null,null,null,null,null,null,null,null,null,null,991300,50000,60500,"buiten overeenkomst"]
[null,null,null,null,null,null,null,null,null,null,null,991400,50000,60500,"buiten overeenkomst"]
[null,null,null,null,null,null,null,null,null,null,null,991500,50000,60500,"buiten overeenkomst"]
[null,null,null,null,null,null,null,null,null,null,null,991600,50000,60500,"buiten overeenkomst"]
[null,null,null,null,null,null,null,null,null,null,null,991700,50000,60500,"buiten overeenkomst"]
[null,null,null,null,null,null,null,null,null,null,null,991800,50000,60500,"buiten overeenkomst"]
[null,null,null,null,null,null,null,null,null,null,null,991900,50000,60500,"buiten overeenkomst"]
[null,null,null,null,null,null,null,null,null,null,null,992000,50000,60500,"buiten overeenkomst"]
[null,null,null,null,null,null,null,null,null,null,null,992100,50000,60500,"buiten overeenkomst"]
[null,null,null,null,null,null,null,null,null,null,null,992200,50000,60500,"buiten overeenkomst"]
[null,null,null,null,null,null,null,null,null,null,null,992300,50000,60500,"buiten overeenkomst"]
[null,null,null,null,null,null,null,null,null,null,null,992400,50000,60500,"buiten overeenkomst"]
[null,null,null,null,null,null,null,null,null,null,null,992500,50000,60500,"buiten overeenkomst"]
[null,null,null,null,null,null,null,null,null,null,null,992600,50000,60500,"buiten overeenkomst"]
[null,null,null,null,null,null,null,null,null,null,null,992700,50000,60500,"buiten overeenkomst"]
[null,null,null,null,null,null,null,null,null,null,null,992800,50000,60500,"buiten overeenkomst"]
[null,null,null,null,null,null,null,null,null,null,null,992900,50000,60500,"buiten overeenkomst"]
[null,null,null,null,null,null,null,null,null,null,null,993000,50000,60500,"buiten overeenkomst"]
[null,null,null,null,null,null,null,null,null,null,null,993100,50000,60500,"buiten overeenkomst"]
[null,null,null,null,null,null,null,null,null,null,null,993200,50000,60500,"buiten overeenkomst"]
[null,null,null,null,null,null,null,null,null,null,null,993300,50000,60500,"buiten overeenkomst"]
[null,null,null,null,null,null,null,null,null,null,null,993400,50000,60500,"buiten overeenkomst"]
[null,null,null,null,null,null,null,null,null,null,null,993500,50000,60500,"buiten overeenkomst"]
[null,null,null,null,null,null,null,null,null,null,null,993600,50000,60500,"buiten overeenkomst"]
[null,null,null,null,null,null,null,null,null,null,null,993700,50000,60500,"buiten overeenkomst"]
[null,null,null,null,null,null,null,null,null,null,null,993800,50000,60500,"buiten overeenkomst"]
[null,null,null,null,null,null,null,null,null,null,null,993900,50000,60500,"buiten overeenkomst"]
[null,null,null,null,null,null,null,null,null,null,null,994000,50000,60500,"buiten overeenkomst"]
[null,null,null,null,null,null,null,null,null,null,null,994100,50000,60500,"buiten overeenkomst"]
[null,null,null,null,null,null,null,null,null,null,null,994200,50000,60500,"buiten overeenkomst"]
[null,null,null,null,null,null,null,null,null,null,null,994300,50000,60500,"buiten overeenkomst"]
[null,null,null,null,null,null,null,null,null,null,null,994400,50000,60500,"buiten overeenkomst"]
[null,null,null,null,null,null,null,null,null,null,null,994500,50000,60500,"buiten overeenkomst"]
[null,null,null,null,null,null,null,null,null,null,null,994600,50000,60500,"buiten overeenkomst"]
[null,null,null,null,null,null,null,null,null,null,null,994700,50000,60500,"buiten overeenkomst"]
[null,null,null,null,null,null,null,null,null,null,null,994800,50000,60500,"buiten overeenkomst"]
[null,null,null,null,null,null,null,null,null,null,null,994900,50000,60500,"buiten overeenkomst"]
[null,null,null,null,null,null,null,null,null,null,null,995000,50000,60500,"buiten overeenkomst"]
[null,null,null,null,null,null,null,null,null,null,null,995100,50000,60500,"buiten overeenkomst"]
[null,null,null,null,null,null,null,null,null,null,null,995200,50000,60500,"buiten overeenkomst"]
[null,null,null,null,null,null,null,null,null,null,null,995300,50000,60500,"buiten overeenkomst"]
[null,null,null,null,null,null,null,null,null,null,null,995400,50000,60500,"buiten overeenkomst"]
[null,null,null,null,null,null,null,null,null,null,null,995500,50000,60500,"buiten overeenkomst"]
[null,null,null,null,null,null,null,null,null,null,null,995600,50000,60500,"buiten overeenkomst"]
[null,null,null,null,null,null,null,null,null,null,null,995700,50000,60500,"buiten overeenkomst"]
[null,null,null,null,null,null,null,null,null,null,null,995800,50000,60500,"buiten overeenkomst"]
[null,null,null,null,null,null,null,null,null,null,null,995900,50000,60500,"buiten overeenkomst"]
[null,null,null,null,null,null,null,null,null,null,null,996000,50000,60500,"buiten overeenkomst"]
[null,null,null,null,null,null,null,null,null,null,null,996100,50000,60500,"buiten overeenkomst"]
[null,null,null,null,null,null,null,null,null,null,null,996200,50000,60500,"buiten overeenkomst"]
[null,null,null,null,null,null,null,null,null,null,null,996300,50000,60500,"buiten overeenkomst"]
[null,null,null,null,null,null,null,null,null,null,null,996400,50000,60500,"buiten overeenkomst"]
[null,null,null,null,null,null,null,null,null,null,null,996500,50000,60500,"buiten overeenkomst"]
[null,null,null,null,null,null,null,null,null,null,null,996600,50000,60500,"buiten overeenkomst"]
[null,null,null,null,null,null,null,null,null,null,null,996700,50000,60500,"buiten overeenkomst"]
[null,null,null,null,null,null,null,null,null,null,null,996800,50000,60500,"buiten overeenkomst"]
[null,null,null,null,null,null,null,null,null,null,null,996900,50000,60500,"buiten overeenkomst"]
[null,null,null,null,null,null,null,null,null,null,null,997000,50000,60500,"buiten overeenkomst"]
[null,null,null,null,null,null,null,null,null,null,null,997100,50000,60500,"buiten overeenkomst"]
[null,null,null,null,null,null,null,null,null,null,null,997200,50000,60500,"buiten overeenkomst"]
[null,null,null,null,null,null,null,null,null,null,null,997300,50000,60500,"buiten overeenkomst"]
[null,null,null,null,null,null,null,null,null,null,null,997400,50000,60500,"buiten overeenkomst"]
[null,null,null,null,null,null,null,null,null,null,null,997500,50000,60500,"buiten overeenkomst"]
[null,null,null,null,null,null,null,null,null,null,null,997600,50000,60500,"buiten overeenkomst"]
[null,null,null,null,null,null,null,null,null,null,null,997700,50000,60500,"buiten overeenkomst"]
[null,null,null,null,null,null,null,null,null,null,null,997800,50000,60500,"buiten overeenkomst"]
[null,null,null,null,null,null,null,null,null,null,null,997900,50000,60500,"buiten overeenkomst"]
[null,null,null,null,null,null,null,null,null,null,null,998000,50000,60500,"buiten overeenkomst"]
[null,null,null,null,null,null,null,null,null,null,null,998100,50000,60500,"buiten overeenkomst"]
[null,null,null,null,null,null,null,null,null,null,null,998200,50000,60500,"buiten overeenkomst"]
[null,null,null,null,null,null,null,null,null,null,null,998300,50000,60500,"buiten overeenkomst"]
[null,null,null,null,null,null,null,null,null,null,null,998400,50000,60500,"buiten overeenkomst"]
[null,null,null,null,null,null,null,null,null,null,null,998500,50000,60500,"buiten overeenkomst"]
[null,null,null,null,null,null,null,null,null,null,null,998600,50000,60500,"buiten overeenkomst"]
[null,null,null,null,null,null,null,null,null,null,null,998700,50000,60500,"buiten overeenkomst"]
[null,null,null,null,null,null,null,null,null,null,null,998800,50000,60500,"buiten overeenkomst"]
[null,null,null,null,null,null,null,null,null,null,null,998900,50000,60500,"buiten overeenkomst"]
[null,null,null,null,null,null,null,null,null,null,null,999000,50000,60500,"buiten overeenkomst"]
[null,null,null,null,null,null,null,null,null,null,null,999100,50000,60500,"buiten overeenkomst"]
[null,null,null,null,null,null,null,null,null,null,null,999200,50000,60500,"buiten overeenkomst"]
[null,null,null,null,null,null,null,null,null,null,null,999300,50000,60500,"buiten overeenkomst"]
[null,null,null,null,null,null,null,null,null,null,null,999400,50000,60500,"buiten overeenkomst"]
[null,null,null,null,null,null,null,null,null,null,null,999500,50000,60500,"buiten overeenkomst"]
[null,null,null,null,null,null,null,null,null,null,null,999600,50000,60500,"buiten overeenkomst"]
[null,null,null,null,null,null,null,null,null,null,null,999700,50000,60500,"buiten overeenkomst"]
[null,null,null,null,null,null,null,null,null,null,null,999800,50000,60500,"buiten overeenkomst"]
[null,null,null,null,null,null,null,null,null,null,null,999900,50000,60500,"buiten overeenkomst"]
[null,null,null,null,null,null,null,null,null,null,null,1000000,50000,60500,"buiten overeenkomst"]

{"sheet":"Berekening BGK","index":2,"n_rows":38,"n_cols":16,"rows_kept":38,"cut":false,"hidden":false,"merged":[[3,6,3,7],[4,1,4,2],[7,1,7,2]]}
[null,null,null,null,null,null,"toevoeging voor PIV rekenmodule",null,null,null,"De berekening"]
[null,"Convenant BGK Letsel (belangenbehartigers)",null,null,null,null,null,null,null,null,"Afronding invoer naar boven",null,null,{"$f":"ROUNDDOWN(C6/100,0)*100","v":0},null,"Letop, voor 2016 afgerond op € 100 naar boven, wat dubbel was met afronding bgk naar boven op € 100."]
[null,{"$f":"\"Berekening BGK, versie van \"&H5&\" geldend vanaf \" &H6","v":"Berekening BGK, versie van 24-12-2015 geldend vanaf 1-1-2016"},null,null,null,null,null,null,null,null,"BGK excl btw",null,null,{"$f":"IF(N2<0,0,IF(N2<100,'kosten tabel 2016'!M4,IF(N2>'kosten tabel 2016'!L10003,\"Bedrag te hoog\",VLOOKUP(N2,'kosten tabel 2016'!L4:N10003,2,FALSE))))","v":480},null,"Per 2016 afronding naar beneden ivm ophogingen en verlagingen vanaf hele bedragen, anders zou vanaf € 100 minder opgehoogd of verlaagd worden."]
[null,{"$f":"IF(H38<1,\"\",H36)","v":"VUL EEN BEDRAG IN"},null,null,null,null,null,null,null,null,"bgk incl btw",null,null,{"$f":"IF(N2<0,0,IF(N2<100,'kosten tabel 2016'!N4,IF(N2>'kosten tabel 2016'!L10003,\"Bedrag te hoog\",VLOOKUP(N2,'kosten tabel 2016'!L4:N10003,3,FALSE))))","v":580.79999999999995},null,"Daarom ook een correctie bij bedragen onder € 100, die worden gesteld op € 100."]
[null,{"$f":"IF(H21<1,\"Invoer\",H19)","v":"Invoer"},null,null,null,null,"Versie","24-12-2015"]
[null,"In te voeren schadebedrag",null,null,null,null,"vanaf","1-1-2016"]
[null,null,null,null,null,null,"Bruikbaar tot","1-3-2017","later raadpleegbaar"]
[null,"Resultaat",null,null,null,null,"Geldig tot","1-1-2017"]
[null,"Buitengerechtelijke kosten excl. BTW",{"$f":"IF(H38>0,\"invoer onjuist\",N3)","v":"invoer onjuist"}]
[null,"Buitengerechtelijke kosten incl. BTW",{"$f":"IF(H38>0,\"invoer onjuist\",N4)","v":"invoer onjuist"}]
[null,null,null,null,null,null,"Errorhandling"]
[null,null,null,null,null,null,null,"Waarschuwingen"]
[null,null,null,null,null,null,null,{"$f":"IF(NOW()>H7,1,\"\")","v":""},"VERVANG DE MODULE"]
[null,null,null,null,null,null,null,{"$f":"IF(NOW()>H8,1,\"\")","v":""},{"$f":"\"DE MODULE IS GELDIG TOT \"& TEXT(H8,\"dd-mm-jj\")","v":"DE MODULE IS GELDIG TOT 01-01-17"}]
[null,null,null,null,null,null,null,{"$f":"IF(C6>250000,1,\"\")","v":""},"DE OVEREENKOMST GELDT TOT € 250.000"]
[]
[]
[]
[null,null,null,null,null,null,null,{"$f":"IF(ISERROR(VLOOKUP(1,H13:I17,2,FALSE))=TRUE,\"\",VLOOKUP(1,H13:I17,2,FALSE))","v":""}]
[]
[null,null,null,null,null,null,null,{"$f":"SUM(H13:H17)","v":0},"Controle aanwezigheid fout voor niet zichtbaar resultaat."]
[]
[]
[]
[]
[null,null,null,null,null,null,null,"Fouten"]
[null,null,null,null,null,null,null,{"$f":"IF(NOW()>H7,1,\"\")","v":""},"DE MODULE IS NIET MEER BRUIKBAAR"]
[null,null,null,null,null,null,null,{"$f":"IF(ISERROR(VALUE(C6))=TRUE,1,\"\")","v":""},"GEEN GETAL INGEVULD"]
[null,null,null,null,null,null,null,{"$f":"IF(C6=\"\",1,\"\")","v":1},"VUL EEN BEDRAG IN"]
[null,null,null,null,null,null,null,{"$f":"IF(C6<=0,1,\"\")","v":1},"VUL EEN POSITIEF BEDRAG IN"]
[null,null,null,null,null,null,null,{"$f":"IF(C6>1000000,1,\"\")","v":""},"DE TABEL GAAT TOT € 1.000.000"]
[]
[]
[]
[]
[null,null,null,null,null,null,null,{"$f":"IF(ISERROR(VLOOKUP(1,H27:I35,2,FALSE))=TRUE,\"\",VLOOKUP(1,H27:I35,2,FALSE))","v":"VUL EEN BEDRAG IN"}]
[]
[null,null,null,null,null,null,null,{"$f":"SUM(H27:H35)","v":2},"Controle aanwezigheid fout voor niet zichtbaar resultaat."]